BEGIN:VCALENDAR
VERSION:2.0
PRODID:-//ABC Virginia - ECPv6.15.20//NONSGML v1.0//EN
CALSCALE:GREGORIAN
METHOD:PUBLISH
X-WR-CALNAME:ABC Virginia
X-ORIGINAL-URL:https://www.abcva.org
X-WR-CALDESC:Events for ABC Virginia
REFRESH-INTERVAL;VALUE=DURATION:PT1H
X-Robots-Tag:noindex
X-PUBLISHED-TTL:PT1H
BEGIN:VTIMEZONE
TZID:UTC
BEGIN:STANDARD
TZOFFSETFROM:+0000
TZOFFSETTO:+0000
TZNAME:UTC
DTSTART:20230101T000000
END:STANDARD
END:VTIMEZONE
BEGIN:VEVENT
DTSTART;TZID=UTC:20240813T170000
DTEND;TZID=UTC:20240813T193000
DTSTAMP:20260423T212812
CREATED:20231222T154211Z
LAST-MODIFIED:20240709T135012Z
UID:10001674-1723568400-1723577400@www.abcva.org
SUMMARY:Young Professionals: Sip & Schmooze Wine Tasting & Etiquette 8/13 HR
DESCRIPTION:YOUNG PROFESSIONALS: SIP & SCHMOOZE WINE TASTING & ETIQUETTE 🍷\nTuesday\, August 13\, 2024  |  5:00PM – 7:30PM\nJoin us for an exclusive evening of refinement and connection at our wine tasting and etiquette evening for young professionals. Discover the art of wine appreciation as you sample a curated selection of fine wines\, guided by a knowledgeable sommelier. Whether you’re a seasoned enthusiast or new to the world of wine\, this event offers a relaxed yet sophisticated atmosphere to expand your palate and network with like-minded peers. Elevate your social and professional skills in an elegant setting perfect for building meaningful connections. Cheers to new beginnings and unforgettable experiences! \nThis event is for Young Professionals (40 & under). \nSPONSORSHIP OPPORTUNITIES\nEvent Sponsor $250 – includes signage at event\, logo/name on marketing materials \nLOCATION\nWater’s Edge Winery & Bistro\n6464 Hampton Boulevard\, Norfolk\, VA 23508 \nCOST (Members Only)\nYoung Professionals – $45 \nCANCELLATIONS/SUBSTITUTIONS POLICY\nPlease note that a reservation constitutes a financial commitment unless cancellations are made 48 hours in advance. Substitutions are welcome at any time if the originally registered individual(s) can no longer attend. \nQuestions?\nContact Rob Camlin
URL:https://www.abcva.org/event/ypwine24/
LOCATION:Water’s Edge Winery & Bistro\, 6464 Hampton Boulevard\, Norfolk\, 23508\, United States
CATEGORIES:Hampton Roads
ATTACH;FMTTYPE=image/jpeg:https://www.abcva.org/wp-content/uploads/2023/12/HR-YP-Wine-Tasting-Aug-13-web.jpg
ORGANIZER;CN="Rachel Fronius":MAILTO:rachel@abcva.org
END:VEVENT
END:VCALENDAR