BEGIN:VCALENDAR
VERSION:2.0
PRODID:-//ABC Virginia - ECPv6.15.20//NONSGML v1.0//EN
CALSCALE:GREGORIAN
METHOD:PUBLISH
X-WR-CALNAME:ABC Virginia
X-ORIGINAL-URL:https://www.abcva.org
X-WR-CALDESC:Events for ABC Virginia
REFRESH-INTERVAL;VALUE=DURATION:PT1H
X-Robots-Tag:noindex
X-PUBLISHED-TTL:PT1H
BEGIN:VTIMEZONE
TZID:America/New_York
BEGIN:DAYLIGHT
TZOFFSETFROM:-0500
TZOFFSETTO:-0400
TZNAME:EDT
DTSTART:20240310T070000
END:DAYLIGHT
BEGIN:STANDARD
TZOFFSETFROM:-0400
TZOFFSETTO:-0500
TZNAME:EST
DTSTART:20241103T060000
END:STANDARD
BEGIN:DAYLIGHT
TZOFFSETFROM:-0500
TZOFFSETTO:-0400
TZNAME:EDT
DTSTART:20250309T070000
END:DAYLIGHT
BEGIN:STANDARD
TZOFFSETFROM:-0400
TZOFFSETTO:-0500
TZNAME:EST
DTSTART:20251102T060000
END:STANDARD
BEGIN:DAYLIGHT
TZOFFSETFROM:-0500
TZOFFSETTO:-0400
TZNAME:EDT
DTSTART:20260308T070000
END:DAYLIGHT
BEGIN:STANDARD
TZOFFSETFROM:-0400
TZOFFSETTO:-0500
TZNAME:EST
DTSTART:20261101T060000
END:STANDARD
END:VTIMEZONE
BEGIN:VEVENT
DTSTART;TZID=America/New_York:20250319T160000
DTEND;TZID=America/New_York:20250319T180000
DTSTAMP:20260419T084533
CREATED:20250218T184929Z
LAST-MODIFIED:20250218T184935Z
UID:10002047-1742400000-1742407200@www.abcva.org
SUMMARY:Young Professionals: Leveling Up: A Panel Discussion 3/19 CV
DESCRIPTION:YOUNG PROFESSIONALS: LEVELING UP: A PANEL DISCUSSION\nWednesday\, March 19\, 2025  |  4:00PM – 6:00PM\nAre you ready to Level Up in your professional career? Join us for an engaging and informative panel discussion with three senior construction industry leaders who will share actionable insights\, inspiring stories\, and practical strategies for professional growth and development. Please note: this event is for Young Professionals (40 & under). \nKey discussion topics\n• Skill development and essential skills needed to Level Up\n• Building relationships and networking\n• Stretch goals and moving outside your comfort zone\n• Navigating setbacks and embracing constructive criticism\n• Visibility and personal branding\n• Common pitfalls to avoid along the journey to Leveling Up \nPANELISTS\nFranklin Bowser\, President\, Mark-Turner Construction\nRyan Byrd\, Chief Operating Officer\, Partner\, Hourigan Group\nTodd Hammond\, Senior Vice President\, Business Development\, Capital Interior Contractors \nNetworking reception to follow panel. \nSPONSORSHIP OPPORTUNITIES Commitments needed by March 14 COB\nRefreshments $250 – includes one (1) registration\, signage at event\, logo/name on marketing materials \nLOCATION\nAtlantic Constructors\, Inc.\, Office\n1501 Battery Brooke Parkway\, Richmond\, VA 23237 \nCOST (Members Only)\nYoung Professionals: $40\nIncludes light appetizers and beverages \nQuestions?\nContact Kristen Altermatt
URL:https://www.abcva.org/event/levelupcv/
LOCATION:Atlantic Constructors\, Inc.\, Office\, 1501 Battery Brooke Parkway\, Richmond\, 23237\, United States
CATEGORIES:Central Virginia
ATTACH;FMTTYPE=image/jpeg:https://www.abcva.org/wp-content/uploads/2025/02/CV-YP-Leveling-Up-Panel-Mar-19-web.jpg
ORGANIZER;CN="Kristen Altermatt":MAILTO:kristen@abcva.org
END:VEVENT
END:VCALENDAR