BEGIN:VCALENDAR
VERSION:2.0
PRODID:-//ABC Virginia - ECPv6.15.20//NONSGML v1.0//EN
CALSCALE:GREGORIAN
METHOD:PUBLISH
X-ORIGINAL-URL:https://www.abcva.org
X-WR-CALDESC:Events for ABC Virginia
REFRESH-INTERVAL;VALUE=DURATION:PT1H
X-Robots-Tag:noindex
X-PUBLISHED-TTL:PT1H
BEGIN:VTIMEZONE
TZID:America/New_York
BEGIN:DAYLIGHT
TZOFFSETFROM:-0500
TZOFFSETTO:-0400
TZNAME:EDT
DTSTART:20240310T070000
END:DAYLIGHT
BEGIN:STANDARD
TZOFFSETFROM:-0400
TZOFFSETTO:-0500
TZNAME:EST
DTSTART:20241103T060000
END:STANDARD
BEGIN:DAYLIGHT
TZOFFSETFROM:-0500
TZOFFSETTO:-0400
TZNAME:EDT
DTSTART:20250309T070000
END:DAYLIGHT
BEGIN:STANDARD
TZOFFSETFROM:-0400
TZOFFSETTO:-0500
TZNAME:EST
DTSTART:20251102T060000
END:STANDARD
BEGIN:DAYLIGHT
TZOFFSETFROM:-0500
TZOFFSETTO:-0400
TZNAME:EDT
DTSTART:20260308T070000
END:DAYLIGHT
BEGIN:STANDARD
TZOFFSETFROM:-0400
TZOFFSETTO:-0500
TZNAME:EST
DTSTART:20261101T060000
END:STANDARD
END:VTIMEZONE
BEGIN:VEVENT
DTSTART;TZID=America/New_York:20250714T150000
DTEND;TZID=America/New_York:20250714T170000
DTSTAMP:20260424T012151
CREATED:20250610T182806Z
LAST-MODIFIED:20250707T145847Z
UID:10002147-1752505200-1752512400@www.abcva.org
SUMMARY:Managing Economic Volatility & Tariffs in Construction Contracts 7/14 NV
DESCRIPTION:MANAGING ECONOMIC VOLATILITY & TARIFFS IN CONSTRUCTION CONTRACTS\nMonday\, July 14\, 2025  |  3:00PM – 5:00PM\nThis presentation will provide practical legal and project management strategies for dealing with economic challenges in construction projects\, such as inflation\, tariffs\, and material cost spikes. Speakers from Offit Kurman\, Attorneys At Law. \nTopics covered:\n— Overview of industry-standard clauses that help manage economic risk and evaluation of how well these clauses address volatility.\n— Legal doctrines that may provide relief even without express contract terms and limitations and requirements for invoking them.\n— Tailoring contracts to anticipate economic fluctuations\, including escalation clauses\, force majeure\, and material price adjustment provisions.\n— What to do when facing or filing a claim for cost overages\, and legal and procedural steps to protect your position. \nQ&A and Informal Happy Hour/Networking to follow \nVIRTUAL OPTION AVAILABLE! Please select Virtual Participant during registration. You will receive the virtual link within 24 hours before the workshop begins.\nLOCATION\nABC-VA Northern Virginia Training Facility\n42680 Trade West Drive\, Dulles\, VA 20166 \nCOST\nMembers – $40\nNon-Members – $60 \nSUBSTITUTION/CANCELLATION POLICY\nSubstitutions are welcome at any time if the originally registered individual(s) can no longer attend. Written notice to cancel must be received within 48 hours of training for a refund. \nQuestions?\nContact Jenny Tashjian
URL:https://www.abcva.org/event/tariffs-in-construction-contracts-july14/
LOCATION:ABC-VA Northern Virginia Training Facility\, ABC-VA Northern Virginia Training Facility\, 42680 Trade West Drive\, Dulles\,\, VA\, 20166\, United States
CATEGORIES:Northern Virginia
ATTACH;FMTTYPE=image/jpeg:https://www.abcva.org/wp-content/uploads/2025/06/NV-Tariffs-in-Construction-July-14-web2.jpg
ORGANIZER;CN="Shaye Currie":MAILTO:shaye@abcva.org
END:VEVENT
BEGIN:VEVENT
DTSTART;TZID=America/New_York:20250716T140000
DTEND;TZID=America/New_York:20250716T150000
DTSTAMP:20260424T012151
CREATED:20241119T151203Z
LAST-MODIFIED:20241212T152832Z
UID:10001894-1752674400-1752678000@www.abcva.org
SUMMARY:Bluebeam Intro from the Experts 7/16
DESCRIPTION:Bluebeam Intro from the Experts (Virtual)\nWednesday\, July 16\, 2025  |  2:00PM-3:00PM \nWhen it comes to AEC industry software\, Bluebeam Revu is one of the most popular\, quickly growing to over 2 million users worldwide. With functionality for Design Review\, Estimating\, Collecting Field Data\, and others\, Bluebeam is not your average PDF software. \nABC-VA has partnered with Troy DeGroot with UChapter2.com to provide the best quality Bluebeam training in the industry. Don’t miss this opportunity to see an introduction to each upcoming course and learning objectives. Get your questions answered to assure you’re in the appropriate courses for your skillset and workflows. \nBe sure to register right away as seats are limited\, and share with your industry peers! \nRegistration:\nREGISTRATION LINK. This intro course hosted by UChapter2. \nVisit our Bluebeam page for more information on the entire program. \nContact us if you have any questions.
URL:https://www.abcva.org/event/bluebeam-intro-from-the-experts-7-16/
LOCATION:Virtual
CATEGORIES:Central Virginia,Hampton Roads,Northern Virginia,Statewide
ATTACH;FMTTYPE=image/jpeg:https://www.abcva.org/wp-content/uploads/2022/12/Bluebeam-Launch-Webinar-22DEC22.jpg
ORGANIZER;CN="Jamie Carrow":MAILTO:jamie@abcva.org
END:VEVENT
END:VCALENDAR