BEGIN:VCALENDAR
VERSION:2.0
PRODID:-//ABC Virginia - ECPv6.15.20//NONSGML v1.0//EN
CALSCALE:GREGORIAN
METHOD:PUBLISH
X-WR-CALNAME:ABC Virginia
X-ORIGINAL-URL:https://www.abcva.org
X-WR-CALDESC:Events for ABC Virginia
REFRESH-INTERVAL;VALUE=DURATION:PT1H
X-Robots-Tag:noindex
X-PUBLISHED-TTL:PT1H
BEGIN:VTIMEZONE
TZID:America/New_York
BEGIN:DAYLIGHT
TZOFFSETFROM:-0500
TZOFFSETTO:-0400
TZNAME:EDT
DTSTART:20250309T070000
END:DAYLIGHT
BEGIN:STANDARD
TZOFFSETFROM:-0400
TZOFFSETTO:-0500
TZNAME:EST
DTSTART:20251102T060000
END:STANDARD
BEGIN:DAYLIGHT
TZOFFSETFROM:-0500
TZOFFSETTO:-0400
TZNAME:EDT
DTSTART:20260308T070000
END:DAYLIGHT
BEGIN:STANDARD
TZOFFSETFROM:-0400
TZOFFSETTO:-0500
TZNAME:EST
DTSTART:20261101T060000
END:STANDARD
BEGIN:DAYLIGHT
TZOFFSETFROM:-0500
TZOFFSETTO:-0400
TZNAME:EDT
DTSTART:20270314T070000
END:DAYLIGHT
BEGIN:STANDARD
TZOFFSETFROM:-0400
TZOFFSETTO:-0500
TZNAME:EST
DTSTART:20271107T060000
END:STANDARD
END:VTIMEZONE
BEGIN:VEVENT
DTSTART;TZID=America/New_York:20260430T113000
DTEND;TZID=America/New_York:20260430T133000
DTSTAMP:20260423T114939
CREATED:20260318T140912Z
LAST-MODIFIED:20260323T142550Z
UID:10002411-1777548600-1777555800@www.abcva.org
SUMMARY:Beyond the Hype 2.0: A.I. Use Cases Across the Project Lifecycle • Roundtable 4/30 CV
DESCRIPTION:BEYOND THE HYPE 2.0: A.I. USE CASES ACROSS THE PROJECT LIFECYCLE • ROUNDTABLE\nThursday\, April 30\, 2026  |  11:30AM – 1:30PM\nIn our last session\, we held an open discussion focused on A.I. making real-world impact in our industry and implementation strategies. We’re back with round two\, this time focusing on real A.I. use cases across the project lifecycle. Participants are encouraged to bring real examples of how they are using (or have tried to use) A.I. on active or recent projects\, including what worked\, what didn’t\, and lessons learned. \nEvent Agenda:\n1. AI Use Cases Across the Project Lifecycle – Preconstruction & Estimating\, Project Management\n2. AI Tools and how to use them effectively (Copilot\, ChatGPT\, Claude)\n3. Risk Management & Escalation – What AI handles & what requires review\n4. Open Discussion – What’s working\, what’s not\, priority pilot workflows\, and ownership/follow-up actions \nDidn’t make it to the first session? No problem! Anyone interested in real-use cases of A.I. in construction are encouraged to join us. Seats are limited to provide for open and honest discussion. \nWho should attend: Construction Executives & Project Managers\, Preconstruction and Estimators\, and anyone exploring AI’s role in operations\, safety\, or design \nLunch provided\nSPEAKERS\nMonty Lay\, Director of Preconstruction\, ColonialWebb Contractors\nShane Oberholtzer\, President\, eTEC Mechanical Corporation \nLOCATION\nABC-VA Central Virginia Training Facility\n1600 E Parham Road\, Richmond\, VA 23228 \nCOST \nMembers – $67\nNon-Members – $97 \nSUBSTITUTION/CANCELLATION POLICY\nSubstitutions are always welcome if the originally registered individual(s) can no longer attend. Written notice to cancel and receive a refund must be received by 5PM on April 27\, 2026. \nQuestions?\nContact Kristen Altermatt
URL:https://www.abcva.org/event/beyondthehype-2-0/
LOCATION:ABC-VA Central Virginia Training Facility\, ABC-VA Central Virginia Training Facility\, 1600 E Parham Road\, Richmond\, VA\, 23228\, United States
CATEGORIES:Central Virginia
ATTACH;FMTTYPE=image/jpeg:https://www.abcva.org/wp-content/uploads/2026/03/CV-AI-Roundtable-APR30-scaled.jpg
ORGANIZER;CN="Rebeca Reyes":MAILTO:rebeca@abcva.org
END:VEVENT
END:VCALENDAR