BEGIN:VCALENDAR
VERSION:2.0
PRODID:-//ABC Virginia - ECPv6.15.20//NONSGML v1.0//EN
CALSCALE:GREGORIAN
METHOD:PUBLISH
X-WR-CALNAME:ABC Virginia
X-ORIGINAL-URL:https://www.abcva.org
X-WR-CALDESC:Events for ABC Virginia
REFRESH-INTERVAL;VALUE=DURATION:PT1H
X-Robots-Tag:noindex
X-PUBLISHED-TTL:PT1H
BEGIN:VTIMEZONE
TZID:America/New_York
BEGIN:DAYLIGHT
TZOFFSETFROM:-0500
TZOFFSETTO:-0400
TZNAME:EDT
DTSTART:20250309T070000
END:DAYLIGHT
BEGIN:STANDARD
TZOFFSETFROM:-0400
TZOFFSETTO:-0500
TZNAME:EST
DTSTART:20251102T060000
END:STANDARD
BEGIN:DAYLIGHT
TZOFFSETFROM:-0500
TZOFFSETTO:-0400
TZNAME:EDT
DTSTART:20260308T070000
END:DAYLIGHT
BEGIN:STANDARD
TZOFFSETFROM:-0400
TZOFFSETTO:-0500
TZNAME:EST
DTSTART:20261101T060000
END:STANDARD
BEGIN:DAYLIGHT
TZOFFSETFROM:-0500
TZOFFSETTO:-0400
TZNAME:EDT
DTSTART:20270314T070000
END:DAYLIGHT
BEGIN:STANDARD
TZOFFSETFROM:-0400
TZOFFSETTO:-0500
TZNAME:EST
DTSTART:20271107T060000
END:STANDARD
END:VTIMEZONE
BEGIN:VEVENT
DTSTART;TZID=America/New_York:20260513T120000
DTEND;TZID=America/New_York:20260513T133000
DTSTAMP:20260423T133154
CREATED:20250902T202629Z
LAST-MODIFIED:20260422T133930Z
UID:10002198-1778673600-1778679000@www.abcva.org
SUMMARY:Empowering & Optimizing Al-Driven Construction Tech Solutions 5/13 VIRTUAL
DESCRIPTION:EMPOWERING & OPTIMIZING AI-DRIVEN CONSTRUCTION TECH SOLUTIONS\nWednesday\, May 13\, 2026  |  12:00PM – 1:30PM\nHensel Phelps\, Diverge & Track3D – Empowering & Optimizing AI-Driven Construction Tech Solutions \nJoin Hensel Phelps\, Diverge and Track3D on May 13th to learn about innovation at Hensel Phelps\, Diverge’s role in discovering\, empowering\, and optimizing construction technology solutions and gain insights on Track3D\, a trusted partner and AI-driven real-time\, automated construction monitoring solution + Q&A where you can ask whatever you want to know! \nPRESENTERS\n– Khyati Patel\, Preconstruction Manager\, Hensel Phelps\n– Tim Roberts\, Customer Success Manager\, Track3D \nLOCATION\nVirtual \nCOST\nMembers – $25\nNon-Members – $35 \nSUBSTITUTION/CANCELLATION POLICY\nSubstitutions are welcome at any time if the originally registered individual(s) can no longer attend. Written notice to cancel must be received within 48 hours of training for a refund. \nQuestions?\nContact Jenny Tashjian
URL:https://www.abcva.org/event/ai-driven-contech-may13/
LOCATION:Virtual
CATEGORIES:Central Virginia,Hampton Roads,Northern Virginia,Statewide
ATTACH;FMTTYPE=image/jpeg:https://www.abcva.org/wp-content/uploads/2025/09/NV-AI-Driven-Contech-May13use-scaled.jpg
ORGANIZER;CN="Shaye Currie":MAILTO:shaye@abcva.org
END:VEVENT
END:VCALENDAR