BEGIN:VCALENDAR
VERSION:2.0
PRODID:-//ABC Virginia - ECPv6.15.20//NONSGML v1.0//EN
CALSCALE:GREGORIAN
METHOD:PUBLISH
X-WR-CALNAME:ABC Virginia
X-ORIGINAL-URL:https://www.abcva.org
X-WR-CALDESC:Events for ABC Virginia
REFRESH-INTERVAL;VALUE=DURATION:PT1H
X-Robots-Tag:noindex
X-PUBLISHED-TTL:PT1H
BEGIN:VTIMEZONE
TZID:America/New_York
BEGIN:DAYLIGHT
TZOFFSETFROM:-0500
TZOFFSETTO:-0400
TZNAME:EDT
DTSTART:20250309T070000
END:DAYLIGHT
BEGIN:STANDARD
TZOFFSETFROM:-0400
TZOFFSETTO:-0500
TZNAME:EST
DTSTART:20251102T060000
END:STANDARD
BEGIN:DAYLIGHT
TZOFFSETFROM:-0500
TZOFFSETTO:-0400
TZNAME:EDT
DTSTART:20260308T070000
END:DAYLIGHT
BEGIN:STANDARD
TZOFFSETFROM:-0400
TZOFFSETTO:-0500
TZNAME:EST
DTSTART:20261101T060000
END:STANDARD
BEGIN:DAYLIGHT
TZOFFSETFROM:-0500
TZOFFSETTO:-0400
TZNAME:EDT
DTSTART:20270314T070000
END:DAYLIGHT
BEGIN:STANDARD
TZOFFSETFROM:-0400
TZOFFSETTO:-0500
TZNAME:EST
DTSTART:20271107T060000
END:STANDARD
END:VTIMEZONE
BEGIN:VEVENT
DTSTART;TZID=America/New_York:20260128T110000
DTEND;TZID=America/New_York:20260128T120000
DTSTAMP:20260423T170405
CREATED:20260107T155202Z
LAST-MODIFIED:20260107T155202Z
UID:10002313-1769598000-1769601600@www.abcva.org
SUMMARY:Construction Technology Trends Reshaping Today's Contractors • VIRTUAL 1/28
DESCRIPTION:Construction Technology Trends Reshaping Today’s Contractors • VIRTUAL\nWednesday\, January 28\, 2026  |  11:00AM – 12:00PM\nJoin us for a timely virtual webinar exploring the technology trends transforming how contractors operate\, collaborate\, and compete. \nKEY TAKEAWAYS\nBridging the Gap Between Office & Field\n• How digital tools are improving communication\, coordination\, and real-time visibility across projects\nDriving Productivity & Labor Efficiency\n• Ways construction technology is helping contractors do more with limited labor while improving accuracy and jobsite performance\nPreparing Your Workforce for Technology Adoption\n• Practical strategies to train\, engage\, and empower teams to successfully adopt new tools and workflows \nSPEAKERS\nPatrick Scarpati\, Director of Construction Technology & Innovation\, ABC National\nNino Efendic\, Founder\, Aerial Prospex \nLOCATION\nVirtual\nA meeting link will be sent to registered attendees within 24 hours of webinar. \nCOST\nABC-VA Members — $25\nNon-members — $50 \nQuestions?\nContact Kristen Altermatt
URL:https://www.abcva.org/event/trends26/
LOCATION:Virtual
CATEGORIES:Central Virginia,Hampton Roads,Northern Virginia,Statewide
ATTACH;FMTTYPE=image/jpeg:https://www.abcva.org/wp-content/uploads/2026/01/CV-ConTech-Trends-Jan28.jpg
ORGANIZER;CN="Kristen Altermatt":MAILTO:kristen@abcva.org
END:VEVENT
END:VCALENDAR