BEGIN:VCALENDAR
VERSION:2.0
PRODID:-//ABC Virginia - ECPv6.15.20//NONSGML v1.0//EN
CALSCALE:GREGORIAN
METHOD:PUBLISH
X-WR-CALNAME:ABC Virginia
X-ORIGINAL-URL:https://www.abcva.org
X-WR-CALDESC:Events for ABC Virginia
REFRESH-INTERVAL;VALUE=DURATION:PT1H
X-Robots-Tag:noindex
X-PUBLISHED-TTL:PT1H
BEGIN:VTIMEZONE
TZID:America/New_York
BEGIN:DAYLIGHT
TZOFFSETFROM:-0500
TZOFFSETTO:-0400
TZNAME:EDT
DTSTART:20240310T070000
END:DAYLIGHT
BEGIN:STANDARD
TZOFFSETFROM:-0400
TZOFFSETTO:-0500
TZNAME:EST
DTSTART:20241103T060000
END:STANDARD
BEGIN:DAYLIGHT
TZOFFSETFROM:-0500
TZOFFSETTO:-0400
TZNAME:EDT
DTSTART:20250309T070000
END:DAYLIGHT
BEGIN:STANDARD
TZOFFSETFROM:-0400
TZOFFSETTO:-0500
TZNAME:EST
DTSTART:20251102T060000
END:STANDARD
BEGIN:DAYLIGHT
TZOFFSETFROM:-0500
TZOFFSETTO:-0400
TZNAME:EDT
DTSTART:20260308T070000
END:DAYLIGHT
BEGIN:STANDARD
TZOFFSETFROM:-0400
TZOFFSETTO:-0500
TZNAME:EST
DTSTART:20261101T060000
END:STANDARD
END:VTIMEZONE
BEGIN:VEVENT
DTSTART;TZID=America/New_York:20251204T113000
DTEND;TZID=America/New_York:20251204T130000
DTSTAMP:20260423T184057
CREATED:20251030T173145Z
LAST-MODIFIED:20251030T173145Z
UID:10002227-1764847800-1764853200@www.abcva.org
SUMMARY:Beyond the Hype: Real Talk about A.I. in Construction Roundtable 12/4 CV
DESCRIPTION:BEYOND THE HYPE: REAL TALK ABOUT A.I. IN CONSTRUCTION ROUNDTABLE\nThursday\, December 4\, 2025  |  11:30AM – 1:00PM\nA.I. is already reshaping the construction industry – what’s next? Join us for an open discussion focused on A.I. making real-world impact in our industry and implementation strategies. \nMonty Lay\, Director of Preconstruction at ColonialWebb Contractors\, and Shane Oberholtzer\, President of eTEC Mechanical Corporation\, will open the program with an overview of AI’s influence on the construction industry from capital investment to construction demand\, and what it means for your business – even if you are not using AI yet. We’ll cut through the hype to explain what AI really is: how it’s evolved and where it stands today\, including tools like ChatGPT and other Large Language Models (LLMs). Monty and Shane will wrap up with real-world examples of using AI-powered Excel for project management and applying AI to improve sales and training. \nThen it’s time for some real talk! Attendees will dive into an interactive discussion on how firms are adopting and implementing AI\, the challenges they face\, and what the future of AI looks like in construction. \nWho should attend: Construction Executives & Project Managers\, anyone exploring AI’s role in operations\, safety\, or design \nLunch provided\nSPEAKERS\nMonty Lay\, Director of Preconstruction\, ColonialWebb Contractors\nShane Oberholtzer\, President\, eTEC Mechanical Corporation \nLOCATION\nABC-VA Central Virginia Training Facility\n1600 E Parham Road\, Richmond\, VA 23228 \nCOST \nMembers – $67\nNon-Members – $97 \nSUBSTITUTION/CANCELLATION POLICY\nSubstitutions are always welcome if the originally registered individual(s) can no longer attend. Written notice to cancel and receive a refund must be received by 5PM on December 2\, 2025. \nQuestions?\nContact Kristen Altermatt
URL:https://www.abcva.org/event/beyondthehype/
LOCATION:ABC-VA Central Virginia Training Facility\, ABC-VA Central Virginia Training Facility\, 1600 E Parham Road\, Richmond\, VA\, 23228\, United States
CATEGORIES:Central Virginia
ORGANIZER;CN="Kristen Altermatt":MAILTO:kristen@abcva.org
END:VEVENT
END:VCALENDAR