BEGIN:VCALENDAR
VERSION:2.0
PRODID:-//ABC Virginia - ECPv6.15.20//NONSGML v1.0//EN
CALSCALE:GREGORIAN
METHOD:PUBLISH
X-WR-CALNAME:ABC Virginia
X-ORIGINAL-URL:https://www.abcva.org
X-WR-CALDESC:Events for ABC Virginia
REFRESH-INTERVAL;VALUE=DURATION:PT1H
X-Robots-Tag:noindex
X-PUBLISHED-TTL:PT1H
BEGIN:VTIMEZONE
TZID:America/New_York
BEGIN:DAYLIGHT
TZOFFSETFROM:-0500
TZOFFSETTO:-0400
TZNAME:EDT
DTSTART:20240310T070000
END:DAYLIGHT
BEGIN:STANDARD
TZOFFSETFROM:-0400
TZOFFSETTO:-0500
TZNAME:EST
DTSTART:20241103T060000
END:STANDARD
BEGIN:DAYLIGHT
TZOFFSETFROM:-0500
TZOFFSETTO:-0400
TZNAME:EDT
DTSTART:20250309T070000
END:DAYLIGHT
BEGIN:STANDARD
TZOFFSETFROM:-0400
TZOFFSETTO:-0500
TZNAME:EST
DTSTART:20251102T060000
END:STANDARD
BEGIN:DAYLIGHT
TZOFFSETFROM:-0500
TZOFFSETTO:-0400
TZNAME:EDT
DTSTART:20260308T070000
END:DAYLIGHT
BEGIN:STANDARD
TZOFFSETFROM:-0400
TZOFFSETTO:-0500
TZNAME:EST
DTSTART:20261101T060000
END:STANDARD
END:VTIMEZONE
BEGIN:VEVENT
DTSTART;TZID=America/New_York:20250724T163000
DTEND;TZID=America/New_York:20250724T190000
DTSTAMP:20260424T033424
CREATED:20250618T174358Z
LAST-MODIFIED:20250618T174400Z
UID:10002154-1753374600-1753383600@www.abcva.org
SUMMARY:Young Professionals: Future-Proofing with AI for Construction 7/24 NV
DESCRIPTION:YOUNG PROFESSIONALS: FUTURE-PROOFING WITH AI FOR CONSTRUCTION [PANEL]\nThursday\, July 24\, 2025  |  4:30PM – 7:00PM\nBACK BY POPULAR DEMAND! Our Young Professionals Panel & Social Hour returns on July 24 to explore how to future-proof our construction projects using AI. This interactive panel will highlight how to set up custom AI agents\, using ChatGPT effectively\, Digital Twin\, Microsoft Co-Pilot\, AI governance and policies + Q&A where you can ask whatever you want to know! \nKey Takeaways\n• Explore How AI Is Transforming Construction: Discover real-world applications of artificial intelligence across planning\, design\, safety\, and operations.\n• Hear from Industry Leaders and Innovators: Gain insights from experts at the forefront of AI implementation in construction projects of all sizes.\n• Boost Productivity & Reduce Risk: Learn how AI is helping companies optimize schedules\, prevent cost overruns\, and improve site safety.\n• Case Studies from the Field: Get inspired by live examples of how AI is being used today in areas like drone mapping\, predictive maintenance\, and robotics.\n• Future-Proof Your Business: Understand emerging trends and how your organization can stay competitive in a rapidly evolving tech landscape.\n• Interactive Q&A with Experts: Ask the questions that matter most to your business and get practical\, actionable answers.\n• Network with Forward-Thinking Peers: Connect with professionals who are leading the charge in digital transformation within construction. \nAfter the panel\, head over to Honor Brewing next door for fun networking over drinks and appetizers! \nPANELISTS\nAkshay Reddy\, Assistant Project Manager | E.E. Reed East Coast | Moderator\nRohit Setty\, Principal | Setty | Panelist\nBenny Sayasithsena\, VP of Sales | M3 Technology Consultants | Panelist\nAndrew Gregg\, Land Use and Real Estate Attorney | Bean\, Kinney & Korman\, P.C. | Panelist\nChris Guerra\, North Regional Business Development Manager\, Ruppert Landscape | Panelist \nSPONSORSHIP OPPORTUNITIES Commitments needed by July 21 COB\nEvent $200 – includes one (1) comped registration\, signage at event\, logo/name on marketing materials \nLOCATION\nPanel Event: ABC-VA Northern Virginia Training Facility\, 42680 Trade West Drive\, Dulles\, VA 20166\nPost-Event Networking: Honor Brewing\, 42604 Trade West Drive\, Dulles\, VA 20166 \nCOST\nMembers – $45\nNon-Members – $55\nIncludes panel discussion\, light apps and two (2) drink tickets \nSUBSTITUTION/CANCELLATION POLICY\nSubstitutions are welcome at any time if the originally registered individual can no longer attend. Please note that a reservation constitutes a financial commitment unless cancellations are made 48 hours in advance. \nQuestions?\nContact Katie Gregg
URL:https://www.abcva.org/event/ypfutureai/
LOCATION:ABC-VA Northern Virginia Training Facility\, ABC-VA Northern Virginia Training Facility\, 42680 Trade West Drive\, Dulles\,\, VA\, 20166\, United States
CATEGORIES:Northern Virginia
ATTACH;FMTTYPE=image/jpeg:https://www.abcva.org/wp-content/uploads/2025/06/NV-YP-AI-Panel-July-24-web.jpg
ORGANIZER;CN="Katie Gregg":MAILTO:katieg@abcva.org
END:VEVENT
END:VCALENDAR