BEGIN:VCALENDAR
VERSION:2.0
PRODID:-//ABC Virginia - ECPv6.15.20//NONSGML v1.0//EN
CALSCALE:GREGORIAN
METHOD:PUBLISH
X-ORIGINAL-URL:https://www.abcva.org
X-WR-CALDESC:Events for ABC Virginia
REFRESH-INTERVAL;VALUE=DURATION:PT1H
X-Robots-Tag:noindex
X-PUBLISHED-TTL:PT1H
BEGIN:VTIMEZONE
TZID:America/New_York
BEGIN:DAYLIGHT
TZOFFSETFROM:-0500
TZOFFSETTO:-0400
TZNAME:EDT
DTSTART:20230312T070000
END:DAYLIGHT
BEGIN:STANDARD
TZOFFSETFROM:-0400
TZOFFSETTO:-0500
TZNAME:EST
DTSTART:20231105T060000
END:STANDARD
BEGIN:DAYLIGHT
TZOFFSETFROM:-0500
TZOFFSETTO:-0400
TZNAME:EDT
DTSTART:20240310T070000
END:DAYLIGHT
BEGIN:STANDARD
TZOFFSETFROM:-0400
TZOFFSETTO:-0500
TZNAME:EST
DTSTART:20241103T060000
END:STANDARD
BEGIN:DAYLIGHT
TZOFFSETFROM:-0500
TZOFFSETTO:-0400
TZNAME:EDT
DTSTART:20250309T070000
END:DAYLIGHT
BEGIN:STANDARD
TZOFFSETFROM:-0400
TZOFFSETTO:-0500
TZNAME:EST
DTSTART:20251102T060000
END:STANDARD
END:VTIMEZONE
BEGIN:VTIMEZONE
TZID:UTC
BEGIN:STANDARD
TZOFFSETFROM:+0000
TZOFFSETTO:+0000
TZNAME:UTC
DTSTART:20230101T000000
END:STANDARD
END:VTIMEZONE
BEGIN:VEVENT
DTSTART;TZID=America/New_York:20241202T080000
DTEND;TZID=America/New_York:20241202T160000
DTSTAMP:20260419T084112
CREATED:20241017T153719Z
LAST-MODIFIED:20241206T141119Z
UID:10001860-1733126400-1733155200@www.abcva.org
SUMMARY:OSHA 500 Trainer Course in OSHA Standards for the Construction Industry 12/2 CV
DESCRIPTION:OSHA 500 TRAINER COURSE IN OCCUPATIONAL SAFETY AND HEALTH STANDARDS FOR THE CONSTRUCTION INDUSTRY\nREGISTER HERE\nOffered by Mid Atlantic OTI Education Center\, this course will be held at ABC-VA Central Virginia Training Facility\, Host Training Organization\nMonday\, December 2 – 5\, 2024 | 8:00AM – 4:00PM\nThis course is designed for individuals interested in teaching the 10- and 30-hour construction safety and health Outreach Training Program to their employees and other interested groups. Using OSHA Construction Standards as a guide\, special emphasis is placed on those topics required in the 10- and 30-hour programs as well as those which are most hazardous. Students are briefed on effective instructional approaches and use of visual aids and handouts. This course allows the student to become a trainer in the OSHA Outreach Training Program\, to conduct both 10- and 30-hour Construction Outreach classes\, and to issue cards to participants after verifying course completion. Students who wish to participate as authorized Outreach trainers in the OSHA Outreach Training Program must prepare a presentation on an assigned OSHA Construction Outreach Training Program topic individually or as part of a group and successfully pass a written exam at the end of the course. \n\nTopics include: \n\nSafety and Health Programs\nFall Protection\nStairways/Ladders\nScaffolds\nFire Protection\nMotor Vehicles\nWelding & Cutting\nHealth Hazards\nPPE\nElectrical Standards\nHand and Power Tools\nConcrete and Masonry\nCranes\, Derricks\, Hoists\nMaterial Handling\nExcavation\nConfined Spaces\nGeneral Safety and Health Provisions\nDemolition\nSteel Erection\nOutreach Training Program Requirements\nTraining Techniques\n\nStudent Contact Hours: 26 \nPrerequisites: Students must successfully complete the OSHA #510 Occupational Safety and Health Standards for Construction and have five (5) years of safety and health work experience in the construction industry. A degree in occupational safety and health\, a Certified Safety Professional (CSP) or a Certified Industrial Hygienist (CIH) designation may be substituted for two (2) years of work related experience. Students should obtain guidance on whether they meet this requirement from the OSHA Training Institute Education Center where they intend to receive the training. Authorized OSHA Outreach Training Program trainers are required to attend OSHA #502 Update for Construction Industry Outreach Trainers at least once every four (4) years to maintain their trainer status. \nIndustry OSHA Standards courses (#510\, #511\, and #5410) must be completed not later than seven (7) years prior to completing the relevant Industry Trainer course (#500\, #501\, and #5400). \nThe Prerequisite Verification Form is required to complete the registration process. Click this link Prerequisite Verification Form print and send the documentation to our office via email to info@oshamidatlantic.org or fax 410-281-1350. \nCourse Includes: Student binder\, OSHA CFR 1926\, USB which includes: \n\nPowerPoint Presentation\nVideo clips\nTest Questions\nAdditional resource information\n\n\nLOCATION \nABC-VA Central Virginia Training Facility\n1600 E Parham Road\, Richmond\, VA 23228 \nCOST\n$845 \nSCHEDULE\nPlease visit CRSC registration link above
URL:https://www.abcva.org/event/osha-500-trainer-course-in-osha-standards-for-the-construction-industry-12-2-cv/
LOCATION:ABC-VA Central Virginia Training Facility\, ABC-VA Central Virginia Training Facility\, 1600 E Parham Road\, Richmond\, VA\, 23228\, United States
CATEGORIES:Central Virginia
ORGANIZER;CN="Sherrie Dickerson":MAILTO:sherrie@abcva.org
END:VEVENT
BEGIN:VEVENT
DTSTART;TZID=America/New_York:20241205T083000
DTEND;TZID=America/New_York:20241205T123000
DTSTAMP:20260419T084112
CREATED:20240307T160201Z
LAST-MODIFIED:20241030T181137Z
UID:10001759-1733387400-1733401800@www.abcva.org
SUMMARY:CPR\, AED & First Aid Certification 12/5 HR **FULL**
DESCRIPTION:CPR\, AED & FIRST AID CERTIFICATION\n**FULL. Please email Rachel Fronius for waitlist.**\nThursday\, December 5\, 2024  |  8:30AM-12:30PM\nABC Virginia certifies hundreds of individuals each year in First-Aid and CPR/AED using the Health Safety Institute’s (HSI) training content.  ABC-VA’s primary goal is to create confidence in its students’ abilities to handle emergency situations. Our instructors provide clear explanations of the subject matter in a relaxed environment. Instructors focus on the importance of controlling\, with confidence\, medical emergencies and providing life support for victims of sudden illness or injury.  The certification issued to each participant is valid for two years. \nINSTRUCTOR\nJamie Carrow\, ABC-VA \nLOCATION **PLEASE NOTE OUR NEW ADDRESS**\nABC-VA Hampton Roads Training Facility\n530 Independence Parkway\, Suite 500\, Chesapeake\, VA 23320 (behind the Home Depot and Lowes on Battlefield Boulevard)\n*Student parking and entrance is in the back of the building.* \nCOST\nMember: $87\nNon-Member: $100 \nSUBSTITUTIONS/CANCELLATION POLICY\nSubstitutions are welcome at any time if the originally registered individual can no longer attend. Cancellations must be made with 48 hours. \nCLASS CONTACT\nRachel Fronius
URL:https://www.abcva.org/event/cpr-aed-first-aid-certification-12-5-hr-2/
LOCATION:ABC-VA Hampton Roads Training Facility\, Chesapeake\, 530 Independence Parkway\, Suite 500\, Chesapeake\, 23320\, United States
CATEGORIES:Hampton Roads
ATTACH;FMTTYPE=image/jpeg:https://www.abcva.org/wp-content/uploads/2022/12/CPR-AED-First-Aid-Certification-ABC-Virginia.jpg
ORGANIZER;CN="Rachel Fronius":MAILTO:rachel@abcva.org
END:VEVENT
BEGIN:VEVENT
DTSTART;TZID=UTC:20241207T080000
DTEND;TZID=UTC:20241207T120000
DTSTAMP:20260419T084112
CREATED:20231127T170023Z
LAST-MODIFIED:20241119T195812Z
UID:10001577-1733558400-1733572800@www.abcva.org
SUMMARY:CPR\, AED & First Aid Certification 12/7 NV **FULL**
DESCRIPTION:CPR\, AED & FIRST AID CERTIFICATION\n**FULL. Please email Shaye Currie for waitlist and/or register for our next training on December 11.**\nSaturday\, December 7\, 2024  |  8:00AM – 12:00PM \nABC Virginia certifies hundreds of individuals each year in First-Aid and CPR/AED using the American Safety and Health Institute’s training content. ABC-VA’s primary goal is to create confidence in its students’ abilities to handle emergency situations. Our instructors provide clear explanations of the subject matter in a relaxed environment. Instructors focus on the importance of controlling\, with confidence\, medical emergencies and providing life support for victims of sudden illness or injury. The certification issued to each participant is valid for two years. \nLOCATION\nABC-VA Northern Virginia Training Facility\n42680 Trade West Drive\, Dulles\, VA 20166 \nCOST\nMember: $87\nNon-Member: $100 \nSUBSTITUTIONS/CANCELLATION POLICY\nSubstitutions are welcome at any time if the originally registered individual can no longer attend. Cancellations must be made with 48 hours. \nCLASS CONTACT\nShaye Currie
URL:https://www.abcva.org/event/cpr-aed-first-aid-certification-dec7-nv/
LOCATION:ABC-VA Northern Virginia Training Facility\, ABC-VA Northern Virginia Training Facility\, 42680 Trade West Drive\, Dulles\,\, VA\, 20166\, United States
CATEGORIES:Northern Virginia
ATTACH;FMTTYPE=image/jpeg:https://www.abcva.org/wp-content/uploads/2022/12/CPR-AED-First-Aid-Certification-ABC-Virginia.jpg
ORGANIZER;CN="Shaye Currie":MAILTO:shaye@abcva.org
END:VEVENT
BEGIN:VEVENT
DTSTART;TZID=America/New_York:20241219T163000
DTEND;TZID=America/New_York:20241219T203000
DTSTAMP:20260419T084112
CREATED:20240119T091438Z
LAST-MODIFIED:20240807T022825Z
UID:10001703-1734625800-1734640200@www.abcva.org
SUMMARY:CPR\, AED & First Aid Certification 12/19 CV
DESCRIPTION:CPR\, AED & FIRST AID CERTIFICATION\nThursday\, December 19\, 2024  |  4:30PM – 8:30PM \nABC Virginia certifies hundreds of individuals each year in First-Aid and CPR/AED using the Health Safety Institute’s (HSI) training content. ABC-VA’s primary goal is to create confidence in its students’ abilities to handle emergency situations. Our instructors provide clear explanations of the subject matter in a relaxed environment. Instructors focus on the importance of controlling\, with confidence\, medical emergencies and providing life support for victims of sudden illness or injury. The certification issued to each participant is valid for two years. \nLOCATION\nABC-VA Central VA Training Facility\n1600 E Parham Road\, Richmond\, VA 23228 \nCOST\nMember: $87\nNon-Member: $100 \nSUBSTITUTIONS/CANCELLATION POLICY\nSubstitutions are welcome at any time if the originally registered individual(s) can no longer attend. Cancellations must be made within 48 hours. \nCLASS CONTACT\nSherrie Dickerson
URL:https://www.abcva.org/event/cpr-aed-first-aid-certification-12-19-cv/
LOCATION:ABC-VA Central Virginia Training Facility\, ABC-VA Central Virginia Training Facility\, 1600 E Parham Road\, Richmond\, VA\, 23228\, United States
CATEGORIES:Central Virginia
ATTACH;FMTTYPE=image/jpeg:https://www.abcva.org/wp-content/uploads/2022/12/CPR-AED-First-Aid-Certification-ABC-Virginia.jpg
ORGANIZER;CN="Sherrie Dickerson":MAILTO:sherrie@abcva.org
END:VEVENT
END:VCALENDAR