BEGIN:VCALENDAR
VERSION:2.0
PRODID:-//ABC Virginia - ECPv6.15.20//NONSGML v1.0//EN
CALSCALE:GREGORIAN
METHOD:PUBLISH
X-ORIGINAL-URL:https://www.abcva.org
X-WR-CALDESC:Events for ABC Virginia
REFRESH-INTERVAL;VALUE=DURATION:PT1H
X-Robots-Tag:noindex
X-PUBLISHED-TTL:PT1H
BEGIN:VTIMEZONE
TZID:America/New_York
BEGIN:DAYLIGHT
TZOFFSETFROM:-0500
TZOFFSETTO:-0400
TZNAME:EDT
DTSTART:20240310T070000
END:DAYLIGHT
BEGIN:STANDARD
TZOFFSETFROM:-0400
TZOFFSETTO:-0500
TZNAME:EST
DTSTART:20241103T060000
END:STANDARD
BEGIN:DAYLIGHT
TZOFFSETFROM:-0500
TZOFFSETTO:-0400
TZNAME:EDT
DTSTART:20250309T070000
END:DAYLIGHT
BEGIN:STANDARD
TZOFFSETFROM:-0400
TZOFFSETTO:-0500
TZNAME:EST
DTSTART:20251102T060000
END:STANDARD
BEGIN:DAYLIGHT
TZOFFSETFROM:-0500
TZOFFSETTO:-0400
TZNAME:EDT
DTSTART:20260308T070000
END:DAYLIGHT
BEGIN:STANDARD
TZOFFSETFROM:-0400
TZOFFSETTO:-0500
TZNAME:EST
DTSTART:20261101T060000
END:STANDARD
END:VTIMEZONE
BEGIN:VEVENT
DTSTART;TZID=America/New_York:20250206T080000
DTEND;TZID=America/New_York:20250206T160000
DTSTAMP:20260419T114402
CREATED:20241119T170017Z
LAST-MODIFIED:20250205T150009Z
UID:10001897-1738828800-1738857600@www.abcva.org
SUMMARY:Introduction to Microsoft Project (Virtual) 2/6
DESCRIPTION:INTRODUCTION TO MICROSOFT PROJECT: GETTING STARTED\nThursday\, February 6\, 2025  |  8:00AM – 4:00PM\nManaging time\, tasks\, people and resources effectively can make the difference between success and failure when completing a complex project. In this Introduction to Microsoft Project 2016: Getting Started class\, students will spend time getting comfortable with the Project 2016 user interface\, including project views and the ribbon. They will also learn to enter\, organize\, and link tasks\, work with resources\, and create projects independently. The course allows time to practice fundamental basic skills essential for efficient use of this program. \nKEY TAKEAWAYS\nNot just an “introductory” course\, this virtual one-day training offers a deep dive into the essential features of Microsoft Project so that attendees can immediately put the software to use planning and managing their projects when they return to work.\n• Learn to create and manage simple projects.\n• Learn to enter and manage tasks.\n• Learn to work with a project calendar.\n• Learn to add and manage project resources and work with the resource sheet.\n• Learn to create basic reports for your project. \nEmbrace the opportunity to enhance your project management skills through this engaging\, virtual learning experience.\nThis event is held on Zoom and will require participants to have a reliable internet connection. We also ask that participants have Microsoft Project 2016 installed on their computer. \nLOCATION\nVirtual – a Zoom link will be emailed to participants within 24 hours of training \nCOST\nMembers: $245\nNon-Member: $335\nDISCOUNT Additional Members from Same Company: $195 \nSUBSTITUTIONS/CANCELLATION POLICY\nA reservation constitutes a financial commitment unless cancellations are made 48 hours in advance. Substitutions are welcome at any time if the originally registered individual(s) can no longer attend. \nQUESTIONS\nJamie Carrow
URL:https://www.abcva.org/event/introduction-to-microsoft-project-virtual-2-6/
LOCATION:Virtual
CATEGORIES:Central Virginia,Hampton Roads,Northern Virginia,Statewide
ATTACH;FMTTYPE=image/jpeg:https://www.abcva.org/wp-content/uploads/2024/11/Intro-to-MS-Project-Virtual-Feb-6-WEB.jpg
ORGANIZER;CN="Jamie Carrow":MAILTO:jamie@abcva.org
END:VEVENT
BEGIN:VEVENT
DTSTART;TZID=America/New_York:20250214T100000
DTEND;TZID=America/New_York:20250214T110000
DTSTAMP:20260419T114402
CREATED:20250114T145553Z
LAST-MODIFIED:20250212T200319Z
UID:10001986-1739527200-1739530800@www.abcva.org
SUMMARY:SBA's Surety Bond Guarantee Program 2/14 Virtual
DESCRIPTION:SMALL BUSINESS ADMINISTRATION’S SURETY BOND GUARANTEE PROGRAM\nPlease note: registration will close at 9:00AM on Thursday\, February 13.\nFriday\, February 14\, 2025  |  10:00AM – 11:00AM  |  Virtual\nUnder the Surety Bond Guarantee Program\, the Small Business Administration (SBA) guarantees bid\, performance\, and payment surety bonds issued by certain surety companies. This webinar is a must for any small business that is in need of bid\, performance\, or payment bonds. SBA guarantees contract bonds but does not guarantee commercial bonds. Contract bonds ensure the terms of a specific contract are fulfilled. \nKey Takeaways\n• Alternative Bonding Option: The SBA’s Surety Bond Guarantee Program offers an alternative avenue for small businesses to obtain contract bonds if they don’t meet traditional bonding requirements.\n• Increased Access to Contract Bonds: The program accommodates contracts up to $9 million for non-federal contracts and up to $14 million for federal contracts\, making it easier for small businesses to access contract bonds.\n• Reduced Working Capital Requirements: The SBA’s program requires about half the working capital typically needed for contract surety bonds\, making it more accessible to small businesses with limited resources. \nThe SBA is an agency of the Federal Government established in 1953 to aid\, counsel\, assist and protect the interests of small business concerns\, to preserve free competitive enterprise and to maintain and strengthen the overall economy of our nation. Nationwide\, SBA delivered $56 billion to small businesses and disaster-impacted communities in Fiscal Year 2024 (FY24). \nSPEAKER\nFord Scott\, Lender Relations Specialist\, U.S. Small Business Administration – Ford is responsible for marketing and providing hands-on assistance with SBA loan guaranty programs to lenders\, economic development organizations and prospective small business borrowers\, throughout Virginia. He received a Bachelor’s degree in Mathematical Sciences from Virginia Commonwealth University. \nLOCATION\nVirtual\nA Teams meeting link will be sent to registered attendees within 24 hours of webinar. \nCOST\nFree (registration required in order to receive Teams link) \nQuestions?\nContact Jamie Carrow
URL:https://www.abcva.org/event/sbas-surety-bond-guarantee-program-2-14-virtual/
LOCATION:Virtual
CATEGORIES:Central Virginia,Hampton Roads,Northern Virginia,Statewide
ATTACH;FMTTYPE=image/jpeg:https://www.abcva.org/wp-content/uploads/2025/01/SBA-Surety-Bond-Guarantee-Program-Feb-14-web.jpg
ORGANIZER;CN="Rachel Fronius":MAILTO:rachel@abcva.org
END:VEVENT
BEGIN:VEVENT
DTSTART;TZID=America/New_York:20250218T160000
DTEND;TZID=America/New_York:20250218T190000
DTSTAMP:20260419T114402
CREATED:20250122T161803Z
LAST-MODIFIED:20250218T141217Z
UID:10002032-1739894400-1739905200@www.abcva.org
SUMMARY:Blueprint Reading 101 2/18 NV **FULL**
DESCRIPTION:BLUEPRINT READING 101\n**FULL. Please email Shaye Currie for waitlist and/or register for our next Blueprint Reading 101 workshop on August 5.**\nBegins Tuesday\, February 18\, 2025  |  4:00PM – 7:00PM\nEnhance your personal and professional value by enrolling in ABC-VA’s Blueprint Reading 101 for the Construction Industry. This comprehensive course is structured for the beginner and covers all phases of a construction project. Participants will discuss the phases of construction including site\, landscape\, architectural\, structural\, mechanical\, plumbing\, and electrical. \nAll employees in the construction industry can benefit from this course.  Knowing and understanding the blueprint language is a highly marketable skill and will make anyone an invaluable resource to their company. \nSCHEDULE\nEight-Day Program:\nFebruary 18\, 25\nMarch 4\, 11\, 18\, 25\nApril 1\, 8\n4:00PM – 7:00PM \nCOST\nMember – $370\nNon-Member – $540\nIncludes textbooks and blueprints \nSUBSTITUTION/CANCELLATION POLICY\nSubstitutions are welcome at any time if the originally registered individual can no longer attend. Please note that a reservation constitutes a financial commitment unless cancellations are made 48 hours in advance. \nQuestions?\nContact Shaye Currie
URL:https://www.abcva.org/event/blueprint-reading-101-2-18-nv/
LOCATION:ABC-VA Northern Virginia Training Facility\, ABC-VA Northern Virginia Training Facility\, 42680 Trade West Drive\, Dulles\,\, VA\, 20166\, United States
CATEGORIES:Northern Virginia
ATTACH;FMTTYPE=image/jpeg:https://www.abcva.org/wp-content/uploads/2025/01/NV-Blueprint-Reading-101-Feb-18-web.jpg
ORGANIZER;CN="Shaye Currie":MAILTO:shaye@abcva.org
END:VEVENT
BEGIN:VEVENT
DTSTART;TZID=America/New_York:20250219T080000
DTEND;TZID=America/New_York:20250219T093000
DTSTAMP:20260419T114402
CREATED:20250107T175118Z
LAST-MODIFIED:20250107T175120Z
UID:10001978-1739952000-1739957400@www.abcva.org
SUMMARY:Prevailing Wage Compliance: Navigating Davis-Bacon 2/19 NV
DESCRIPTION:PREVAILING WAGE COMPLIANCE: NAVIGATING THE DAVIS-BACON ACT\nWednesday\, February 19\, 2025  |  8:00AM – 9:30AM  |  Breakfast provided\nJoin us for an in-depth presentation on navigating the complexities of the Davis-Bacon Act and Virginia’s specific regulations. You’ll gain essential knowledge to ensure compliance\, avoid costly mistakes\, and maximize your competitiveness in prevailing wage jobs. \n\nKey Takeaways:\n\n\n• Ensure Accuracy: Learn how to identify the correct wage determination and avoid errors that can lead to costly fines and penalties.\n\n\n• Streamline Compliance: Understand Certified Payroll Report (CPR) mandates and best practices to simplify your reporting process and reduce the risk of non-compliance.\n\n\n• Optimize Fringe Benefits: Discover how to calculate and maximize fringe benefit obligations\, potentially saving you thousands of dollars on labor costs.\n\n\n\nAdditional topics covered will include:\n\n\n• Overtime calculations and compliance\n\n\n• Managing holidays\, paid time\, sick leave\, and weekend work\n\n\n• Navigating wage increases over the project’s lifespan\n\n\n\nExclusive Bonus: Each attendee will receive a signed copy of “The Contractor’s Guide to the Davis-Bacon Act: Essential Knowledge for Bidding and Compliance on Prevailing Wage Jobs” by Nat Peniston – a valuable resource to help you stay ahead of the curve.\n\nINSTRUCTOR – Nat Peniston\, Vice President\, Fringe Benefit Group\, Inc.\nNat Peniston is a national expert on government-funded prevailing wage obligations and works closely with construction contractors to ensure proper compliance\, particularly in bona fide employee benefits strategies. An accomplished author\, he has published numerous articles in ABC’s Construction Executive magazine and published the book\, “The Contractor’s Guide to the Davis-Bacon Act: Essential Knowledge for Bidding and Compliance on Prevailing Wage Jobs.” Nat is a past chairman of the board of ABC – Central Texas and is involved in various charitable organizations. He earned his bachelor’s degree from the University of Miami and lives in Austin\, TX\, with his wife and two daughters.\n\nLOCATION\nABC-VA Northern Virginia Training Facility\n42680 Trade West Drive\, Dulles\, VA 20166\n\nCOST\nMembers $30\nNon-members $60\nBreakfast provided\n\nCANCELLATION/SUBSTITUTION POLICY\nPlease note that a reservation constitutes a financial commitment unless cancellations are made 48 hours in advance. Substitutions are welcome at any time if the originally registered individual(s) are no longer available.\n\nCOURSE CONTACT\nShaye Currie
URL:https://www.abcva.org/event/nvcomplies25/
LOCATION:ABC-VA Northern Virginia Training Facility\, ABC-VA Northern Virginia Training Facility\, 42680 Trade West Drive\, Dulles\,\, VA\, 20166\, United States
CATEGORIES:Northern Virginia
ATTACH;FMTTYPE=image/jpeg:https://www.abcva.org/wp-content/uploads/2025/01/NV-Prevailing-Wage-Feb-19-web.jpg
ORGANIZER;CN="Shaye Currie":MAILTO:shaye@abcva.org
END:VEVENT
BEGIN:VEVENT
DTSTART;TZID=America/New_York:20250219T160000
DTEND;TZID=America/New_York:20250219T180000
DTSTAMP:20260419T114402
CREATED:20250114T143111Z
LAST-MODIFIED:20250114T143155Z
UID:10001985-1739980800-1739988000@www.abcva.org
SUMMARY:Prevailing Wage Compliance: Navigating Davis-Bacon 2/19 CV
DESCRIPTION:PREVAILING WAGE COMPLIANCE: NAVIGATING THE DAVIS-BACON ACT\nWednesday\, February 19\, 2025  |  4:00PM – 6:00PM\nJoin us for an in-depth presentation on navigating the complexities of the Davis-Bacon Act and Virginia’s specific regulations. You’ll gain essential knowledge to ensure compliance\, avoid costly mistakes\, and maximize your competitiveness in prevailing wage jobs. \n\nKey Takeaways:\n\n\n• Ensure Accuracy: Learn how to identify the correct wage determination and avoid errors that can lead to costly fines and penalties.\n\n\n• Streamline Compliance: Understand Certified Payroll Report (CPR) mandates and best practices to simplify your reporting process and reduce the risk of non-compliance.\n\n\n• Optimize Fringe Benefits: Discover how to calculate and maximize fringe benefit obligations\, potentially saving you thousands of dollars on labor costs.\n\n\n\nAdditional topics covered will include:\n\n\n• Overtime calculations and compliance\n\n\n• Managing holidays\, paid time\, sick leave\, and weekend work\n\n\n• Navigating wage increases over the project’s lifespan\n\n\n\nExclusive Bonus: Each attendee will receive a signed copy of “The Contractor’s Guide to the Davis-Bacon Act: Essential Knowledge for Bidding and Compliance on Prevailing Wage Jobs” by Nat Peniston – a valuable resource to help you stay ahead of the curve.\n\nINSTRUCTOR – Nat Peniston\, Vice President\, Fringe Benefit Group\, Inc.\nNat Peniston is a national expert on government-funded prevailing wage obligations and works closely with construction contractors to ensure proper compliance\, particularly in bona fide employee benefits strategies. An accomplished author\, he has published numerous articles in ABC’s Construction Executive magazine and published the book\, “The Contractor’s Guide to the Davis-Bacon Act: Essential Knowledge for Bidding and Compliance on Prevailing Wage Jobs.” Nat is a past chairman of the board of ABC – Central Texas and is involved in various charitable organizations. He earned his bachelor’s degree from the University of Miami and lives in Austin\, TX\, with his wife and two daughters.\n\n\nLOCATION\nABC-VA Central Virginia Training Facility\n1600 E Parham Road\, Richmond\, VA 23228\n\n\nCOST\nMembers $30\nNon-members $60\nLight snacks and non-alcoholic refreshments provided\n\n\nCANCELLATION/SUBSTITUTION POLICY\nPlease note that a reservation constitutes a financial commitment unless cancellations are made 48 hours in advance. Substitutions are welcome at any time if the originally registered individual(s) are no longer available.\n\n\nCOURSE CONTACT\nKristen Altermatt
URL:https://www.abcva.org/event/cvcomplies25/
LOCATION:ABC-VA Central Virginia Training Facility\, ABC-VA Central Virginia Training Facility\, 1600 E Parham Road\, Richmond\, VA\, 23228\, United States
CATEGORIES:Central Virginia
ATTACH;FMTTYPE=image/jpeg:https://www.abcva.org/wp-content/uploads/2025/01/CV-Prevailing-Wage-Feb-19-web.jpg
ORGANIZER;CN="Kristen Altermatt":MAILTO:kristen@abcva.org
END:VEVENT
BEGIN:VEVENT
DTSTART;TZID=America/New_York:20250225T160000
DTEND;TZID=America/New_York:20250225T180000
DTSTAMP:20260419T114402
CREATED:20250127T183515Z
LAST-MODIFIED:20250127T183541Z
UID:10002038-1740499200-1740506400@www.abcva.org
SUMMARY:Young Professionals: Business Etiquette for Emerging Construction Leaders 2/25 CV
DESCRIPTION:YOUNG PROFESSIONALS: BUSINESS ETIQUETTE FOR EMERGING CONSTRUCTION LEADERS\nTuesday\, February 25\, 2025  |  4:00PM – 6:00PM\nNeed a refresher on business etiquette? Join us to learn about the importance of etiquette in the workplace and the steps you can take to develop good habits. \nKey Topics:\n• The art of conversation\n• Working the room\n• Proper Business Attire\n• Table Manners – (quick refresher)\n• Golf/Client Entertaining\n• Emails/Linkedin \nNetworking reception after the speaker presentation. Please note: this event is for Young Professionals (40 & under). \n\nMEET THE EXPERT\nTracy Allen\, Vice President and Corporate Director of Client Relations\, ECS Group of Companies – Tracy brings over 30 years of experience in the A/E/C industry. With a proven track record in strategic client development\, marketing\, and business growth\, Tracy has played a pivotal role in shaping ECS’s national presence. A respected industry leader\, she serves on multiple national and regional boards of professional trade associations\, and has earned her MBA from Marymount University. \n\nCOST (Members Only)\nYoung Professional – $40\nIncludes light snacks and two (2) drink tickets \nSPONSORSHIP OPPORTUNITIES Commitments needed by February 20 COB\nEvent Sponsor $500 – includes two (2) registrations\, signage at event\, logo/name on marketing materials\nBar Sponsor $400 – includes one (1) registration\, signage at event\, logo/name on marketing materials\nSelect during registration or email Kristen Altermatt to register as a sponsor \nLOCATION\nMain Line Brewery\n1603 Ownby Lane\, Richmond\, VA 23220 \nSUBSTITUTIONS/CANCELLATIONS\nSubstitutions are welcome at any time if the originally registered individual(s) can no longer attend. Please note: a reservation constitutes a financial commitment unless cancellations are made within 48 hours of the event. \nQUESTIONS?\nKristen Altermatt
URL:https://www.abcva.org/event/yprefresh25/
LOCATION:Main Line Brewery\, 1603 Ownby Lane\, Richmond\, 23220\, United States
CATEGORIES:Central Virginia
ATTACH;FMTTYPE=image/jpeg:https://www.abcva.org/wp-content/uploads/2025/01/CV-YP-Business-Etiquette-with-Tracy-Allen-Feb-25-web.jpg
ORGANIZER;CN="Kristen Altermatt":MAILTO:kristen@abcva.org
END:VEVENT
BEGIN:VEVENT
DTSTART;TZID=America/New_York:20250226T113000
DTEND;TZID=America/New_York:20250226T130000
DTSTAMP:20260419T114402
CREATED:20241119T171952Z
LAST-MODIFIED:20250121T153318Z
UID:10001898-1740569400-1740574800@www.abcva.org
SUMMARY:Your Business Worth: Understanding the Why • Lunch & Learn 2/26 HR
DESCRIPTION:YOUR BUSINESS WORTH: UNDERSTANDING THE WHY • LUNCH & LEARN\nWednesday\, February 26\, 2025  |  11:30AM – 1:00PM\nAs business owners\, your business is most likely your largest asset. Closely held businesses do not have an easily determinable value and a range of values is the norm. The value of your business is influenced by\nmany variables\, many of which you can control. Whether you keep or sell your business\, knowing and increasing your valuation is always beneficial. \nTopics include:\n• Five different valuation methods for your business/industry\n• How to “enhance” the value of your business\n• The consequences of an incorrect valuation\n• Why businesses with multiple shareholders should “fix” a value in writing\n• How valuation differs in a family transfer event versus a third party sale\n• What the IRS can do if you choose not to establish a value for tax purposes\n• Why reoccurring revenue\, long term employees\, “clean” books\, negotiated vs. bid work\, bonding capacity\, and supplier relationships are drivers of increased valuations \nWHO SHOULD ATTEND\nBusiness owners (current or the next generation) who want to explore planned or emergency transitions as well as proactive tax strategies \nSPEAKERS\nDonald S. Hannahs\, CFP®\, Oceanside Financial Strategies\nParker Hannahs\, Oceanside Financial Strategies \nLOCATION \nABC-VA Hampton Roads Training Facility\n530 Independence Parkway\, Suite 500\, Chesapeake\, VA 23320\n**Student parking and entrance is in the back of the building.** \nCOST\nMembers $30\nNon-members $60\nLunch is provided \nSUBSTITUTION/CANCELLATION POLICY\nSubstitutions are welcome at any time if the originally registered individual(s) can no longer attend. Please note: a reservation constitutes a financial commitment unless cancellations are made 48 hours in advance. \nQuestions?\nContact Jamie Carrow \nSecurities and investment advisory services offered through Osaic FA\, Inc.\, member FINRA/SIPC. Osaic FA is separately owned and other entities and/or marketing names\, products or services referenced here are independent of Osaic FA. CRN-7382611-112624
URL:https://www.abcva.org/event/your-business-worth-understanding-the-why-lunch-learn-2-26-hr/
LOCATION:ABC-VA Hampton Roads Training Facility\, Chesapeake\, 530 Independence Parkway\, Suite 500\, Chesapeake\, 23320\, United States
CATEGORIES:Hampton Roads
ATTACH;FMTTYPE=image/jpeg:https://www.abcva.org/wp-content/uploads/2024/11/HR-Business-Worth-and-Why-Feb-26-web3.jpg
ORGANIZER;CN="Rachel Fronius":MAILTO:rachel@abcva.org
END:VEVENT
BEGIN:VEVENT
DTSTART;TZID=America/New_York:20250227T080000
DTEND;TZID=America/New_York:20250227T140000
DTSTAMP:20260419T114402
CREATED:20241218T190116Z
LAST-MODIFIED:20250225T152029Z
UID:10001962-1740643200-1740664800@www.abcva.org
SUMMARY:Executive Safety Academy: The Safety Conference for Firm Leadership 2/27
DESCRIPTION:EXECUTIVE SAFETY ACADEMY: THE CONFERENCE FOR FIRM LEADERSHIP\nThursday\, February 27\, 2025 – Friday\, February 28\, 2025  |  8:00AM – 2:00PM\nRegistration will close at 3PM on Tuesday\, February 25\, 2025.\nThe road to world-class safety starts HERE. \nABC Virginia invites you to attend the Executive Safety Academy\, a two-day immersion into developing leadership commitment to safety as a core value from the C-Suite down\, and implementing the leading indicator systems and processes that are required to achieve world-class safety performance. \nLearning Takeaways:\n– How Leadership Plays Into Implementing a Successful Safety Cultural Transformation\n– Implementing Core Leading Indicators to Improve Safety Performance\n– Change Management: Making Concepts a Reality\n– Personal Commitment\n– and much more \nSession 1: The Road Map to World-Class Safety\n– Dissatisfaction with Current Performance\n– Leadership Commitment\n– Cultural Transformation\n– Deliverable: Transformation Plan or Company and Individual \nSession 2: World-Class Systems and Processes\n– World-Class Results\n– Best Practice Systems and Process\n– Balanced Scoreboard \nWho Should Attend?\nOwners\, Principals\, Vice Presidents\, Operations and Division Managers\nThis course is NOT intended for crew leaders or job superintendents. Due to the nature of this class\, registrations are subject to approval by ABC-VA and the class instructor. This is to ensure the target audience is reached. \nINSTRUCTOR\nDave Thompson\, Safety Director\, Bruce Howard Contracting\, Inc.  – Dave Thompson has been involved in the construction industry for 35 years and has been a safety professional for twenty-two of those. He is the Safety Director for Bruce Howard Contracting\, Inc.\, of Williamsburg\, VA\, and the Lead Instructor for ABC-VA Hampton Roads. Dave also sits on the VA State Corporation Commission’s Advisory Committee for Miss Utility representing excavators and holds a CHST. \nLOCATION \nABC-VA Central Virginia Training Facility\n1600 E Parham Road\, Richmond\, VA 23228 \nCOST\nMembers $325\nNon-members $525\nContinental breakfast and lunch provided both days \nCANCELLATION POLICY\nPlease note that a reservation constitutes a financial commitment unless cancellations are made 72 hours in advance. No-shows and anyone who does not complete the course will still be financially responsible. Substitutions are welcome at any time if the originally registered individual(s) can no longer attend. \nQuestions?\nContact Sherrie Dickerson
URL:https://www.abcva.org/event/esa-feb2025/
LOCATION:ABC-VA Central Virginia Training Facility\, ABC-VA Central Virginia Training Facility\, 1600 E Parham Road\, Richmond\, VA\, 23228\, United States
CATEGORIES:Central Virginia,Hampton Roads,Northern Virginia,Statewide
ATTACH;FMTTYPE=image/jpeg:https://www.abcva.org/wp-content/uploads/2024/12/CV-Executive-Safety-Academy-Feb-27-WEB.jpg
ORGANIZER;CN="Sherrie Dickerson":MAILTO:sherrie@abcva.org
END:VEVENT
END:VCALENDAR