BEGIN:VCALENDAR
VERSION:2.0
PRODID:-//ABC Virginia - ECPv6.15.20//NONSGML v1.0//EN
CALSCALE:GREGORIAN
METHOD:PUBLISH
X-WR-CALNAME:ABC Virginia
X-ORIGINAL-URL:https://www.abcva.org
X-WR-CALDESC:Events for ABC Virginia
REFRESH-INTERVAL;VALUE=DURATION:PT1H
X-Robots-Tag:noindex
X-PUBLISHED-TTL:PT1H
BEGIN:VTIMEZONE
TZID:America/New_York
BEGIN:DAYLIGHT
TZOFFSETFROM:-0500
TZOFFSETTO:-0400
TZNAME:EDT
DTSTART:20230312T070000
END:DAYLIGHT
BEGIN:STANDARD
TZOFFSETFROM:-0400
TZOFFSETTO:-0500
TZNAME:EST
DTSTART:20231105T060000
END:STANDARD
BEGIN:DAYLIGHT
TZOFFSETFROM:-0500
TZOFFSETTO:-0400
TZNAME:EDT
DTSTART:20240310T070000
END:DAYLIGHT
BEGIN:STANDARD
TZOFFSETFROM:-0400
TZOFFSETTO:-0500
TZNAME:EST
DTSTART:20241103T060000
END:STANDARD
BEGIN:DAYLIGHT
TZOFFSETFROM:-0500
TZOFFSETTO:-0400
TZNAME:EDT
DTSTART:20250309T070000
END:DAYLIGHT
BEGIN:STANDARD
TZOFFSETFROM:-0400
TZOFFSETTO:-0500
TZNAME:EST
DTSTART:20251102T060000
END:STANDARD
END:VTIMEZONE
BEGIN:VTIMEZONE
TZID:UTC
BEGIN:STANDARD
TZOFFSETFROM:+0000
TZOFFSETTO:+0000
TZNAME:UTC
DTSTART:20230101T000000
END:STANDARD
END:VTIMEZONE
BEGIN:VEVENT
DTSTART;TZID=America/New_York:20241205T090000
DTEND;TZID=America/New_York:20241205T163000
DTSTAMP:20260419T151526
CREATED:20241021T162827Z
LAST-MODIFIED:20241021T162829Z
UID:10001862-1733389200-1733416200@www.abcva.org
SUMMARY:Construction Law Survival Seminar 12/5 NV
DESCRIPTION:CONSTRUCTION LAW SURVIVAL SEMINAR\nThursday\, December 5\, 2024  |  9:00AM – 4:30PM\nOur Construction Law Survival Seminar is back\, as requested after our last successful session! Join Jim Fullerton for a full-day discussion on what you need to know about construction law as a professional in the construction industry. \nTOPICS COVERED:\nMechanic’s Liens\n– Time Limits\, Notices and Claims to Preserve\nMechanic’s Lien Rights in Virginia\, Maryland\, Pennsylvania and D.C. \nPublic and Private Payment Bond Rights\n– Federal Miller Act and State Little Miller Acts in Virginia\, Maryland\, Pennsylvania and D.C.\n– Private Payment Bond Rights \nLien & Bond Progress Payment Waivers\n– Review and revising waivers in contracts and progress payment waivers\n– Lien Waivers\, Bond Right Waivers\, & Claims Waivers \nConstruction Contracts\n– Contract Terms to put in your Proposals\n– Reviewing and Revising Contracts you receive\n– Conduit\, Pay when Paid Clauses and Claims Procedures \nEach Construction Law Survival Seminar participant will receive continental breakfast\, lunch\, refreshments and the newest edition of the 700 page Construction Law Survival Manual. Seminar starts at 9:00 am. Check-in starts at 8:30 am. \nSPEAKER\nJames D. Fullerton\, President\, Fullerton & Knowles\, P.C.\nMr. Fullerton is a Martindale Hubbell Peer Rated Lawyer Preeminent. Jim represents owners\, lenders\, design professionals\, suppliers\, subcontractors\, general contractors and other members of the real estate and construction industries region-wide. He advises on all real estate and construction law issues; public procurement and bidding\, contract formation and disputes; defects in labor and materials; design defects in plans and specifications; inefficiency\, impact and delay claims; mechanic’s lien and bond rights; litigation\, arbitration and mediation in public and private projects; joint ventures\, mentor protegee agreements and other arrangements for minority and disadvantaged business enterprises; bank and lender representation; commercial transactions and loan closings; sales contracts and leases. \nMr. Fullerton is also a master brick mason\, a licensed real estate broker and the owner of Summit Real Estate. He is Counsel to Board of Directors\, Virginia Precast Concrete Association; and is Counsel to Board of Directors\, Central Atlantic Precast Concrete Association. He graduated from the University of Colorado and the University of Virginia School of Law. \nLOCATION\nABC-VA Northern VA Training Facility\n42680 Trade West Drive\, Dulles\, VA 20166 \nCOST\nMember – $100\nNon-Member – $100\nIncludes breakfast bars\, coffee\, water and lunch \nSUBSTITUTION/CANCELLATION POLICY\nSubstitutions are welcome at any time if the originally registered individual can no longer attend. Please note that a reservation constitutes a financial commitment unless cancellations are made 48 hours in advance. \nQuestions?\nContact Erin Stamer
URL:https://www.abcva.org/event/construction-law-survival-dec5-nv/
LOCATION:ABC-VA Northern Virginia Training Facility\, ABC-VA Northern Virginia Training Facility\, 42680 Trade West Drive\, Dulles\,\, VA\, 20166\, United States
CATEGORIES:Northern Virginia
ATTACH;FMTTYPE=image/jpeg:https://www.abcva.org/wp-content/uploads/2024/10/NV-Construction-Law-Survival-Dec-5-WEB.jpg
ORGANIZER;CN="Shaye Currie":MAILTO:shaye@abcva.org
END:VEVENT
BEGIN:VEVENT
DTSTART;TZID=America/New_York:20241210T080000
DTEND;TZID=America/New_York:20241210T160000
DTSTAMP:20260419T151526
CREATED:20241009T135839Z
LAST-MODIFIED:20241113T161722Z
UID:10001857-1733817600-1733846400@www.abcva.org
SUMMARY:How to Collaborate in the Pull Planning Process 12/10 CV
DESCRIPTION:How to Collaborate in the Pull Planning Process\nTuesday\, December 10\, 2024  |  8:00AM – 4:00PM\n \n“Awesome class\, outstanding all around. Best I’ve been to at ABC-VA to date!” -Colin Miller\, Director of Field Operations\, Scott-Long Construction \nLearn how to use the Collaborative Pull Planning Process that has proven to yield better and more reliable schedules. No computers are used in this very “hands-on” workshop. Participants learning it by doing it. \nThis valuable planning and managing technique is used around the world\, and it is rapidly being adopted in all types of projects from very large to very small. From the overall master planner\, to the foreman in the field – these schedules are more than just wallpaper. The foremen actually help create and follow the plan. \nParticipants will learn how to the integrate the Master Schedule\, the Phase Pull\, the Look Ahead\, Constraints\, and the Weekly work plan. Additionally\, participants will learn to monitor and measure how well the teams follow the plan through PPC tracking – altogether on the wall with sticky notes – no computer required! \nThis workshop is perfect for executives\, project managers\, superintendents and foremen. \nINSTRUCTOR\nTom Patton\, Project Management Services Bureau \nLOCATION\nABC-VA Central Virginia Training Facility\n1600 E Parham Road\, Richmond\, VA 23228 \nCOST\nMembers: $275\n*Savings When Each Additional Member from the Same Company Registers: $250\nNon-Member: $375\nBreakfast and lunch provided \nSUBSTITUTION/CANCELLATION POLICY\nSubstitutions are welcome at any time if the originally registered individual(s) can no longer attend. A reservation constitutes a financial commitment unless cancellations are made 48 hours in advance. \nQUESTIONS?\nKristen Altermatt
URL:https://www.abcva.org/event/how-to-collaborate-in-the-pull-planning-process-dec10-cv/
LOCATION:ABC-VA Central Virginia Training Facility\, ABC-VA Central Virginia Training Facility\, 1600 E Parham Road\, Richmond\, VA\, 23228\, United States
CATEGORIES:Central Virginia
ATTACH;FMTTYPE=image/jpeg:https://www.abcva.org/wp-content/uploads/2024/10/CV-Pull-Planning-Dec-10-WEB_abcvirginia.jpg
ORGANIZER;CN="Kristen Altermatt":MAILTO:kristen@abcva.org
END:VEVENT
BEGIN:VEVENT
DTSTART;TZID=America/New_York:20241210T150000
DTEND;TZID=America/New_York:20241210T170000
DTSTAMP:20260419T151526
CREATED:20240930T191221Z
LAST-MODIFIED:20241021T144921Z
UID:10001852-1733842800-1733850000@www.abcva.org
SUMMARY:Excelerate your Skills - Microsoft Excel for Construction Professionals 12/10 CV
DESCRIPTION:EXCELERATE YOUR SKILLS – MICROSOFT EXCEL FOR CONSTRUCTION PROFESSIONALS\nTuesday\, December 10\, 2024  |  3:00PM – 5:00PM\nMaximize the power of an Excel spreadsheet to assist you with every day construction tasks like workforce scheduling\, estimating\, and data analysis. We’ll be demonstrating: \n– Basic functions (addition\, subtraction\, multiplication\, and division)\n– Conditional function ( IF\, AND\, OR\, NOT)\n– Lookup and calculate functions using tables of data\n– Spreadsheet collaboration – Sharing files with multiple users\n– Protecting formulas from inadvertent changes or edits – defining\, locking\, and unlocking cells.\n– Linking Spreadsheets together to combine data from multiple sources\n– How to create basic charts and graphs. \nThis is a hands-on learning class – bring your laptop (with a copy of Excel already loaded)\, a mouse\, and a power cord to class. \nINSTRUCTOR\nMonty Lay\, Director of Preconstruction\, ColonialWebb Contractors \nLOCATION\nABC-VA Central Virginia Training Facility\n1600 East Parham Road\, Richmond\, VA 23228 \nCOST\nMembers – $55 \nCANCELLATION/SUBSTITUTION POLICY\nCancellations must be made within 48 hours of training. Substitutions are welcome at any time if the originally registered individual(s) can no longer attend. \nQuestions?\nContact Kristen Altermatt
URL:https://www.abcva.org/event/ms-excel-workshop-construction-dec10-cv/
LOCATION:ABC-VA Central Virginia Training Facility\, ABC-VA Central Virginia Training Facility\, 1600 E Parham Road\, Richmond\, VA\, 23228\, United States
CATEGORIES:Central Virginia
ATTACH;FMTTYPE=image/jpeg:https://www.abcva.org/wp-content/uploads/2024/09/CV-Excelerate-Your-Skills-Dec-10-web.jpg
ORGANIZER;CN="Kristen Altermatt":MAILTO:kristen@abcva.org
END:VEVENT
BEGIN:VEVENT
DTSTART;TZID=UTC:20241217T073000
DTEND;TZID=UTC:20241217T170000
DTSTAMP:20260419T151526
CREATED:20231128T161947Z
LAST-MODIFIED:20241211T144116Z
UID:10001615-1734420600-1734454800@www.abcva.org
SUMMARY:Construction Quality Management 12/17 HR
DESCRIPTION:CONSTRUCTION QUALITY MANAGEMENT (CQM)\n**Please note: registration will close at 12PM on Friday\, December 13.**\nTuesday\, December 17\, 2024  |  7:30AM – 5:00PM\nDo you want to become more competitive handling government contracts? Do you want to deliver quality\, increase repeat business\, and maintain your reputation\, all while making a profit? If these things are important to you then enroll in Construction Quality Management (CQM) for Contractors\, brought to you by ABC-Virginia\, the U.S. Army Corps of Engineers (USACE)\, and the Naval Facilities Engineering Command (NAVFAC). \nThis required training recognizes that the mutual goal of contractors and the government is a quality end product. This program encourages proactive leadership and emphasizes getting it right the first time. Attendees develop an understanding of how to integrate quality into every aspect of the project from the pre-construction planning to project close-out. \nEnroll in Construction Quality Management and satisfy the government’s requirements. Your certification is issued by the U.S. Army Corps of Engineers and is valid for five years. \nSCHEDULE\nTuesday\, December 17\, 2024\n7:30AM – 5:00PM\nContinental breakfast and lunch provided \nLOCATION\nABC-VA Hampton Roads Training Facility\n530 Independence Parkway\, Suite 500\, Chesapeake\, VA 23320\n*Student parking and entrance is in the back of the building.* \nCOST\nMember – $275\nNon-Member – $375 \nCANCELLATION POLICY\nPlease note that a reservation constitutes a financial commitment unless cancellations are made by 12/13/2024. \nQuestions?\nContact Jamie Carrow
URL:https://www.abcva.org/event/construction-quality-management-dec17-hr/
LOCATION:ABC-VA Hampton Roads Training Facility\, Chesapeake\, 530 Independence Parkway\, Suite 500\, Chesapeake\, 23320\, United States
CATEGORIES:Hampton Roads
ATTACH;FMTTYPE=image/jpeg:https://www.abcva.org/wp-content/uploads/2023/11/Construction-Quality-Management_abc-virginia_USACE.jpg
ORGANIZER;CN="Rachel Fronius":MAILTO:rachel@abcva.org
END:VEVENT
END:VCALENDAR