BEGIN:VCALENDAR
VERSION:2.0
PRODID:-//ABC Virginia - ECPv6.15.20//NONSGML v1.0//EN
CALSCALE:GREGORIAN
METHOD:PUBLISH
X-WR-CALNAME:ABC Virginia
X-ORIGINAL-URL:https://www.abcva.org
X-WR-CALDESC:Events for ABC Virginia
REFRESH-INTERVAL;VALUE=DURATION:PT1H
X-Robots-Tag:noindex
X-PUBLISHED-TTL:PT1H
BEGIN:VTIMEZONE
TZID:UTC
BEGIN:STANDARD
TZOFFSETFROM:+0000
TZOFFSETTO:+0000
TZNAME:UTC
DTSTART:20230101T000000
END:STANDARD
END:VTIMEZONE
BEGIN:VEVENT
DTSTART;TZID=UTC:20240813T073000
DTEND;TZID=UTC:20240813T170000
DTSTAMP:20260419T230722
CREATED:20231128T161403Z
LAST-MODIFIED:20240723T141454Z
UID:10001612-1723534200-1723568400@www.abcva.org
SUMMARY:Construction Quality Management 8/13 HR **FULL**
DESCRIPTION:CONSTRUCTION QUALITY MANAGEMENT (CQM)\nTuesday\, August 13\, 2024  |  7:30AM – 5:00PM\n**FULL. Please email Rachel Fronius to be put on waitlist and/or register for our next CQM class on October 8.**\nDo you want to become more competitive handling government contracts? Do you want to deliver quality\, increase repeat business\, and maintain your reputation\, all while making a profit? If these things are important to you then enroll in Construction Quality Management (CQM) for Contractors\, brought to you by ABC-Virginia\, the U.S. Army Corps of Engineers (USACE)\, and the Naval Facilities Engineering Command (NAVFAC). \nThis required training recognizes that the mutual goal of contractors and the government is a quality end product. This program encourages proactive leadership and emphasizes getting it right the first time. Attendees develop an understanding of how to integrate quality into every aspect of the project from the pre-construction planning to project close-out. \nEnroll in Construction Quality Management and satisfy the government’s requirements. Your certification is issued by the U.S. Army Corps of Engineers and is valid for five years. \nSCHEDULE\nTuesday\, August 13\, 2024\n7:30AM – 5:00PM\nContinental breakfast and lunch provided \nLOCATION **PLEASE NOTE OUR NEW ADDRESS**\nABC-VA Hampton Roads Training Facility\n530 Independence Parkway\, Suite 500\, Chesapeake\, VA 23320\n*Student parking and entrance is in the back of the building.* \nCOST\nMember – $275\nNon-Member – $375 \nCANCELLATION POLICY\nPlease note that a reservation constitutes a financial commitment unless cancellations are made by 8/09/2024. \nQuestions?\nContact Jamie Carrow
URL:https://www.abcva.org/event/construction-quality-management-aug13-hr/
LOCATION:ABC-VA Hampton Roads Training Facility\, Chesapeake\, 530 Independence Parkway\, Suite 500\, Chesapeake\, 23320\, United States
CATEGORIES:Hampton Roads
ATTACH;FMTTYPE=image/jpeg:https://www.abcva.org/wp-content/uploads/2023/11/Construction-Quality-Management_abc-virginia_USACE.jpg
ORGANIZER;CN="Rachel Fronius":MAILTO:rachel@abcva.org
END:VEVENT
BEGIN:VEVENT
DTSTART;TZID=UTC:20240813T160000
DTEND;TZID=UTC:20240813T190000
DTSTAMP:20260419T230722
CREATED:20231201T172600Z
LAST-MODIFIED:20240808T182411Z
UID:10001623-1723564800-1723575600@www.abcva.org
SUMMARY:Blueprint Reading 102 8/13 NV **FULL**
DESCRIPTION:BLUEPRINT READING 102\n**FULL. Please email Shaye Currie to be put on waitlist.**\nBegins Tuesday\, August 13\, 2024  |  4:00PM – 7:00PM\nThis course is designed to advance those with the fundamental skills and theories from the basic blueprint reading class (Blueprint 101) that is essential for print reading experience in heavy commercial construction. The textbook and actual project drawings used for this course present and reinforce the concepts of elements commonly found on prints of large structures. \nThe topics to be covered in these sessions include\, but are not limited to\, the following:\n• Working Drawings and Drawing Concepts\n• Types of Construction\n• Specifications\n• Sitework\n• Structural Steel Construction\n• Reinforced Concrete Construction\n• Mechanical and Electrical Systems\n• Finish Construction\n• Trade Competency Tests and Review Questions \nSCHEDULE\nEight-Day Program:\nAugust 13\, 20\, 27\nSeptember 3\, 10\, 17\, 24\nOctober 1\n4:00PM-7:00PM \nCOST\nMember – $370\nNon-Member – $540\nIncludes textbooks and blueprints \nSUBSTITUTION/CANCELLATION POLICY\nSubstitutions are welcome at any time if the originally registered individual can no longer attend. Please note that a reservation constitutes a financial commitment unless cancellations are made 48 hours in advance. \nQuestions?\nContact Shaye Currie
URL:https://www.abcva.org/event/blueprint-reading-102-aug13-nv-2/
LOCATION:ABC-VA Northern Virginia Training Facility\, ABC-VA Northern Virginia Training Facility\, 42680 Trade West Drive\, Dulles\,\, VA\, 20166\, United States
CATEGORIES:Northern Virginia
ATTACH;FMTTYPE=image/jpeg:https://www.abcva.org/wp-content/uploads/2023/12/NV-Blueprint-Reading-102-Aug-13-WEB_abc-virginia.jpg
ORGANIZER;CN="Shaye Currie":MAILTO:shaye@abcva.org
END:VEVENT
END:VCALENDAR