BEGIN:VCALENDAR
VERSION:2.0
PRODID:-//ABC Virginia - ECPv6.15.20//NONSGML v1.0//EN
CALSCALE:GREGORIAN
METHOD:PUBLISH
X-ORIGINAL-URL:https://www.abcva.org
X-WR-CALDESC:Events for ABC Virginia
REFRESH-INTERVAL;VALUE=DURATION:PT1H
X-Robots-Tag:noindex
X-PUBLISHED-TTL:PT1H
BEGIN:VTIMEZONE
TZID:UTC
BEGIN:STANDARD
TZOFFSETFROM:+0000
TZOFFSETTO:+0000
TZNAME:UTC
DTSTART:20230101T000000
END:STANDARD
END:VTIMEZONE
BEGIN:VTIMEZONE
TZID:America/New_York
BEGIN:DAYLIGHT
TZOFFSETFROM:-0500
TZOFFSETTO:-0400
TZNAME:EDT
DTSTART:20230312T070000
END:DAYLIGHT
BEGIN:STANDARD
TZOFFSETFROM:-0400
TZOFFSETTO:-0500
TZNAME:EST
DTSTART:20231105T060000
END:STANDARD
BEGIN:DAYLIGHT
TZOFFSETFROM:-0500
TZOFFSETTO:-0400
TZNAME:EDT
DTSTART:20240310T070000
END:DAYLIGHT
BEGIN:STANDARD
TZOFFSETFROM:-0400
TZOFFSETTO:-0500
TZNAME:EST
DTSTART:20241103T060000
END:STANDARD
BEGIN:DAYLIGHT
TZOFFSETFROM:-0500
TZOFFSETTO:-0400
TZNAME:EDT
DTSTART:20250309T070000
END:DAYLIGHT
BEGIN:STANDARD
TZOFFSETFROM:-0400
TZOFFSETTO:-0500
TZNAME:EST
DTSTART:20251102T060000
END:STANDARD
END:VTIMEZONE
BEGIN:VEVENT
DTSTART;TZID=UTC:20240708T071500
DTEND;TZID=UTC:20240708T170000
DTSTAMP:20260420T003851
CREATED:20231128T155252Z
LAST-MODIFIED:20240201T162909Z
UID:10001606-1720422900-1720458000@www.abcva.org
SUMMARY:Construction Quality Management 7/8 CV
DESCRIPTION:CONSTRUCTION QUALITY MANAGEMENT (CQM)\nMonday\, July 8\, 2024  |  7:15AM – 5:00PM\nDo you want to become more competitive handling government contracts? Do you want to deliver quality\, increase repeat business\, and maintain your reputation\, all while making a profit? If these things are important to you then enroll in Construction Quality Management (CQM) for Contractors\, brought to you by ABC-Virginia\, the U.S. Army Corps of Engineers (USACE)\, and the Naval Facilities Engineering Command (NAVFAC). \nThis required training recognizes that the mutual goal of contractors and the government is a quality end product. This program encourages proactive leadership and emphasizes getting it right the first time. Attendees develop an understanding of how to integrate quality into every aspect of the project from the pre-construction planning to project close-out. \nEnroll in Construction Quality Management and satisfy the government’s requirements. Your certification is issued by the U.S. Army Corps of Engineers and is valid for five years. \nCOST\nMember – $275\nNon-Member – $375\nIncludes breakfast\, lunch and course materials \nLOCATION\nABC-VA Central VA Training Facility\n1600 E Parham Road\, Richmond\, VA 23228 \nCONTACT\nKristen Altermatt
URL:https://www.abcva.org/event/construction-quality-management-jul8-cv/
LOCATION:ABC-VA Central Virginia Training Facility\, ABC-VA Central Virginia Training Facility\, 1600 E Parham Road\, Richmond\, VA\, 23228\, United States
CATEGORIES:Central Virginia
ATTACH;FMTTYPE=image/jpeg:https://www.abcva.org/wp-content/uploads/2023/11/Construction-Quality-Management_abc-virginia_USACE.jpg
ORGANIZER;CN="Kristen Altermatt":MAILTO:kristen@abcva.org
END:VEVENT
BEGIN:VEVENT
DTSTART;TZID=America/New_York:20240716T113000
DTEND;TZID=America/New_York:20240716T130000
DTSTAMP:20260420T003851
CREATED:20240612T173147Z
LAST-MODIFIED:20240613T132425Z
UID:10001803-1721129400-1721134800@www.abcva.org
SUMMARY:Claims Management: Plan Where You're Going or End Up Somewhere Else 7/16 HR
DESCRIPTION:CLAIMS MANAGEMENT: PLAN WHERE YOU’RE GOING OR END UP SOMEWHERE ELSE\nTuesday\, July 16\, 2024  |  11:30AM – 1:00PM  |  Lunch provided\nJoin us for an essential seminar on construction project claims management with Neil Lowenstein\, thrice-named a top lawyer among the region and nationally. \nWhat We Will Cover:\n🔹 Strategy Planning: Learn to recognize\, preserve\, develop\, and resolve project claims effectively.\n🔹 Types of Claims: Understand how to manage claims related to changes\, differing site conditions\, delays\, work disputes\, non-payment\, and more.\n🔹 Participant Viewpoints: Gain insights from different tiers of project participants to navigate claims successfully. \nOur goal is to help you avoid the claims you can and confidently manage and resolve those you cannot. Don’t miss this opportunity to improve your claims management skills and ensure smoother project execution! \nFACILITATOR\nNeil Lowenstein\, Principal\, Woods Rogers – Neil Lowenstein has been a dedicated attorney at Woods Rogers Vandeventer Black since 1989\, specializing in construction law\, government contract law\, suretyship\, fidelity law\, and alternative dispute resolution. He is an experienced litigator with expertise in administrative and regulatory matters. Read Neil’s full\, impressive bio here \nLOCATION **PLEASE NOTE OUR NEW ADDRESS**\nABC-VA Hampton Roads Training Facility\n530 Independence Parkway\, Suite 500\, Chesapeake\, VA 23320\n**Student parking and entrance is in the back of the building.** \nCOST\nMembers – $67\nNon-Members – $97\nLunch provided \nSUBSTITUTION/CANCELLATION POLICY\nSubstitutions are welcome at any time if the originally registered individual(s) can no longer attend. Please note: a reservation constitutes a financial commitment unless cancellations are made 48 hours in advance. \nQuestions?\nContact Jamie Carrow
URL:https://www.abcva.org/event/claims-management-plan-where-youre-going-or-end-up-somewhere-else-7-16-hr/
LOCATION:ABC-VA Hampton Roads Training Facility\, Chesapeake\, 530 Independence Parkway\, Suite 500\, Chesapeake\, 23320\, United States
CATEGORIES:Hampton Roads
ATTACH;FMTTYPE=image/jpeg:https://www.abcva.org/wp-content/uploads/2024/06/HR-Claims-Management-July-16-web.jpg
ORGANIZER;CN="Rachel Fronius":MAILTO:rachel@abcva.org
END:VEVENT
END:VCALENDAR