BEGIN:VCALENDAR
VERSION:2.0
PRODID:-//ABC Virginia - ECPv6.15.20//NONSGML v1.0//EN
CALSCALE:GREGORIAN
METHOD:PUBLISH
X-WR-CALNAME:ABC Virginia
X-ORIGINAL-URL:https://www.abcva.org
X-WR-CALDESC:Events for ABC Virginia
REFRESH-INTERVAL;VALUE=DURATION:PT1H
X-Robots-Tag:noindex
X-PUBLISHED-TTL:PT1H
BEGIN:VTIMEZONE
TZID:America/New_York
BEGIN:DAYLIGHT
TZOFFSETFROM:-0500
TZOFFSETTO:-0400
TZNAME:EDT
DTSTART:20230312T070000
END:DAYLIGHT
BEGIN:STANDARD
TZOFFSETFROM:-0400
TZOFFSETTO:-0500
TZNAME:EST
DTSTART:20231105T060000
END:STANDARD
BEGIN:DAYLIGHT
TZOFFSETFROM:-0500
TZOFFSETTO:-0400
TZNAME:EDT
DTSTART:20240310T070000
END:DAYLIGHT
BEGIN:STANDARD
TZOFFSETFROM:-0400
TZOFFSETTO:-0500
TZNAME:EST
DTSTART:20241103T060000
END:STANDARD
BEGIN:DAYLIGHT
TZOFFSETFROM:-0500
TZOFFSETTO:-0400
TZNAME:EDT
DTSTART:20250309T070000
END:DAYLIGHT
BEGIN:STANDARD
TZOFFSETFROM:-0400
TZOFFSETTO:-0500
TZNAME:EST
DTSTART:20251102T060000
END:STANDARD
END:VTIMEZONE
BEGIN:VTIMEZONE
TZID:UTC
BEGIN:STANDARD
TZOFFSETFROM:+0000
TZOFFSETTO:+0000
TZNAME:UTC
DTSTART:20230101T000000
END:STANDARD
END:VTIMEZONE
BEGIN:VEVENT
DTSTART;TZID=America/New_York:20240605T113000
DTEND;TZID=America/New_York:20240605T130000
DTSTAMP:20260424T064642
CREATED:20240418T225942Z
LAST-MODIFIED:20240501T144055Z
UID:10001782-1717587000-1717592400@www.abcva.org
SUMMARY:Attracting and Retaining Key Employees • Lunch & Learn 6/5 CV
DESCRIPTION:ATTRACTING AND RETAINING KEY EMPLOYEES • LUNCH & LEARN\nWednesday\, June 5\, 2024  |  11:30AM – 1:00PM\nAttracting and retaining key employees is becoming more difficult in the growing competitive market. Employees are more aware of their own value and growing numbers are requiring more than just a paycheck as a reason to stay with a company. Join us to learn strategies and fringe benefit programs that can be offered to select key people and owners that reward and provide incentives to your employees. Key employees desire special bonus plans and growth incentives to ensure their long-term service. \nTopics that will be covered include:\n• Where to find recruiting assistance\n• List of low-cost awards and recognition programs\n• How to review your fringe benefits compared to your competitors\n• Various retirement plans\, and how they can benefit the owners\n• Key employee golden handcuff options\n• Employee stock ownership and succession programs\n• How a rolling bonus works \nWHO SHOULD ATTEND\nThis seminar is geared towards anyone that plays a role in recruiting and/or employee retention. \nSPEAKERS\nDonald S. Hannahs\, CFP®\, Oceanside Financial Strategies\nParker Hannahs\, Oceanside Financial Strategies\nChuck Worley\, Worley’s Home Services \nLOCATION **PLEASE NOTE OUR NEW ADDRESS**\nABC-VA Central VA Training Facility\n1600 E Parham Road\, Richmond\, VA 23228 \nCOST\nMembers $30\nNon-members $60 \nSUBSTITUTION/CANCELLATION POLICY\nSubstitutions are welcome at any time if the originally registered individual(s) can no longer attend. Please note: a reservation constitutes a financial commitment unless cancellations are made 48 hours in advance. \nQuestions?\nContact Kristen Altermatt \nDonald and Parker Hannahs are registered representatives of Lincoln Financial Advisors Corp. Securities and investment advisory services offered through Lincoln Financial Advisors Corp.\, a broker/dealer (member SIPC) and registered investment advisor. Insurance offered through Lincoln affiliates and other fine companies. Oceanside Financial Strategies is not an affiliate of Lincoln Financial Advisors Corp.  Worley’s Home Services and Chuck Worley are not affiliated with Lincoln Financial Advisors or Oceanside Financial Strategies. CRN-6568364-042224
URL:https://www.abcva.org/event/attracting-and-retaining-key-employees-lunch-learn-6-5-cv/
LOCATION:ABC-VA Central Virginia Training Facility\, ABC-VA Central Virginia Training Facility\, 1600 E Parham Road\, Richmond\, VA\, 23228\, United States
CATEGORIES:Central Virginia
ATTACH;FMTTYPE=image/jpeg:https://www.abcva.org/wp-content/uploads/2024/04/CV-Attracting-Retaining-Employees-June-5-webx.jpg
ORGANIZER;CN="Kristen Altermatt":MAILTO:kristen@abcva.org
END:VEVENT
BEGIN:VEVENT
DTSTART;TZID=UTC:20240611T073000
DTEND;TZID=UTC:20240611T170000
DTSTAMP:20260424T064642
CREATED:20231128T161105Z
LAST-MODIFIED:20240116T152635Z
UID:10001611-1718091000-1718125200@www.abcva.org
SUMMARY:Construction Quality Management 6/11 HR
DESCRIPTION:CONSTRUCTION QUALITY MANAGEMENT (CQM)\nTuesday\, June 11\, 2024  |  7:30AM – 5:00PM\nDo you want to become more competitive handling government contracts? Do you want to deliver quality\, increase repeat business\, and maintain your reputation\, all while making a profit? If these things are important to you then enroll in Construction Quality Management (CQM) for Contractors\, brought to you by ABC-Virginia\, the U.S. Army Corps of Engineers (USACE)\, and the Naval Facilities Engineering Command (NAVFAC). \nThis required training recognizes that the mutual goal of contractors and the government is a quality end product. This program encourages proactive leadership and emphasizes getting it right the first time. Attendees develop an understanding of how to integrate quality into every aspect of the project from the pre-construction planning to project close-out. \nEnroll in Construction Quality Management and satisfy the government’s requirements. Your certification is issued by the U.S. Army Corps of Engineers and is valid for five years. \nSCHEDULE\nTuesday\, June 11\, 2024\n7:30AM – 5:00PM\nContinental breakfast and lunch provided \nLOCATION **PLEASE NOTE OUR NEW ADDRESS**\nABC-VA Hampton Roads Training Facility\n530 Independence Parkway\, Suite 500\, Chesapeake\, VA 23320\n*Student parking and entrance is in the back of the building.* \nCOST\nMember – $275\nNon-Member – $375 \nCANCELLATION POLICY\nPlease note that a reservation constitutes a financial commitment unless cancellations are made by 6/07/2024. \nQuestions?\nContact Jamie Carrow
URL:https://www.abcva.org/event/construction-quality-management-jun11-hr/
LOCATION:ABC-VA Hampton Roads Training Facility\, Chesapeake\, 530 Independence Parkway\, Suite 500\, Chesapeake\, 23320\, United States
CATEGORIES:Hampton Roads
ATTACH;FMTTYPE=image/jpeg:https://www.abcva.org/wp-content/uploads/2023/11/Construction-Quality-Management_abc-virginia_USACE.jpg
ORGANIZER;CN="Rachel Fronius":MAILTO:rachel@abcva.org
END:VEVENT
BEGIN:VEVENT
DTSTART;TZID=America/New_York:20240612T083000
DTEND;TZID=America/New_York:20240612T163000
DTSTAMP:20260424T064642
CREATED:20240417T172420Z
LAST-MODIFIED:20240422T132526Z
UID:10001781-1718181000-1718209800@www.abcva.org
SUMMARY:Leading at the Speed of Trust 6/12 HR
DESCRIPTION:LEADING AT THE SPEED OF TRUST\, a FranklinCovey Training\nWednesday\, June 12\, 2024  |  8:30AM – 4:30PM\n“Leading at the Speed of Trust” is a transformative FranklinCovey training program that equips leaders with the skills to build and maintain trust within their teams and organizations. Participants will learn practical strategies and behaviors to establish trust\, enhance collaboration\, and drive results in a fast-paced and dynamic environment. Through interactive sessions and real-world case studies\, attendees will explore the impact of trust on organizational culture\, employee engagement\, and productivity. This training delves into the principles of trustworthiness\, credibility\, and transparency\, empowering leaders to create a culture of trust that fosters innovation\, resilience\, and high performance. Join us for an immersive learning experience that will elevate your leadership effectiveness and propel your team towards greater success. \nTrust is one of the most critical competencies a leader can use to get better results from those they lead that are sustainable. This program will help you to develop\, restore and extend trust to the teams you lead. \nExclusive Members Only training. Limited to 30 participants. Learn more about this training on the FranklinCovey website here. \nFACILITATOR\nMichael Bellaman\, CEO of ABC National \nLOCATION **PLEASE NOTE OUR NEW ADDRESS**\nABC-VA Hampton Roads Training Facility\n530 Independence Parkway\, Suite 500\, Chesapeake\, VA 23320\n**Student parking and entrance is in the back of the building.** \nCOST\nMembers – $275 \nSUBSTITUTION/CANCELLATION POLICY\nSubstitutions are welcome at any time if the originally registered individual(s) can no longer attend. Please note: a reservation constitutes a financial commitment unless cancellations are made 48 hours in advance. \nQuestions?\nContact Jamie Carrow
URL:https://www.abcva.org/event/speedoftrust24/
LOCATION:ABC-VA Hampton Roads Training Facility\, Chesapeake\, 530 Independence Parkway\, Suite 500\, Chesapeake\, 23320\, United States
CATEGORIES:Hampton Roads
ATTACH;FMTTYPE=image/jpeg:https://www.abcva.org/wp-content/uploads/2024/04/HR-Speed-of-Trust-June-12-web2.jpg
ORGANIZER;CN="Jamie Carrow":MAILTO:jamie@abcva.org
END:VEVENT
END:VCALENDAR