BEGIN:VCALENDAR
VERSION:2.0
PRODID:-//ABC Virginia - ECPv6.15.20//NONSGML v1.0//EN
CALSCALE:GREGORIAN
METHOD:PUBLISH
X-WR-CALNAME:ABC Virginia
X-ORIGINAL-URL:https://www.abcva.org
X-WR-CALDESC:Events for ABC Virginia
REFRESH-INTERVAL;VALUE=DURATION:PT1H
X-Robots-Tag:noindex
X-PUBLISHED-TTL:PT1H
BEGIN:VTIMEZONE
TZID:America/New_York
BEGIN:DAYLIGHT
TZOFFSETFROM:-0500
TZOFFSETTO:-0400
TZNAME:EDT
DTSTART:20250309T070000
END:DAYLIGHT
BEGIN:STANDARD
TZOFFSETFROM:-0400
TZOFFSETTO:-0500
TZNAME:EST
DTSTART:20251102T060000
END:STANDARD
BEGIN:DAYLIGHT
TZOFFSETFROM:-0500
TZOFFSETTO:-0400
TZNAME:EDT
DTSTART:20260308T070000
END:DAYLIGHT
BEGIN:STANDARD
TZOFFSETFROM:-0400
TZOFFSETTO:-0500
TZNAME:EST
DTSTART:20261101T060000
END:STANDARD
BEGIN:DAYLIGHT
TZOFFSETFROM:-0500
TZOFFSETTO:-0400
TZNAME:EDT
DTSTART:20270314T070000
END:DAYLIGHT
BEGIN:STANDARD
TZOFFSETFROM:-0400
TZOFFSETTO:-0500
TZNAME:EST
DTSTART:20271107T060000
END:STANDARD
END:VTIMEZONE
BEGIN:VEVENT
DTSTART;TZID=America/New_York:20260518T070000
DTEND;TZID=America/New_York:20260518T183000
DTSTAMP:20260423T082437
CREATED:20260306T152636Z
LAST-MODIFIED:20260421T123545Z
UID:10002393-1779087600-1779129000@www.abcva.org
SUMMARY:Spring Golf Classic 5/18 NV
DESCRIPTION:NORTHERN VIRGINIA 2026 SPRING GOLF CLASSIC\nMonday\, May 18\, 2026  |  See detailed schedule below\nGet ready for a golfing experience like no other! Join the Early Bird Brigade for a morning tee-off\, or swing into action with the Afternoon Aces. Whatever your schedule\, we’ve got you covered! \nDon’t miss out on the fun! Register now and get ready to drive\, chip\, and putt your way to an unforgettable day on the greens! \nRegistration deadline is May 11\, however\, this tournament always sells out\, so register early! \n**Morning tee time is sold out!**\nSCHEDULE\n \n\n\n\nMorning Shotgun **SOLD OUT!** \n7:00AM Check-in and buffet breakfast w/ Bloody Marys\n8:00AM Shotgun Start \nLunch and prizes following play\nAfternoon Shotgun \n12:00PM Check-in and lunch\n1:00PM Shotgun Start \nDinner and prizes following play\n\n\n\n\nSPONSORSHIP OPPORTUNITIES Commitments needed by May 6 COB\nHole: $300 – includes signage\, recognition in program\nHole w/ Table $500 – includes signage\, recognition in program SOLD OUT!!\nRefreshment Stand $500 – includes signage\, recognition in program SOLD OUT!!\nDriving Range $500 – includes signage\, recognition in program SOLD OUT!!\nClosest-to-the-Pin Contest $500 – includes signage\, recognition in program\nPutting Contest $600 – includes signage\, recognition in program SOLD OUT!!\nCupcake Station $850 – includes signage\, recognition in program SOLD OUT!!\nBeverage Cart $1\,000 – includes logo displayed on each beverage cart\, recognition in program SOLD OUT!!\nRaffle $1\,000 – includes signage\, recognition in program\nGolf Ball $1\,500 – includes signage\, recognition in program SOLD OUT!!\nBreakfast $1\,500 – includes signage\, recognition in program\nGolf Cart $1\,500 – includes logo on every golf cart\, recognition in program\nTee Gift $2\,000 – includes signage\, recognition in program\nLunch $2\,000 – includes signage\, recognition in program\nReception $2\,000 – includes signage\, recognition in program\nSelect during registration or email Maureen Nanna to register as a sponsor! \nSPONSORS – THANK YOU!             \n                                \nLOCATION\nChantilly National Golf & Country Club\n14901 Braddock Road\, Centreville\, VA 20120 \nCOST (Members Only)\nFoursome — $1\,400\nIncludes green fee\, cart\, tee prize\, door prizes\, raffle ticket\, refreshments on the course\, and lunch/dinner reception\nTeam registrations only; individual registrations will not be available \nSUBSTITUTIONS/CANCELLATIONS POLICY\nSubstitutions are welcome at any time if the originally registered individual(s) can no longer attend. Refunds will not be issued for cancellations received after 5:00PM on May 11\, 2026. \nQuestions?\nContact Maureen Nanna
URL:https://www.abcva.org/event/nvspring26/
LOCATION:Chantilly National Golf & Country Club\, 14901 Braddock Road\, Centreville\, VA\, 20121\, United States
CATEGORIES:Northern Virginia
ATTACH;FMTTYPE=image/jpeg:https://www.abcva.org/wp-content/uploads/2026/03/NV-Spring-Golf-2026-main-scaled.jpg
ORGANIZER;CN="Maureen Nanna":MAILTO:maureen@abcva.org
END:VEVENT
END:VCALENDAR