BEGIN:VCALENDAR
VERSION:2.0
PRODID:-//ABC Virginia - ECPv6.15.20//NONSGML v1.0//EN
CALSCALE:GREGORIAN
METHOD:PUBLISH
X-ORIGINAL-URL:https://www.abcva.org
X-WR-CALDESC:Events for ABC Virginia
REFRESH-INTERVAL;VALUE=DURATION:PT1H
X-Robots-Tag:noindex
X-PUBLISHED-TTL:PT1H
BEGIN:VTIMEZONE
TZID:America/New_York
BEGIN:DAYLIGHT
TZOFFSETFROM:-0500
TZOFFSETTO:-0400
TZNAME:EDT
DTSTART:20240310T070000
END:DAYLIGHT
BEGIN:STANDARD
TZOFFSETFROM:-0400
TZOFFSETTO:-0500
TZNAME:EST
DTSTART:20241103T060000
END:STANDARD
BEGIN:DAYLIGHT
TZOFFSETFROM:-0500
TZOFFSETTO:-0400
TZNAME:EDT
DTSTART:20250309T070000
END:DAYLIGHT
BEGIN:STANDARD
TZOFFSETFROM:-0400
TZOFFSETTO:-0500
TZNAME:EST
DTSTART:20251102T060000
END:STANDARD
BEGIN:DAYLIGHT
TZOFFSETFROM:-0500
TZOFFSETTO:-0400
TZNAME:EDT
DTSTART:20260308T070000
END:DAYLIGHT
BEGIN:STANDARD
TZOFFSETFROM:-0400
TZOFFSETTO:-0500
TZNAME:EST
DTSTART:20261101T060000
END:STANDARD
END:VTIMEZONE
BEGIN:VEVENT
DTSTART;TZID=America/New_York:20250915T080000
DTEND;TZID=America/New_York:20250915T170000
DTSTAMP:20260419T114923
CREATED:20250718T134622Z
LAST-MODIFIED:20250718T134622Z
UID:10002172-1757923200-1757955600@www.abcva.org
SUMMARY:Virginia Cross-Connection Device Worker Certification Course 9/15 CV
DESCRIPTION:ABOUT THIS COURSE\nBegins September 15\, 2025\nAs of January 1\, 2023\, persons testing and repairing backflow prevention assemblies and backflow prevention devices shall be certified by a Commonwealth of Virginia tradesman certification program (identified by DPOR as backflow prevention device workers). \nThis 40-hour course is designed to help participants understand backflow and recognize cross-connections\, placing special emphasis on preparing individuals to test\, inspect\, and provide in-line maintenance of reduced pressure principle backflow prevention devices\, double check valve assemblies\, and pressure vacuum breakers. \n* This course has been approved by the Board for Contractors\, Virginia Department of Professional and Occupational Regulation in accordance with the provisions of 12 VAC5-590-630. \n**LIMITED TO 12 PARTICIPANTS** \nSCHEDULE\nSeptember 15 – 19\, 2025\n8:00AM – 5:00PM\nOnline registration will close Friday\, September 12 at 1:00PM\nPlease note: lunch is NOT included. \nLOCATION\nABC-VA Central Virginia Training Facility\n1600 E Parham Road\, Richmond\, VA 23228 \nCOST\nMember – $995\nNon-Member – $995\n**Please note: cost includes instruction only.** \nCANCELLATION/SUBSTITUTION POLICY\nPlease note that a reservation constitutes a financial commitment unless cancellations are made by 5:00PM on Monday\, September 8\, 2025. Substitutions are welcome at any time if the originally registered individual(s) can no longer attend. \nQuestions?\nContact Sherrie Dickerson
URL:https://www.abcva.org/event/cross-connection-cert-sep15-cv/
LOCATION:ABC-VA Central Virginia Training Facility\, ABC-VA Central Virginia Training Facility\, 1600 E Parham Road\, Richmond\, VA\, 23228\, United States
CATEGORIES:Central Virginia
ORGANIZER;CN="Sherrie Dickerson":MAILTO:sherrie@abcva.org
END:VEVENT
BEGIN:VEVENT
DTSTART;TZID=America/New_York:20250918T170000
DTEND;TZID=America/New_York:20250918T210000
DTSTAMP:20260419T114923
CREATED:20250423T201007Z
LAST-MODIFIED:20250423T201007Z
UID:10002119-1758214800-1758229200@www.abcva.org
SUMMARY:NEC 2020 Update Course 9/18 CV
DESCRIPTION:NEC 2020 UPDATE COURSE\nABC Virginia is offering the 2020 NEC Update in order to accommodate Continuing Education requirements. The Individual License and Certification Regulations adopted by the Board for Contractors\, Virginia Department of Professional and Occupational Regulation\, on April 1\, 2007 (18 VAC 50-30-120) provide that all individuals renewing a journeyman or masters license after December 1\, 2007\, shall be required to satisfactorily complete a continuing education course from a provider approved by the board. \nThe following course has been approved by the Board for Contractors\, Virginia Department of Occupational Regulation\, as meeting the continuing education requirements for licensed tradesmen (journeyman and masters)\, in accordance with the provisions of 18 VAC 50-30-120. \n*State Approved Continuing Education Course \nSCHEDULE\nThursday\, September 18\, 2025\n5:00PM – 9:00PM \nINSTRUCTOR\nDavid G. Humphrey\, Code Making Panel Chair\, Senior Electrical Inspector\, Plan Review Engineer \nLOCATION\nABC-VA Central Virginia Training Facility\n1600 East Parham Road\, Richmond\, VA 23228 \nCOST\nMember – $99\nNon-Member – $129 \nCANCELLATION/SUBSTITUTION POLICY\nPlease note that a reservation constitutes a financial commitment unless cancellations are made 48 hours in advance. Substitutions are welcome at any time if the originally registered individual(s) can no longer attend. \nQuestions?\nContact Sherrie Dickerson
URL:https://www.abcva.org/event/nec-2020-update-course-9-18-cv/
LOCATION:ABC-VA Central Virginia Training Facility\, ABC-VA Central Virginia Training Facility\, 1600 E Parham Road\, Richmond\, VA\, 23228\, United States
CATEGORIES:Central Virginia
ORGANIZER;CN="Sherrie Dickerson":MAILTO:sherrie@abcva.org
END:VEVENT
END:VCALENDAR