BEGIN:VCALENDAR
VERSION:2.0
PRODID:-//ABC Virginia - ECPv6.15.20//NONSGML v1.0//EN
CALSCALE:GREGORIAN
METHOD:PUBLISH
X-WR-CALNAME:ABC Virginia
X-ORIGINAL-URL:https://www.abcva.org
X-WR-CALDESC:Events for ABC Virginia
REFRESH-INTERVAL;VALUE=DURATION:PT1H
X-Robots-Tag:noindex
X-PUBLISHED-TTL:PT1H
BEGIN:VTIMEZONE
TZID:America/New_York
BEGIN:DAYLIGHT
TZOFFSETFROM:-0500
TZOFFSETTO:-0400
TZNAME:EDT
DTSTART:20240310T070000
END:DAYLIGHT
BEGIN:STANDARD
TZOFFSETFROM:-0400
TZOFFSETTO:-0500
TZNAME:EST
DTSTART:20241103T060000
END:STANDARD
BEGIN:DAYLIGHT
TZOFFSETFROM:-0500
TZOFFSETTO:-0400
TZNAME:EDT
DTSTART:20250309T070000
END:DAYLIGHT
BEGIN:STANDARD
TZOFFSETFROM:-0400
TZOFFSETTO:-0500
TZNAME:EST
DTSTART:20251102T060000
END:STANDARD
BEGIN:DAYLIGHT
TZOFFSETFROM:-0500
TZOFFSETTO:-0400
TZNAME:EDT
DTSTART:20260308T070000
END:DAYLIGHT
BEGIN:STANDARD
TZOFFSETFROM:-0400
TZOFFSETTO:-0500
TZNAME:EST
DTSTART:20261101T060000
END:STANDARD
END:VTIMEZONE
BEGIN:VEVENT
DTSTART;TZID=America/New_York:20250513T073000
DTEND;TZID=America/New_York:20250513T170000
DTSTAMP:20260420T032126
CREATED:20241218T183255Z
LAST-MODIFIED:20250508T162439Z
UID:10001957-1747121400-1747155600@www.abcva.org
SUMMARY:Construction Quality Management 5/13 NV **FULL**
DESCRIPTION:CONSTRUCTION QUALITY MANAGEMENT\n**FULL. Please email Shaye Currie to be put on waitlist and/or register for our next CQM training on July 16.**\nTuesday\, May 13\, 2025  |  7:30AM – 5:00PM  |  ABC-VA Dulles\nThe Construction Quality Management course offers prospective QC Managers and Administrators the opportunity to satisfy the CQM-C training requirements specified in most USACE and NAVFAC construction contracts. This course must be taken and the final test must be passed by any person aspiring to be the QC Manager/Administrator or alternate. The Contractors Quality Control (CQC) requirements and the Governments Quality Assurance (QA) roles are reviewed. Training materials provided. \nA course certificate\, valid for a five-year period from the date of the class\, will be awarded to those who satisfactory complete the training and pass the final exam. At this time\, any person that needs to recertify must attend a class. \nLOCATION\nABC-VA Northern Virginia Training Facility\n42680 Trade West Drive\, Dulles\, VA 20166 \nCOST\nMember – $295\nNon-Member – $395\nContinental breakfast\, lunch & refreshments provided \nCANCELLATION POLICY\nPlease note that a reservation constitutes a financial commitment unless cancellations are made by 5/9/2025 EOD. \nQuestions?\nContact Jenny Tashjian
URL:https://www.abcva.org/event/construction-quality-management-5-13-nv/
LOCATION:ABC-VA Northern Virginia Training Facility\, ABC-VA Northern Virginia Training Facility\, 42680 Trade West Drive\, Dulles\,\, VA\, 20166\, United States
CATEGORIES:Northern Virginia
ORGANIZER;CN="Shaye Currie":MAILTO:shaye@abcva.org
END:VEVENT
END:VCALENDAR