BEGIN:VCALENDAR
VERSION:2.0
PRODID:-//ABC Virginia - ECPv6.15.20//NONSGML v1.0//EN
CALSCALE:GREGORIAN
METHOD:PUBLISH
X-ORIGINAL-URL:https://www.abcva.org
X-WR-CALDESC:Events for ABC Virginia
REFRESH-INTERVAL;VALUE=DURATION:PT1H
X-Robots-Tag:noindex
X-PUBLISHED-TTL:PT1H
BEGIN:VTIMEZONE
TZID:America/New_York
BEGIN:DAYLIGHT
TZOFFSETFROM:-0500
TZOFFSETTO:-0400
TZNAME:EDT
DTSTART:20240310T070000
END:DAYLIGHT
BEGIN:STANDARD
TZOFFSETFROM:-0400
TZOFFSETTO:-0500
TZNAME:EST
DTSTART:20241103T060000
END:STANDARD
BEGIN:DAYLIGHT
TZOFFSETFROM:-0500
TZOFFSETTO:-0400
TZNAME:EDT
DTSTART:20250309T070000
END:DAYLIGHT
BEGIN:STANDARD
TZOFFSETFROM:-0400
TZOFFSETTO:-0500
TZNAME:EST
DTSTART:20251102T060000
END:STANDARD
BEGIN:DAYLIGHT
TZOFFSETFROM:-0500
TZOFFSETTO:-0400
TZNAME:EDT
DTSTART:20260308T070000
END:DAYLIGHT
BEGIN:STANDARD
TZOFFSETFROM:-0400
TZOFFSETTO:-0500
TZNAME:EST
DTSTART:20261101T060000
END:STANDARD
END:VTIMEZONE
BEGIN:VEVENT
DTSTART;TZID=America/New_York:20250113T071500
DTEND;TZID=America/New_York:20250113T170000
DTSTAMP:20260422T103152
CREATED:20241203T181818Z
LAST-MODIFIED:20241203T181818Z
UID:10001910-1736752500-1736787600@www.abcva.org
SUMMARY:Construction Quality Management 1/13 CV
DESCRIPTION:CONSTRUCTION QUALITY MANAGEMENT (CQM)\nMonday\, January 13\, 2025  |  7:15AM – 5:00PM\nDo you want to become more competitive handling government contracts? Do you want to deliver quality\, increase repeat business\, and maintain your reputation\, all while making a profit? If these things are important to you then enroll in Construction Quality Management (CQM) for Contractors\, brought to you by ABC-Virginia\, the U.S. Army Corps of Engineers (USACE)\, and the Naval Facilities Engineering Command (NAVFAC). \nThis required training recognizes that the mutual goal of contractors and the government is a quality end product. This program encourages proactive leadership and emphasizes getting it right the first time. Attendees develop an understanding of how to integrate quality into every aspect of the project from the pre-construction planning to project close-out. \nEnroll in Construction Quality Management and satisfy the government’s requirements. Your certification is issued by the U.S. Army Corps of Engineers and is valid for five years. \nCOST\nMember – $295\nNon-Member – $395\nIncludes breakfast\, lunch and course materials \nLOCATION\nABC-VA Central VA Training Facility\n1600 E Parham Road\, Richmond\, VA 23228 \nCONTACT Kristen Altermatt
URL:https://www.abcva.org/event/construction-quality-management-1-13-cv/
LOCATION:ABC-VA Central Virginia Training Facility\, ABC-VA Central Virginia Training Facility\, 1600 E Parham Road\, Richmond\, VA\, 23228\, United States
CATEGORIES:Central Virginia
ORGANIZER;CN="Kristen Altermatt":MAILTO:kristen@abcva.org
END:VEVENT
BEGIN:VEVENT
DTSTART;TZID=America/New_York:20250114T080000
DTEND;TZID=America/New_York:20250114T160000
DTSTAMP:20260422T103153
CREATED:20241203T183404Z
LAST-MODIFIED:20250109T193042Z
UID:10001916-1736841600-1736870400@www.abcva.org
SUMMARY:OSHA 30-Hour Course 1/14 CV
DESCRIPTION:OSHA 30 HOUR COURSE\nBegins January 14\, 2025  |  8:00AM – 4:00PM\nWould you like to learn how OSHA regulations affect your jobsite? Enroll in our OSHA 30-Hour course and prepare yourself for the OSHA inspection you are not expecting. OSHA 30-Hour is structured for anyone in a supervisory position in the construction industry but also provides comprehensive safety training for all workers. Safety training is a necessity in this industry and is increasingly becoming a requirement on many projects. Knowing OSHA regulations ensures jobsite safety and prevents mishaps and OSHA fines. The OSHA 30 Hour Course combines important textual information with relevant\, real-life examples from the field and video presentations. Enroll and learn OSHA regulations and receive your OSHA 30-Hour completion card. \nSCHEDULE\n4-Session Course: January 14\, 21\, 28 & February 4 (Tuesdays)\n8:00AM – 4:00PM\nContinental breakfast\, pre-packaged snacks\, coffee/water and boxed lunch provided \nLOCATION\nABC-VA Central VA Training Facility\n1600 E Parham Road\, Richmond\, VA 23228 \nCOST\nMember – $495\nNon-Member – $695 \nCANCELLATION POLICY\nPlease note that a reservation constitutes a financial commitment unless cancellations are made 72 hours in advance. Substitutions are welcome at any time if the originally registered individual(s) can no longer attend. \nQuestions?\nContact Sherrie Dickerson
URL:https://www.abcva.org/event/osha-30-hour-course-1-14-cv/
LOCATION:ABC-VA Central Virginia Training Facility\, ABC-VA Central Virginia Training Facility\, 1600 E Parham Road\, Richmond\, VA\, 23228\, United States
CATEGORIES:Central Virginia
ORGANIZER;CN="Sherrie Dickerson":MAILTO:sherrie@abcva.org
END:VEVENT
BEGIN:VEVENT
DTSTART;TZID=America/New_York:20250122T073000
DTEND;TZID=America/New_York:20250122T170000
DTSTAMP:20260422T103153
CREATED:20240923T200853Z
LAST-MODIFIED:20241206T140524Z
UID:10001851-1737531000-1737565200@www.abcva.org
SUMMARY:Construction Quality Management 1/22 NV **FULL**
DESCRIPTION:CONSTRUCTION QUALITY MANAGEMENT\n**FULL. Please email Shaye Currie to be put on waitlist.**\nWednesday\, January 22\, 2025  |  7:30AM – 5:00PM  |  Virtual\nThe Construction Quality Management course offers prospective QC Managers and Administrators the opportunity to satisfy the CQM-C training requirements specified in most USACE and NAVFAC construction contracts. This course must be taken and the final test must be passed by any person aspiring to be the QC Manager/Administrator or alternate. The Contractors Quality Control (CQC) requirements and the Governments Quality Assurance (QA) roles are reviewed. Laptop/desk required. \nA course certificate\, valid for a five-year period from the date of the class\, will be awarded to those who satisfactory complete the training and pass the final exam. At this time\, any person that needs to recertify must attend a class. \nSCHEDULE\nWednesday\, January 22\, 2025\n7:15AM – WebEx Opens\n7:30AM – Class Starts\n5:00PM – Class Ends \nLOCATION\nHosted through WebEx Meetings. All attendees will receive a link prior to class. \nCOST\nMember – $75\nNon-Member – $100 \nCANCELLATION POLICY\nPlease note that a reservation constitutes a financial commitment unless cancellations are made by 01/15/2025 EOD. \nQuestions?\nContact Ernin Stamer
URL:https://www.abcva.org/event/construction-quality-management-1-22-nv/
LOCATION:Virtual
CATEGORIES:Central Virginia,Hampton Roads,Northern Virginia,Statewide
ATTACH;FMTTYPE=image/jpeg:https://www.abcva.org/wp-content/uploads/2023/11/Construction-Quality-Management_abc-virginia_USACE.jpg
ORGANIZER;CN="Shaye Currie":MAILTO:shaye@abcva.org
END:VEVENT
BEGIN:VEVENT
DTSTART;TZID=America/New_York:20250130T073000
DTEND;TZID=America/New_York:20250130T170000
DTSTAMP:20260422T103153
CREATED:20241218T182529Z
LAST-MODIFIED:20250115T180244Z
UID:10001955-1738222200-1738256400@www.abcva.org
SUMMARY:Construction Quality Management 1/30 NV **FULL**
DESCRIPTION:CONSTRUCTION QUALITY MANAGEMENT\n**FULL. Please email Shaye Currie to be put on waitlist and/or register for our next CQM training on March 11.**\nThursday\, January 30\, 2025  |  7:30AM – 5:00PM  |  ABC-VA Dulles\nThe Construction Quality Management course offers prospective QC Managers and Administrators the opportunity to satisfy the CQM-C training requirements specified in most USACE and NAVFAC construction contracts. This course must be taken and the final test must be passed by any person aspiring to be the QC Manager/Administrator or alternate. The Contractors Quality Control (CQC) requirements and the Governments Quality Assurance (QA) roles are reviewed. Training materials provided. \nA course certificate\, valid for a five-year period from the date of the class\, will be awarded to those who satisfactory complete the training and pass the final exam. At this time\, any person that needs to recertify must attend a class. \nSCHEDULE\nThursday\, January 30\, 2025\n7:30AM – 5:00PM \nLOCATION\nABC-VA Northern Virginia Training Facility\n42680 Trade West Drive\, Dulles\, VA 20166 \nCOST\nMember – $295\nNon-Member – $395\nContinental breakfast\, lunch & refreshments provided \nCANCELLATION POLICY\nPlease note that a reservation constitutes a financial commitment unless cancellations are made by 01/27/2025 EOD. \nQuestions?\nContact Erin Stamer
URL:https://www.abcva.org/event/construction-quality-management-1-30-nv/
LOCATION:ABC-VA Northern Virginia Training Facility\, ABC-VA Northern Virginia Training Facility\, 42680 Trade West Drive\, Dulles\,\, VA\, 20166\, United States
CATEGORIES:Northern Virginia
ORGANIZER;CN="Shaye Currie":MAILTO:shaye@abcva.org
END:VEVENT
END:VCALENDAR