BEGIN:VCALENDAR
VERSION:2.0
PRODID:-//ABC Virginia - ECPv6.15.20//NONSGML v1.0//EN
CALSCALE:GREGORIAN
METHOD:PUBLISH
X-WR-CALNAME:ABC Virginia
X-ORIGINAL-URL:https://www.abcva.org
X-WR-CALDESC:Events for ABC Virginia
REFRESH-INTERVAL;VALUE=DURATION:PT1H
X-Robots-Tag:noindex
X-PUBLISHED-TTL:PT1H
BEGIN:VTIMEZONE
TZID:UTC
BEGIN:STANDARD
TZOFFSETFROM:+0000
TZOFFSETTO:+0000
TZNAME:UTC
DTSTART:20230101T000000
END:STANDARD
END:VTIMEZONE
BEGIN:VTIMEZONE
TZID:America/New_York
BEGIN:DAYLIGHT
TZOFFSETFROM:-0500
TZOFFSETTO:-0400
TZNAME:EDT
DTSTART:20230312T070000
END:DAYLIGHT
BEGIN:STANDARD
TZOFFSETFROM:-0400
TZOFFSETTO:-0500
TZNAME:EST
DTSTART:20231105T060000
END:STANDARD
BEGIN:DAYLIGHT
TZOFFSETFROM:-0500
TZOFFSETTO:-0400
TZNAME:EDT
DTSTART:20240310T070000
END:DAYLIGHT
BEGIN:STANDARD
TZOFFSETFROM:-0400
TZOFFSETTO:-0500
TZNAME:EST
DTSTART:20241103T060000
END:STANDARD
BEGIN:DAYLIGHT
TZOFFSETFROM:-0500
TZOFFSETTO:-0400
TZNAME:EDT
DTSTART:20250309T070000
END:DAYLIGHT
BEGIN:STANDARD
TZOFFSETFROM:-0400
TZOFFSETTO:-0500
TZNAME:EST
DTSTART:20251102T060000
END:STANDARD
END:VTIMEZONE
BEGIN:VEVENT
DTSTART;TZID=UTC:20241104T071500
DTEND;TZID=UTC:20241104T170000
DTSTAMP:20260422T142329
CREATED:20231128T155541Z
LAST-MODIFIED:20241101T125155Z
UID:10001608-1730704500-1730739600@www.abcva.org
SUMMARY:Construction Quality Management 11/4 CV
DESCRIPTION:CONSTRUCTION QUALITY MANAGEMENT (CQM)\nMonday\, November 4\, 2024  |  7:15AM – 5:00PM\nDo you want to become more competitive handling government contracts? Do you want to deliver quality\, increase repeat business\, and maintain your reputation\, all while making a profit? If these things are important to you then enroll in Construction Quality Management (CQM) for Contractors\, brought to you by ABC-Virginia\, the U.S. Army Corps of Engineers (USACE)\, and the Naval Facilities Engineering Command (NAVFAC). \nThis required training recognizes that the mutual goal of contractors and the government is a quality end product. This program encourages proactive leadership and emphasizes getting it right the first time. Attendees develop an understanding of how to integrate quality into every aspect of the project from the pre-construction planning to project close-out. \nEnroll in Construction Quality Management and satisfy the government’s requirements. Your certification is issued by the U.S. Army Corps of Engineers and is valid for five years. \nCOST\nMember – $275\nNon-Member – $375\nIncludes breakfast\, lunch and course materials \nLOCATION\nABC-VA Central VA Training Facility\n1600 E Parham Road\, Richmond\, VA 23228 \nCONTACT Kristen Altermatt
URL:https://www.abcva.org/event/construction-quality-management-nov4-cv/
LOCATION:ABC-VA Central Virginia Training Facility\, ABC-VA Central Virginia Training Facility\, 1600 E Parham Road\, Richmond\, VA\, 23228\, United States
CATEGORIES:Central Virginia
ATTACH;FMTTYPE=image/jpeg:https://www.abcva.org/wp-content/uploads/2023/11/Construction-Quality-Management_abc-virginia_USACE.jpg
ORGANIZER;CN="Kristen Altermatt":MAILTO:kristen@abcva.org
END:VEVENT
BEGIN:VEVENT
DTSTART;TZID=America/New_York:20241106T073000
DTEND;TZID=America/New_York:20241106T170000
DTSTAMP:20260422T142329
CREATED:20240820T183756Z
LAST-MODIFIED:20241018T152729Z
UID:10001828-1730878200-1730912400@www.abcva.org
SUMMARY:Construction Quality Management 11/6 NV **FULL**
DESCRIPTION:CONSTRUCTION QUALITY MANAGEMENT (CQM)\n**FULL. Please email Shaye Currie to be put on waitlist or register for our next class on January 22\, 2025.**\nWednesday\, November 6\, 2024  |  7:30AM – 5:00PM\nDo you want to become more competitive handling government contracts? Do you want to deliver quality\, increase repeat business\, and maintain your reputation\, all while making a profit? If these things are important to you then enroll in Construction Quality Management (CQM) for Contractors\, brought to you by ABC-Virginia\, the U.S. Army Corps of Engineers (USACE)\, and the Naval Facilities Engineering Command (NAVFAC). \nThis required training recognizes that the mutual goal of contractors and the government is a quality end product. This program encourages proactive leadership and emphasizes getting it right the first time. Attendees develop an understanding of how to integrate quality into every aspect of the project from the pre-construction planning to project close-out. \nEnroll in Construction Quality Management and satisfy the government’s requirements. Your certification is issued by the U.S. Army Corps of Engineers and is valid for five years. \nSCHEDULE\nWednesday\, November 6\, 2024\n7:30AM – 5:00PM\nContinental breakfast and lunch provided \nLOCATION\nABC-VA Northern Virginia Training Facility\n42680 Trade West Drive\, Dulles\, VA 20166 \nCOST\nMember – $275\nNon-Member – $375 \nCANCELLATION POLICY\nPlease note that a reservation constitutes a financial commitment unless cancellations are made by 10/30/2024. \nQuestions?\nContact Erin Stamer
URL:https://www.abcva.org/event/construction-quality-management-11-6-nv/
LOCATION:ABC-VA Northern Virginia Training Facility\, ABC-VA Northern Virginia Training Facility\, 42680 Trade West Drive\, Dulles\,\, VA\, 20166\, United States
CATEGORIES:Northern Virginia
ATTACH;FMTTYPE=image/jpeg:https://www.abcva.org/wp-content/uploads/2023/11/Construction-Quality-Management_abc-virginia_USACE.jpg
ORGANIZER;CN="Shaye Currie":MAILTO:shaye@abcva.org
END:VEVENT
BEGIN:VEVENT
DTSTART;TZID=UTC:20241119T073000
DTEND;TZID=UTC:20241119T170000
DTSTAMP:20260422T142329
CREATED:20231128T161811Z
LAST-MODIFIED:20240116T152812Z
UID:10001614-1732001400-1732035600@www.abcva.org
SUMMARY:Construction Quality Management 11/19 HR
DESCRIPTION:CONSTRUCTION QUALITY MANAGEMENT (CQM)\nTuesday\, November 19\, 2024  |  7:30AM – 5:00PM\nDo you want to become more competitive handling government contracts? Do you want to deliver quality\, increase repeat business\, and maintain your reputation\, all while making a profit? If these things are important to you then enroll in Construction Quality Management (CQM) for Contractors\, brought to you by ABC-Virginia\, the U.S. Army Corps of Engineers (USACE)\, and the Naval Facilities Engineering Command (NAVFAC). \nThis required training recognizes that the mutual goal of contractors and the government is a quality end product. This program encourages proactive leadership and emphasizes getting it right the first time. Attendees develop an understanding of how to integrate quality into every aspect of the project from the pre-construction planning to project close-out. \nEnroll in Construction Quality Management and satisfy the government’s requirements. Your certification is issued by the U.S. Army Corps of Engineers and is valid for five years. \nSCHEDULE\nTuesday\, November 19\, 2024\n7:30AM – 5:00PM\nContinental breakfast and lunch provided \nLOCATION\nABC-VA Hampton Roads Training Facility\n530 Independence Parkway\, Suite 500\, Chesapeake\, VA 23320\n*Student parking and entrance is in the back of the building.* \nCOST\nMember – $275\nNon-Member – $375 \nCANCELLATION POLICY\nPlease note that a reservation constitutes a financial commitment unless cancellations are made by 11/15/2024. \nQuestions?\nContact Jamie Carrow
URL:https://www.abcva.org/event/construction-quality-management-nov19-hr/
LOCATION:ABC-VA Hampton Roads Training Facility\, Chesapeake\, 530 Independence Parkway\, Suite 500\, Chesapeake\, 23320\, United States
CATEGORIES:Hampton Roads
ATTACH;FMTTYPE=image/jpeg:https://www.abcva.org/wp-content/uploads/2023/11/Construction-Quality-Management_abc-virginia_USACE.jpg
ORGANIZER;CN="Rachel Fronius":MAILTO:rachel@abcva.org
END:VEVENT
END:VCALENDAR