BEGIN:VCALENDAR
VERSION:2.0
PRODID:-//ABC Virginia - ECPv6.15.20//NONSGML v1.0//EN
CALSCALE:GREGORIAN
METHOD:PUBLISH
X-ORIGINAL-URL:https://www.abcva.org
X-WR-CALDESC:Events for ABC Virginia
REFRESH-INTERVAL;VALUE=DURATION:PT1H
X-Robots-Tag:noindex
X-PUBLISHED-TTL:PT1H
BEGIN:VTIMEZONE
TZID:America/New_York
BEGIN:DAYLIGHT
TZOFFSETFROM:-0500
TZOFFSETTO:-0400
TZNAME:EDT
DTSTART:20250309T070000
END:DAYLIGHT
BEGIN:STANDARD
TZOFFSETFROM:-0400
TZOFFSETTO:-0500
TZNAME:EST
DTSTART:20251102T060000
END:STANDARD
BEGIN:DAYLIGHT
TZOFFSETFROM:-0500
TZOFFSETTO:-0400
TZNAME:EDT
DTSTART:20260308T070000
END:DAYLIGHT
BEGIN:STANDARD
TZOFFSETFROM:-0400
TZOFFSETTO:-0500
TZNAME:EST
DTSTART:20261101T060000
END:STANDARD
BEGIN:DAYLIGHT
TZOFFSETFROM:-0500
TZOFFSETTO:-0400
TZNAME:EDT
DTSTART:20270314T070000
END:DAYLIGHT
BEGIN:STANDARD
TZOFFSETFROM:-0400
TZOFFSETTO:-0500
TZNAME:EST
DTSTART:20271107T060000
END:STANDARD
END:VTIMEZONE
BEGIN:VEVENT
DTSTART;TZID=America/New_York:20260423T120000
DTEND;TZID=America/New_York:20260423T140000
DTSTAMP:20260423T044619
CREATED:20260326T132837Z
LAST-MODIFIED:20260326T132837Z
UID:10002425-1776945600-1776952800@www.abcva.org
SUMMARY:Bluebeam Materials Takeoffs & Estimates • Basics 4/23 [VIRTUAL]
DESCRIPTION:Bluebeam Materials Takeoffs & Estimates • Basics (Virtual)\nThursday\, April 23\, 2026  |  12:00PM – 2:00PM \n*Mandatory Pre-requisite – Baseline Basics (Option 1 – April 21) / Baseline Basics (Option 2 – April 22). Please use one of the preceding links if you would like to purchase the 3-class bundle. \nOffered by the certified instructors at UChapter2\, this course introduces standard measurement tools and markup customization options to help convert your highlighters into powerful takeoff tools. With emphasis on the Markups List and workflow tips\, this **Bluebeam software course** helps estimators improve speed and accuracy from day one. \nLearning Objectives:\n• Introduction to Viewports\n• Measurement Tips & Tricks\n• Custom Estimating Tools \nInstructor: Troy DeGroot\, Bluebeam Certified Instructor\, UChapter2 | Owner\nTroy DeGroot is a globally recognized Bluebeam Certified Instructor\, Consultant\, and Implementation Specialist\, known for delivering practical\, workflow-based training courses that empower construction professionals to get results. As the founder of uchapter2.com\, Troy trains over 4\,000 professionals each year\, helping teams streamline processes with custom tools and implementation strategies built around their real-world needs. \nWith 30+ years in the design and construction industry\, Troy brings a unique ability to align technology\, team goals\, and field workflows. Having served as the BIM Manager for a large\, multi-discipline engineering firm\, he understands both the day-to-day challenges of software\, project teams\, and the strategic priorities of leadership. \nTroy is a featured speaker at national and international events—including AIA chapters and major industry conferences like Bluebeam’s Unbound Conference (formerly XCON). Widely regarded as one of the leading authorities in the Bluebeam ecosystem\, he’s known for making complex tools easy to understand\, and training that sticks. \nVisit our Bluebeam page for more information on the entire program. \nCOURSE CONTACT\nMeredith Strahan
URL:https://www.abcva.org/event/bluebeam-materials-takeoffs-estimates-basics-apr23/
LOCATION:Virtual
CATEGORIES:Central Virginia,Hampton Roads,Northern Virginia,Statewide
ORGANIZER;CN="Meredith Strahan":MAILTO:meredith@abcva.org
END:VEVENT
BEGIN:VEVENT
DTSTART;TZID=America/New_York:20260424T120000
DTEND;TZID=America/New_York:20260424T140000
DTSTAMP:20260423T044619
CREATED:20260402T185536Z
LAST-MODIFIED:20260402T185536Z
UID:10002433-1777032000-1777039200@www.abcva.org
SUMMARY:Bluebeam Materials Takeoffs & Estimates • Advanced 4/24 [VIRTUAL]
DESCRIPTION:Bluebeam Materials Takeoffs & Estimates • Advanced (Virtual)\nFriday\, April 24\, 2026  |  12:00PM – 2:00PM \n*Mandatory Pre-requisite – Baseline Basics (Option 1 – April 21) / Baseline Basics (Option 2 – April 22). Please use one of the preceding links if you would like to purchase the 3-class bundle. \nThis advanced class from UChapter2 takes your estimating to the next level. Learn to create custom columns\, embed formulas\, organize information\, and export or live-link to Excel templates. Estimators gain immediate\, real-world skills they can put to work on the very next bid. \nLearning Objectives:\n• Custom Estimating Tools (Continued from “Material Takeoffs & Estimates-Basics”)\n• Collecting Rich Data with Custom Columns\n• Reports and Exporting Data \nInstructor: Troy DeGroot\, Bluebeam Certified Instructor\, UChapter2 | Owner\nTroy DeGroot is a globally recognized Bluebeam Certified Instructor\, Consultant\, and Implementation Specialist\, known for delivering practical\, workflow-based training courses that empower construction professionals to get results. As the founder of uchapter2.com\, Troy trains over 4\,000 professionals each year\, helping teams streamline processes with custom tools and implementation strategies built around their real-world needs. \nWith 30+ years in the design and construction industry\, Troy brings a unique ability to align technology\, team goals\, and field workflows. Having served as the BIM Manager for a large\, multi-discipline engineering firm\, he understands both the day-to-day challenges of software\, project teams\, and the strategic priorities of leadership. \nTroy is a featured speaker at national and international events—including AIA chapters and major industry conferences like Bluebeam’s Unbound Conference (formerly XCON). Widely regarded as one of the leading authorities in the Bluebeam ecosystem\, he’s known for making complex tools easy to understand\, and training that sticks. \nVisit our Bluebeam page for more information on the entire program. \nCOURSE CONTACT\nMeredith Strahan
URL:https://www.abcva.org/event/bluebeam-materials-takeoffs-estimates-advanced-4-24-virtual-2/
LOCATION:Virtual
CATEGORIES:Central Virginia,Hampton Roads,Northern Virginia,Statewide
ORGANIZER;CN="Meredith Strahan":MAILTO:meredith@abcva.org
END:VEVENT
BEGIN:VEVENT
DTSTART;TZID=America/New_York:20260427T080000
DTEND;TZID=America/New_York:20260427T160000
DTSTAMP:20260423T044619
CREATED:20260306T163042Z
LAST-MODIFIED:20260306T163042Z
UID:10002396-1777276800-1777305600@www.abcva.org
SUMMARY:OSHA 3015 – Excavation\, Trenching And Soil Mechanics 4/27 CV
DESCRIPTION:OSHA 3015 – EXCAVATION\, TRENCHING AND SOIL MECHANICS\nThis is a Chesapeake Region Safety Council course – REGISTER HERE\nApril 27 – 29\, 2026  |  8:00AM – 4:00PM\nOffered by Mid Atlantic OTI Education Center\, this course will be held at the ABC-VA Central Virginia Training Facility\, Host Training Organization\n \nThis course covers the OSHA Excavation Standard and safety and health aspects of excavation and trenching.  Course topics include practical soil mechanics and its relationship to the stability of shored and unshored slopes and walls of excavations\, introduction of various types of shoring (wood timbers and hydraulic)\, soil classification\, and use of protective systems.  Testing methods are demonstrated and students participate in workshops in the use of instruments such as penetrometers\, torvane shears\, and engineering rods.  Upon course completion students will have the ability to assess their employer’s compliance with the OSHA Excavation Standard\, utilize soil testing methods to classify soil types\, determine protective systems for excavation operations\, and training requirements. \nOSHA 3015 and the EXCAVATION\, TRENCHING & SOIL MECHANICS TRAINER Course Combined Presented by the Chesapeake Region Safety Council  is recommended for inspectors\, auditors\, safety and health professionals and those personnel responsible for writing\, auditing\, or training employees with an active role in trenching and excavations. This course was developed and designed to educate participants to train about all aspects of 29 CFR 1926 Subpart P Excavations.  Note that the OSHA 3015 (3 day course) and Excavation\, Trenching & Soil Mechanics Trainer course (1 day) are independent and must be registered for separately. \nPlease note\, you must pass the exam with an 80% or higher to attend the following Trainer Course \nStudent Contact Hours: 20\nPrerequisites: None\nCourse Includes: Student materials\, lunch and refreshments \nLOCATION\nABC-VA Central Virginia Training Facility\n1600 E Parham Road\, Richmond\, VA 23228 \nCOST\n$795 \nSCHEDULE\nPlease visit CRSC registration link above
URL:https://www.abcva.org/event/osha-3015-excavation-trenching-and-soil-mechanics-4-27-cv/
LOCATION:ABC-VA Central Virginia Training Facility\, ABC-VA Central Virginia Training Facility\, 1600 E Parham Road\, Richmond\, VA\, 23228\, United States
CATEGORIES:Central Virginia
END:VEVENT
BEGIN:VEVENT
DTSTART;TZID=America/New_York:20260428T063000
DTEND;TZID=America/New_York:20260428T183000
DTSTAMP:20260423T044619
CREATED:20260311T125231Z
LAST-MODIFIED:20260403T180331Z
UID:10002402-1777357800-1777401000@www.abcva.org
SUMMARY:Hampton Roads Spring Golf Tournament 4/28 HR
DESCRIPTION:HAMPTON ROADS SPRING GOLF TOURNAMENT\nTuesday\, April 28\, 2026  |  See detailed schedule below\nJoin ABC Virginia members for a fun day on the green at our annual Spring Golf Tournament! We are offering two shotgun starts to accommodate our early birds and afternoon aficionados. \n**Limited spots remaining. Please contact Rob Camlin / (757) 855-8220 for availability.**\nRegistration deadline is April 21\, however\, this tournament always sells out\, so register early! \n**MEMBERS ONLY EVENT**\nSPONSORSHIP OPPORTUNITIES\nSecond price reflects discount to sponsor both 2025 spring and fall tournaments\nHole Sponsor: $200/$350\nHole Sponsor & BYO Tent: $300/$400\nRange Sponsor: $300/$500\nPutting Contest Sponsor: $300/$500\nBreakfast Sponsor: $500 (Spring only)\nBloody Mary & Mimosa Bar Sponsor: $500 (Spring only)\nLunch Sponsor: $500/$900\nGolf Cart Sponsor: $500/$900\nBeverage Cart Sponsor: $500/$900\nReception Sponsor: $600/$1000\nSelect during registration or email Maddy Goulden to register as a sponsor! \nPlease note: sponsorships are available to ABC-VA members only. Interested in learning more about the benefits of membership? Reach out to Rob Camlin! \nSPONSORS – THANK YOU!\n \nSCHEDULE\n \n\n\n\nMorning Shotgun (80 players max) \n6:30AM Check-in and breakfast\n7:30AM Shotgun Start \nLunch and prizes following play\nAfternoon Shotgun (120 players max) \n11:30AM Check-in and lunch\n1:00PM Shotgun Start \nDinner and prizes following play\n\n\n\n\nLOCATION\nCypress Point Country Club\n5340 Club Head Road\, Virginia Beach\, VA \nCOST\nMembers Only event: $250* per player  |  $900* per foursome\n*Portion of proceeds will go directly to support ABC-VA State PAC \nSUBSTITUTIONS/CANCELLATIONS POLICY\nSubstitutions are welcome at any time if the originally registered individual(s) can no longer attend. Cancellations must be made in writing by 5PM on April 21\, 2026. \nQuestions?\nContact Rob Camlin
URL:https://www.abcva.org/event/hrspring26/
LOCATION:Cypress Point Country Club\, 5340 Club Head Road\, Virginia Beach\, VA\, 23455\, United States
CATEGORIES:Hampton Roads
ORGANIZER;CN="Maddy Goulden":MAILTO:maddy@abcva.org
END:VEVENT
BEGIN:VEVENT
DTSTART;TZID=America/New_York:20260428T120000
DTEND;TZID=America/New_York:20260428T140000
DTSTAMP:20260423T044619
CREATED:20260325T144830Z
LAST-MODIFIED:20260325T144830Z
UID:10002419-1777377600-1777384800@www.abcva.org
SUMMARY:Bluebeam for Administrative Professionals 4/28 [VIRTUAL]
DESCRIPTION:Bluebeam for Administrative Professionals (Virtual)\nTuesday\, April 28\, 2026  |  12:00PM – 2:00PM \nThis course—tailored by UChapter2 specifically for administrative professionals—focuses on document prep and control tasks often overlooked in traditional Bluebeam software training. Learn to combine PDFs\, apply redactions\, use digital signatures\, and manage key admin workflows with confidence. \nLearning Objectives:\n• Extracting pages from existing documents\n• Use Redaction to quickly clean sensitive information from documents\n• Creating and applying digital signatures\n• Updating Page Labels\n• Applying headers and footers\n• Search document text and visual symbols\n• Apply stamps\n• Flag important content in documents \nInstructor: Troy DeGroot\, Bluebeam Certified Instructor\, UChapter2 | Owner\nTroy DeGroot is a globally recognized Bluebeam Certified Instructor\, Consultant\, and Implementation Specialist\, known for delivering practical\, workflow-based training courses that empower construction professionals to get results. As the founder of uchapter2.com\, Troy trains over 4\,000 professionals each year\, helping teams streamline processes with custom tools and implementation strategies built around their real-world needs. \nWith 30+ years in the design and construction industry\, Troy brings a unique ability to align technology\, team goals\, and field workflows. Having served as the BIM Manager for a large\, multi-discipline engineering firm\, he understands both the day-to-day challenges of software\, project teams\, and the strategic priorities of leadership. \nTroy is a featured speaker at national and international events—including AIA chapters and major industry conferences like Bluebeam’s Unbound Conference (formerly XCON). Widely regarded as one of the leading authorities in the Bluebeam ecosystem\, he’s known for making complex tools easy to understand\, and training that sticks. \nVisit our Bluebeam page for more information on the entire program. \nCOST\nABC-VA Members — $121\nNon-Members — $182 \nCOURSE CONTACT\nMeredith Strahan
URL:https://www.abcva.org/event/bluebeam-for-administrative-professionals-4-28-virtual/
LOCATION:Virtual
CATEGORIES:Central Virginia,Hampton Roads,Northern Virginia,Statewide
ORGANIZER;CN="Meredith Strahan":MAILTO:meredith@abcva.org
END:VEVENT
BEGIN:VEVENT
DTSTART;TZID=America/New_York:20260428T163000
DTEND;TZID=America/New_York:20260428T190000
DTSTAMP:20260423T044619
CREATED:20260325T201035Z
LAST-MODIFIED:20260422T191406Z
UID:10002422-1777393800-1777402800@www.abcva.org
SUMMARY:Young Professionals: Built in NoVA — Data Centers & the Workforce Behind the Boom [Panel & Networking] 4/28 NV
DESCRIPTION:YOUNG PROFESSIONALS: Built in NoVA — Data Centers & the Workforce Behind the Boom [PANEL & NETWORKING]\nTuesday\, April 28\, 2026  |  4:30PM – 7:00PM\nData centers are driving unprecedented growth across our region and the nation – fueling everything from cloud computing and AI to the digital infrastructure we rely on every day. As demand accelerates\, so does the need for skilled labor to design\, build\, and maintain these complex facilities. \nAt the same time\, the construction industry continues to face a critical workforce shortage\, creating both challenges and opportunities for the next generation of professionals. \nJoin us for an engaging panel discussion featuring industry leaders who are at the forefront of the data center boom. We’ll explore how rapid growth is reshaping the construction landscape\, what the labor shortage means for project delivery and innovation\, and how young professionals can position themselves for success in this evolving market. \nThe program will include a moderated discussion followed by an interactive Q&A\, giving attendees the opportunity to gain insights\, ask questions\, and connect with peers navigating similar career paths. After the panel\, head over to Honor Brewing next door to ABC-VA Dulles for fun networking over drinks and appetizers! \nPANELISTS\nKylie Brewis\, Construction Trade Account Manager | Aerotek | Moderator\nMatt Hopke\, President | William B. Hopke Co.\, Inc. | Panelist\nCollin McShane\, Senior Project Manager\, Mission Critical | E.E. Reed East Coast | Panelist\nMike Veltri\, Field Recruiting Manager Engineering & Construction | M.C. Dean\, Inc. | Panelist\nAnna Carter\, Senior Project Manager | HITT Contracting | Panelist \nSPONSORSHIP OPPORTUNITIES Commitments needed by April 16 COB\nEvent $150 – includes one (1) comped registration\, signage at event\, logo/name on marketing materials \nSPONSORS – THANK YOU!        \n                 \nLOCATION\nPanel Event: ABC-VA Northern Virginia Training Facility\, 42680 Trade West Drive\, Dulles\, VA 20166\nPost-Event Networking: Honor Brewing\, 42604 Trade West Drive\, Dulles\, VA 20166 \nCOST\nMembers – $50\nNon-Members – $75\nIncludes panel discussion\, heavy apps and two (2) drink tickets \nSUBSTITUTION/CANCELLATION POLICY\nSubstitutions are welcome at any time if the originally registered individual can no longer attend. Please note that a reservation constitutes a financial commitment unless cancellations are made 48 hours in advance. \nQuestions?\nContact Katie Gregg
URL:https://www.abcva.org/event/builtinnova/
LOCATION:ABC-VA Northern Virginia Training Facility\, ABC-VA Northern Virginia Training Facility\, 42680 Trade West Drive\, Dulles\,\, VA\, 20166\, United States
CATEGORIES:Northern Virginia
ATTACH;FMTTYPE=image/jpeg:https://www.abcva.org/wp-content/uploads/2026/03/NV-YP-Data-CentersWorkforceAPR28-scaled.jpg
ORGANIZER;CN="Katie Gregg":MAILTO:katieg@abcva.org
END:VEVENT
BEGIN:VEVENT
DTSTART;TZID=America/New_York:20260429T113000
DTEND;TZID=America/New_York:20260429T133000
DTSTAMP:20260423T044619
CREATED:20260202T185029Z
LAST-MODIFIED:20260324T185644Z
UID:10002369-1777462200-1777469400@www.abcva.org
SUMMARY:Submittal Management Seminar 4/29 HR
DESCRIPTION:SUBMITTAL MANAGEMENT SEMINAR\nWednesday\, April 29\, 2026  |  11:30AM – 1:30PM  |  Lunch provided\nLearn to correctly complete the submittals process insuring on-time and in-budget construction. This seminar will provide information on the responsibilities of suppliers\, subcontractors\, general contractors\, architects\, and engineers. Attendees will learn how to create proper submittal packages from start to finish using contract documents as well as learn key details that can save the company time and money. \nThis seminar is geared towards subcontracting firms and supplier companies who would like more insight into how the submittal process works and how they can achieve timeliness and success with their packages. Learn the role and importance submittal packages have in the construction process and how to achieve an approval the first time. \nINSTRUCTOR – Eric Rash\, Submittal Manager\, Heartland Construction\, Inc.\nAs Submittal Manager\, Eric is responsible for overseeing the submission and approval process of technical documents\, including shop drawings\, product data\, and samples for construction projects. This role involves ensuring all submittals comply with project specifications and contract requirements\, coordinating with architects\, engineers\, contractors\, and suppliers to facilitate effective communication and timely approvals. \nLOCATION\nABC-VA Hampton Roads Training Facility\n530 Independence Parkway\, Suite 500\, Chesapeake\, VA 23320 \nCOST\nMembers $67\nNon-members $97\nLunch provided \nCANCELLATION POLICY\nPlease note that a reservation constitutes a financial commitment unless cancellations are made 48 hours in advance. Substitutions are welcome at any time if the originally registered individual(s) are no longer available. \nCOURSE CONTACT\nContact Meredith Strahan
URL:https://www.abcva.org/event/submittal-management-seminar-apr29-hr/
LOCATION:ABC-VA Hampton Roads Training Facility\, Chesapeake\, 530 Independence Parkway\, Suite 500\, Chesapeake\, 23320\, United States
CATEGORIES:Hampton Roads
ORGANIZER;CN="Meredith Strahan":MAILTO:meredith@abcva.org
END:VEVENT
BEGIN:VEVENT
DTSTART;TZID=America/New_York:20260429T140000
DTEND;TZID=America/New_York:20260429T160000
DTSTAMP:20260423T044619
CREATED:20260202T201810Z
LAST-MODIFIED:20260324T185703Z
UID:10002370-1777471200-1777478400@www.abcva.org
SUMMARY:Project Closeout Seminar 4/29 HR
DESCRIPTION:PROJECT CLOSEOUT SEMINAR\nWednesday\, April 29\, 2026 |  2:00PM – 4:00PM\nLearning how to successfully close out a project is an essential aspect of this business. Each student will leave with the skills and confidence to create and implement a logical process and an efficient environment that will promote a complete close-out. This seminar is for administrative employees\, superintendents\, and project managers of general contractors and specialty contractors. \nAttendees will learn:\n• The “Ten Commandments” of project close-out\n• Project close-out strategy\n• The project close-out timeline\n• Field operations specifics\n• The engineering close-out matrix\n• The financial close-out matrix\n• The project close-out scorecard\n• The 10-month walk-through process\n• The instructor’s focus will be teaching this organized and logical process and providing students with a solid basis to improve closing out their projects. \nINSTRUCTOR – Eric Rash\, Submittal Manager\, Heartland Construction\, Inc.\nAs Submittal Manager\, Eric is responsible for overseeing the submission and approval process of technical documents\, including shop drawings\, product data\, and samples for construction projects. This role involves ensuring all submittals comply with project specifications and contract requirements\, coordinating with architects\, engineers\, contractors\, and suppliers to facilitate effective communication and timely approvals. \nLOCATION\nABC-VA Hampton Roads Training Facility\n530 Independence Parkway\, Suite 500\, Chesapeake\, VA 23320 \nCOST\nMembers $67\nNon-members $97 \nCANCELLATION POLICY\nPlease note that a reservation constitutes a financial commitment unless cancellations are made 48 hours in advance. Substitutions are welcome at any time if the originally registered individual(s) are no longer available. \nCOURSE CONTACT\nContact Meredith Strahan \n 
URL:https://www.abcva.org/event/project-closeout-seminar-apr29-hr/
LOCATION:ABC-VA Hampton Roads Training Facility\, Chesapeake\, 530 Independence Parkway\, Suite 500\, Chesapeake\, 23320\, United States
CATEGORIES:Hampton Roads
ORGANIZER;CN="Meredith Strahan":MAILTO:meredith@abcva.org
END:VEVENT
BEGIN:VEVENT
DTSTART;TZID=America/New_York:20260430T080000
DTEND;TZID=America/New_York:20260430T160000
DTSTAMP:20260423T044619
CREATED:20260120T200056Z
LAST-MODIFIED:20260130T193238Z
UID:10002349-1777536000-1777564800@www.abcva.org
SUMMARY:NFPA 70 E - Electrical Safe Work Practices 4/30 HR
DESCRIPTION:NFPA 70E ELECTRICAL SAFE WORK PRACTICES\nThis is a Chesapeake Region Safety Council Course – REGISTER HERE\nApril 30\, 2026  |  8:00AM – 4:00PM\nNFPA 70E compliance saves lives\, reduces liability\, and helps avoid unexpected downtime and revenue loss. \nLearn what’s new & what’s changed in the NEW 2024 NFPA 70E. \nIn a fraction of a second\, an electrical incident can claim lives and cause permanently disabling injuries. In fact\, hundreds of deaths and thousands of burn injuries occur each year due to shock\, electrocution\, arc flash\, and arc blast — and most could be prevented through compliance with NFPA 70E: Standard for Electrical Safety in the Workplace®. Originally developed at OSHA’s request\, NFPA 70E responds to the latest information about the effects of arc flash\, arc blast\, and direct current (dc) hazards\, and recent developments in electrical design and Personal Protective Equipment (PPE). \nElectrical equipment and electrical safety devices are constantly being changed and improved\, hence why your electrical safety program must address those changes. The NFPA 70E  2024 edition addresses these changes. This standard is used not only by facility managers and safety officers\, but also by OSHA inspectors\, continually educating them on existing trends in electrical safety. \nCourse Highlights \n\nAre qualified persons required to complete a Job Safety Analysis (JSA) before starting work?\nWhat should we look for in PPE labels?\nArc flash and shock hazard risk assessment now include the “potential of human error.”\nElectrical safety programs must include a section on how to investigate an incident/accident.\n\nCourse Includes: The 2024 NFPA 70E Edition and a participant book. \nCOST\nMembers: $325\nNon-Members: $425\nIncludes snacks and course materials \nLOCATION\nABC-VA Hampton Roads Training Facility\n530 Independence Parkway\, Suite 500\, Chesapeake\, VA 23320\n**Student parking and entrance is in the back of the building.**
URL:https://www.abcva.org/event/nfpa-70e-safe-work-april-30/
END:VEVENT
BEGIN:VEVENT
DTSTART;TZID=America/New_York:20260430T080000
DTEND;TZID=America/New_York:20260430T160000
DTSTAMP:20260423T044619
CREATED:20260306T163242Z
LAST-MODIFIED:20260318T133505Z
UID:10002397-1777536000-1777564800@www.abcva.org
SUMMARY:Excavation\, Trenching & Soil Mechanics Trainer 4/30 CV
DESCRIPTION:EXCAVATION\, TRENCHING AND SOIL MECHANICS TRAINER\nThis is a Chesapeake Region Safety Council course – REGISTER HERE\nApril 30\, 2026  |  8:00AM – 4:00PM\nThis Trainer Course in Trenching and Excavation is recommended for inspectors\, auditors\, safety and health professionals and those personnel responsible for writing\, auditing\, or training employees with an active role in trenching and excavations. This course was developed and designed to educate participants to train about all aspects of 29 CFR 1926 Subpart P Excavations. \n\nPrerequisite: In order to attend this course you must have completed the OSHA 3015 EXCAVATION\, TRENCHING AND SOIL MECHANICS course within the last 12 months and provide the CRSC with a copy of your course completion certificate. \nObjective: This program provides the elements to develop a good Trenching and Excavation Training Program to include: \n\nDetermine training needs\nIdentify goals and objectives\n Develop learning activities   (i.e.\, lecture\, on-the-job\, hands-on\, discussion\, or a combination of all of these)\nConduct the training – each student will be responsible to develop and present an assigned topic on Trenching and Excavations to the class and be evaluated on that presentation.\nEvaluate the Training Program\n\nCourse Includes: A student binder and a USB which includes: \n\nPowerPoint Presentations\nVideo clips\nTest questions\nAdditional resource information for\nTrenching and Excavations.\n\nPlease note\, to register for this course you must have completed the OSHA 3015 EXCAVATION\, TRENCHING AND SOIL MECHANICS and pass the course exam with an 80% or higher. \n\nLOCATION\nABC-VA Central Virginia Training Facility\n1600 E Parham Road\, Richmond\, VA 23228 \nCOST\nMember – $275\nNon-Member – $375 \nSCHEDULE\nPlease visit CRSC registration link above
URL:https://www.abcva.org/event/excavation-trenching-soil-mechanics-trainer-4-20-cv/
LOCATION:ABC-VA Central Virginia Training Facility\, ABC-VA Central Virginia Training Facility\, 1600 E Parham Road\, Richmond\, VA\, 23228\, United States
CATEGORIES:Central Virginia
END:VEVENT
BEGIN:VEVENT
DTSTART;TZID=America/New_York:20260430T113000
DTEND;TZID=America/New_York:20260430T133000
DTSTAMP:20260423T044619
CREATED:20260318T140912Z
LAST-MODIFIED:20260323T142550Z
UID:10002411-1777548600-1777555800@www.abcva.org
SUMMARY:Beyond the Hype 2.0: A.I. Use Cases Across the Project Lifecycle • Roundtable 4/30 CV
DESCRIPTION:BEYOND THE HYPE 2.0: A.I. USE CASES ACROSS THE PROJECT LIFECYCLE • ROUNDTABLE\nThursday\, April 30\, 2026  |  11:30AM – 1:30PM\nIn our last session\, we held an open discussion focused on A.I. making real-world impact in our industry and implementation strategies. We’re back with round two\, this time focusing on real A.I. use cases across the project lifecycle. Participants are encouraged to bring real examples of how they are using (or have tried to use) A.I. on active or recent projects\, including what worked\, what didn’t\, and lessons learned. \nEvent Agenda:\n1. AI Use Cases Across the Project Lifecycle – Preconstruction & Estimating\, Project Management\n2. AI Tools and how to use them effectively (Copilot\, ChatGPT\, Claude)\n3. Risk Management & Escalation – What AI handles & what requires review\n4. Open Discussion – What’s working\, what’s not\, priority pilot workflows\, and ownership/follow-up actions \nDidn’t make it to the first session? No problem! Anyone interested in real-use cases of A.I. in construction are encouraged to join us. Seats are limited to provide for open and honest discussion. \nWho should attend: Construction Executives & Project Managers\, Preconstruction and Estimators\, and anyone exploring AI’s role in operations\, safety\, or design \nLunch provided\nSPEAKERS\nMonty Lay\, Director of Preconstruction\, ColonialWebb Contractors\nShane Oberholtzer\, President\, eTEC Mechanical Corporation \nLOCATION\nABC-VA Central Virginia Training Facility\n1600 E Parham Road\, Richmond\, VA 23228 \nCOST \nMembers – $67\nNon-Members – $97 \nSUBSTITUTION/CANCELLATION POLICY\nSubstitutions are always welcome if the originally registered individual(s) can no longer attend. Written notice to cancel and receive a refund must be received by 5PM on April 27\, 2026. \nQuestions?\nContact Kristen Altermatt
URL:https://www.abcva.org/event/beyondthehype-2-0/
LOCATION:ABC-VA Central Virginia Training Facility\, ABC-VA Central Virginia Training Facility\, 1600 E Parham Road\, Richmond\, VA\, 23228\, United States
CATEGORIES:Central Virginia
ATTACH;FMTTYPE=image/jpeg:https://www.abcva.org/wp-content/uploads/2026/03/CV-AI-Roundtable-APR30-scaled.jpg
ORGANIZER;CN="Rebeca Reyes":MAILTO:rebeca@abcva.org
END:VEVENT
END:VCALENDAR