BEGIN:VCALENDAR
VERSION:2.0
PRODID:-//ABC Virginia - ECPv6.15.20//NONSGML v1.0//EN
CALSCALE:GREGORIAN
METHOD:PUBLISH
X-WR-CALNAME:ABC Virginia
X-ORIGINAL-URL:https://www.abcva.org
X-WR-CALDESC:Events for ABC Virginia
REFRESH-INTERVAL;VALUE=DURATION:PT1H
X-Robots-Tag:noindex
X-PUBLISHED-TTL:PT1H
BEGIN:VTIMEZONE
TZID:America/New_York
BEGIN:DAYLIGHT
TZOFFSETFROM:-0500
TZOFFSETTO:-0400
TZNAME:EDT
DTSTART:20240310T070000
END:DAYLIGHT
BEGIN:STANDARD
TZOFFSETFROM:-0400
TZOFFSETTO:-0500
TZNAME:EST
DTSTART:20241103T060000
END:STANDARD
BEGIN:DAYLIGHT
TZOFFSETFROM:-0500
TZOFFSETTO:-0400
TZNAME:EDT
DTSTART:20250309T070000
END:DAYLIGHT
BEGIN:STANDARD
TZOFFSETFROM:-0400
TZOFFSETTO:-0500
TZNAME:EST
DTSTART:20251102T060000
END:STANDARD
BEGIN:DAYLIGHT
TZOFFSETFROM:-0500
TZOFFSETTO:-0400
TZNAME:EDT
DTSTART:20260308T070000
END:DAYLIGHT
BEGIN:STANDARD
TZOFFSETFROM:-0400
TZOFFSETTO:-0500
TZNAME:EST
DTSTART:20261101T060000
END:STANDARD
END:VTIMEZONE
BEGIN:VEVENT
DTSTART;TZID=America/New_York:20251208T140000
DTEND;TZID=America/New_York:20251208T150000
DTSTAMP:20260419T091936
CREATED:20251113T164815Z
LAST-MODIFIED:20251113T164851Z
UID:10002234-1765202400-1765206000@www.abcva.org
SUMMARY:Power Up Your Membership: ABC Discounts & Perks You Can't Miss [Free & Virtual] 12/8
DESCRIPTION:POWER UP YOUR MEMBERSHIP: ABC DISCOUNTS & PERKS YOU CAN’T MISS – WEBINAR\nMonday\, December 8\, 2025  |  2:00PM – 3:00PM\nUnlock the full value of your ABC membership! \nDid you know ABC members gain access to exclusive cost-saving discounts on the essentials your business uses every day: commercial vehicles\, materials\, tools\, payroll and accounting platforms\, fuel programs and more? Plus\, your employees enjoy perks too\, including savings on personal vehicles\, auto insurance\, hotels\, and cell phone plans. \nJoin us for a webinar with Mark Leibman of ABC National\, who will walk you through the wide range of business discounts\, strategic partners\, and easy enrollment instructions. You’ll also discover ABC’s powerful suite of construction technology and digital solutions designed to help contractors strengthen their tech strategies and grow their competitive edge. \nDon’t leave member benefits on the table – learn how to maximize them! \nPlease note: registration will close Monday\, December 8\, at 12PM.\nLOCATION\nVirtual\nA meeting link will be sent to registered attendees within 24 hours of webinar. \nCOST\nFREE\, however registration is required to receive meeting link \nQuestions?\nContact Katie Gregg
URL:https://www.abcva.org/event/discounts25/
LOCATION:Virtual
CATEGORIES:Central Virginia,Hampton Roads,Northern Virginia,Statewide
ORGANIZER;CN="Katie Gregg":MAILTO:katieg@abcva.org
END:VEVENT
BEGIN:VEVENT
DTSTART;TZID=America/New_York:20251209T140000
DTEND;TZID=America/New_York:20251209T150000
DTSTAMP:20260419T091936
CREATED:20251130T211547Z
LAST-MODIFIED:20251130T211547Z
UID:10002236-1765288800-1765292400@www.abcva.org
SUMMARY:2026 Legislative Session\, PLAs & the Changing Political Landscape 12/9
DESCRIPTION:2026 LEGISLATIVE SESSION\, PLAs & THE CHANGING POLITICAL LANDSCAPE\nTuesday\, December 9\, 2025  |  2:00PM – 3:00PM\nThis session will review the current status of the chapter’s legislative efforts. We will take a look at the potential legislation that will be voted on in the 2026 session and also fill you in on our efforts to battle PLAs with our Virginians for Fairness Coalition. \nSPEAKERS\nPatrick Dean\, ABC-VA President\nJulia Hammond\, Cozen O’Connor and ABC-VA Lobbyist\nEric Stichler\, President of Heartland Construction\, ABC-VA Legislative Committee Chair\, ABC-VA Chairman 2023 \nAs Joe Rodgers\, former Ambassador to France and past ABC National Chairman famously said\, “Get into politics or get out of business”. \nPlease note: registration will close Monday\, December 8\, at 5PM.\nLOCATION\nVirtual\nA meeting link will be sent to registered attendees within 24 hours of webinar. \nCOST\nFREE\, however registration is required to receive meeting link \nQuestions?\nContact Patrick Dean
URL:https://www.abcva.org/event/politics-debrief-2025/
LOCATION:Virtual
CATEGORIES:Central Virginia,Hampton Roads,Northern Virginia,Statewide
ORGANIZER;CN="Shaye Currie":MAILTO:shaye@abcva.org
END:VEVENT
BEGIN:VEVENT
DTSTART;TZID=America/New_York:20251210T100000
DTEND;TZID=America/New_York:20251210T110000
DTSTAMP:20260419T091936
CREATED:20251112T152236Z
LAST-MODIFIED:20251112T183341Z
UID:10002230-1765360800-1765364400@www.abcva.org
SUMMARY:Time Management Strategies - Virtual Workshop 12/10 HR
DESCRIPTION:TIME MANAGEMENT STRATEGIES – VIRTUAL WORKSHOP WITH JAMIE VANEK\nWednesday\, December 10\, 2025  |  10:00AM – 11:00AM\nYou don’t need an hour-long morning routine to be successful. But you do have to be intentional and have a plan that actually works for you. \nIn this practical\, results-driven workshop\, you’ll: \n• Design a morning routine that aligns with your energy\, priorities\, and goals.\n• Learn how small evening habits can set the tone for a productive tomorrow.\n• Identify what to start\, stop\, and continue to eliminate time-wasters and boost efficiency.\n• Develop strategies to manage your inbox and technology so you stay focused—not reactive.\n• Leave with a clear plan to approach each day with more focus\, energy\, and control. \nYou’ll walk away with personalized strategies to get more done – before most people even get started. \nPlease note: registration will close Tuesday\, December 9\, at 4PM.\nSPEAKER\nJamie Vanek\, President\, Etolin Strait Development Group\, ANC 8(a) – From Art Teacher to Construction Executive: While formally trained in education\, Jamie discovered her love for construction when she moved from Pennsylvania to Virginia in 2006. She has worked her way through the construction industry working in both the administrative and operation sides of the industry\, managing projects from $10K to $10M and teams across the country. As a female leader in construction\, she is passionate about breaking down barriers and supporting a diverse workforce. \nLOCATION\nVirtual\nA meeting link will be sent to registered attendees within 24 hours of webinar. \nCOST\nMembers $25\nNon-members $35 \nCANCELLATION POLICY\nPlease note that a reservation constitutes a financial commitment unless cancellations are made 48 hours in advance. \nQuestions?\nContact Jamie Carrow
URL:https://www.abcva.org/event/time-mgmt-2025/
LOCATION:Virtual
CATEGORIES:Central Virginia,Hampton Roads,Northern Virginia,Statewide
ATTACH;FMTTYPE=image/jpeg:https://www.abcva.org/wp-content/uploads/2025/11/HR-Time-Management-Strategies-with-Jamie-Vanek-Dec-10.jpg
ORGANIZER;CN="Jamie Carrow":MAILTO:jamie@abcva.org
END:VEVENT
BEGIN:VEVENT
DTSTART;TZID=America/New_York:20251217T140000
DTEND;TZID=America/New_York:20251217T150000
DTSTAMP:20260419T091936
CREATED:20241212T153205Z
LAST-MODIFIED:20241212T153205Z
UID:10001926-1765980000-1765983600@www.abcva.org
SUMMARY:Bluebeam Intro from the Experts 12/17
DESCRIPTION:Bluebeam Intro from the Experts (Virtual)\nWednesday\, December 17\, 2025  |  2:00PM-3:00PM \nWhen it comes to AEC industry software\, Bluebeam Revu is one of the most popular\, quickly growing to over 2 million users worldwide. With functionality for Design Review\, Estimating\, Collecting Field Data\, and others\, Bluebeam is not your average PDF software. \nABC-VA has partnered with Troy DeGroot with UChapter2.com to provide the best quality Bluebeam training in the industry. Don’t miss this opportunity to see an introduction to each upcoming course and learning objectives. Get your questions answered to assure you’re in the appropriate courses for your skillset and workflows. \nBe sure to register right away as seats are limited\, and share with your industry peers! \nRegistration:\nREGISTRATION LINK. This intro course hosted by UChapter2. \nVisit our Bluebeam page for more information on the entire program. \nContact us if you have any questions.
URL:https://www.abcva.org/event/bluebeam-intro-from-the-experts-12-17/
LOCATION:Virtual
CATEGORIES:Central Virginia,Hampton Roads,Northern Virginia,Statewide
ORGANIZER;CN="Jamie Carrow":MAILTO:jamie@abcva.org
END:VEVENT
END:VCALENDAR