BEGIN:VCALENDAR
VERSION:2.0
PRODID:-//ABC Virginia - ECPv6.15.20//NONSGML v1.0//EN
CALSCALE:GREGORIAN
METHOD:PUBLISH
X-ORIGINAL-URL:https://www.abcva.org
X-WR-CALDESC:Events for ABC Virginia
REFRESH-INTERVAL;VALUE=DURATION:PT1H
X-Robots-Tag:noindex
X-PUBLISHED-TTL:PT1H
BEGIN:VTIMEZONE
TZID:America/New_York
BEGIN:DAYLIGHT
TZOFFSETFROM:-0500
TZOFFSETTO:-0400
TZNAME:EDT
DTSTART:20240310T070000
END:DAYLIGHT
BEGIN:STANDARD
TZOFFSETFROM:-0400
TZOFFSETTO:-0500
TZNAME:EST
DTSTART:20241103T060000
END:STANDARD
BEGIN:DAYLIGHT
TZOFFSETFROM:-0500
TZOFFSETTO:-0400
TZNAME:EDT
DTSTART:20250309T070000
END:DAYLIGHT
BEGIN:STANDARD
TZOFFSETFROM:-0400
TZOFFSETTO:-0500
TZNAME:EST
DTSTART:20251102T060000
END:STANDARD
BEGIN:DAYLIGHT
TZOFFSETFROM:-0500
TZOFFSETTO:-0400
TZNAME:EDT
DTSTART:20260308T070000
END:DAYLIGHT
BEGIN:STANDARD
TZOFFSETFROM:-0400
TZOFFSETTO:-0500
TZNAME:EST
DTSTART:20261101T060000
END:STANDARD
END:VTIMEZONE
BEGIN:VEVENT
DTSTART;TZID=America/New_York:20251022T100000
DTEND;TZID=America/New_York:20251022T110000
DTSTAMP:20260419T124514
CREATED:20251001T173251Z
LAST-MODIFIED:20251001T173410Z
UID:10002216-1761127200-1761130800@www.abcva.org
SUMMARY:Effective Project Scheduling - Do's\, Don'ts & Critical Insights • VIRTUAL 10/22
DESCRIPTION:EFFECTIVE PROJECT SCHEDULING – DO’S\, DON’TS & CRITICAL INSIGHTS • VIRTUAL\nWednesday\, October 22\, 2025  |  10:00AM – 11:00AM  |  Webinar\nBaselines\, Updates\, and Change Order Requests for Additional Time — The How\, What\, When\, and Why of Having to Do It \nThe tools\, inputs\, and best practices of project scheduling will be reviewed\, from baselines\, to updates\, to change order requests for additional time. The presentation will emphasize typical interests and motivations from different project parties\, and how those shape the requirements\, development\, and review of different project scheduling outputs. The presentation will improve attendee’s understanding of what to do\, what not to do\, and what to look out for through the process\, using lessons learned in the presenters’ 55+ years of project scheduling experience. \nPRESENTATION BY\nKelly Consulting Services\, LLC\nPat Kelly\, PSP\, CPE and Rob Kelly\, PSP\, CFCC\nProject Schedule services provided on more than $12b in construction.\nwww.KellyConsultingServices.org \nSHOULD I ATTEND?\nThis webinar is geared towards contractor executives\, managers\, schedulers\, owners\, architects/engineers \nLOCATION\nVirtual\nA link will be sent to all attendees within 24 hours of webinar \nCOST\nMembers $25\nNon-members $55 \nCANCELLATION POLICY\nPlease note that a reservation constitutes a financial commitment unless cancellations are made 48 hours in advance. \nQuestions?\nContact Jamie Carrow
URL:https://www.abcva.org/event/effective-project-scheduling-dos-donts-critical-insights-virtual-10-22/
LOCATION:Virtual
CATEGORIES:Central Virginia,Hampton Roads,Northern Virginia,Statewide
ORGANIZER;CN="Maddy Goulden":MAILTO:maddy@abcva.org
END:VEVENT
BEGIN:VEVENT
DTSTART;TZID=America/New_York:20251022T140000
DTEND;TZID=America/New_York:20251022T150000
DTSTAMP:20260419T124514
CREATED:20241119T151411Z
LAST-MODIFIED:20241212T152900Z
UID:10001895-1761141600-1761145200@www.abcva.org
SUMMARY:Bluebeam Intro from the Experts 10/22
DESCRIPTION:Bluebeam Intro from the Experts (Virtual)\nWednesday\, October 22\, 2025  |  2:00PM-3:00PM \nWhen it comes to AEC industry software\, Bluebeam Revu is one of the most popular\, quickly growing to over 2 million users worldwide. With functionality for Design Review\, Estimating\, Collecting Field Data\, and others\, Bluebeam is not your average PDF software. \nABC-VA has partnered with Troy DeGroot with UChapter2.com to provide the best quality Bluebeam training in the industry. Don’t miss this opportunity to see an introduction to each upcoming course and learning objectives. Get your questions answered to assure you’re in the appropriate courses for your skillset and workflows. \nBe sure to register right away as seats are limited\, and share with your industry peers! \nRegistration:\nREGISTRATION LINK. This intro course hosted by UChapter2. \nVisit our Bluebeam page for more information on the entire program. \nContact us if you have any questions.
URL:https://www.abcva.org/event/bluebeam-intro-from-the-experts-10-22/
LOCATION:Virtual
CATEGORIES:Central Virginia,Hampton Roads,Northern Virginia,Statewide
ATTACH;FMTTYPE=image/jpeg:https://www.abcva.org/wp-content/uploads/2022/12/Bluebeam-Launch-Webinar-22DEC22.jpg
ORGANIZER;CN="Jamie Carrow":MAILTO:jamie@abcva.org
END:VEVENT
BEGIN:VEVENT
DTSTART;TZID=America/New_York:20251028T100000
DTEND;TZID=America/New_York:20251028T113000
DTSTAMP:20260419T124514
CREATED:20250729T143515Z
LAST-MODIFIED:20250828T175702Z
UID:10002181-1761645600-1761651000@www.abcva.org
SUMMARY:Bringing Your Children into the Business [Virtual] 10/28 HR
DESCRIPTION:BRINGING YOUR CHILDREN INTO THE BUSINESS • VIRTUAL\nTuesday\, October 28\, 2025  |  10:00AM – 11:30AM\nThis virtual webinar addresses how to search for\, develop\, and transition the business to a family member (or other successor). As business owners\, we know there is a delicate balance of maintaining family harmony while integrating children into the family enterprise and monetizing your hard work. Business owners get one chance relationally and financially\, so don’t miss this opportunity. Presentation is 10-11am followed by 30-minute Q&A. \nTopics covered:\n• The family business quandary – keeping business and family conflicts separate\n• Allowing children (or your successor) to enter the family business and paths to increased responsibility\n• Preserving retirement income security for the senior generation\n• “Fair” versus “equitable” for non-active family members\n• IRS tax incentives and various transfer mechanisms for the business\n• The psychological process for the senior generation to gradually transition control\n• Estate and business valuation cons\n• Family harmony strategies \nSPEAKERS\nDonald S. Hannahs\, CFP®\, Oceanside Financial Strategies\nParker Hannahs\, Oceanside Financial Strategies \nLOCATION \nVirtual\nA Zoom link will be sent to attendees within 24 hours of webinar \nCOST\nMembers $30\nNon-members $60 \nSUBSTITUTION/CANCELLATION POLICY\nSubstitutions are welcome at any time if the originally registered individual(s) can no longer attend. Please note: a reservation constitutes a financial commitment unless cancellations are made 48 hours in advance. \nQuestions?\nContact Jamie Carrow \nSecurities and investment advisory services offered through Osaic Wealth\, Inc. member FINRA/SIPC. Osaic Wealth is separately owned and other entities and/or marketing names\, products or services referenced here are independent of Osaic Wealth. Osaic Wealth\, Inc. and its representatives do not provide legal or tax advice. You should consult a legal or tax advisor regarding any legal or tax information as it relates to your personal circumstances.
URL:https://www.abcva.org/event/kidsinthebiz/
LOCATION:Virtual
CATEGORIES:Central Virginia,Hampton Roads,Northern Virginia,Statewide
ORGANIZER;CN="Maddy Goulden":MAILTO:maddy@abcva.org
END:VEVENT
BEGIN:VEVENT
DTSTART;TZID=America/New_York:20251029T113000
DTEND;TZID=America/New_York:20251029T130000
DTSTAMP:20260419T124514
CREATED:20250923T194616Z
LAST-MODIFIED:20250923T194636Z
UID:10002212-1761737400-1761742800@www.abcva.org
SUMMARY:From Blueprint to Certification – CMMC Essentials for Builders & Contractors in Federal Work 10/29 Virtual
DESCRIPTION:FROM BLUEPRINT TO CERTIFICATION – CMMC ESSENTIALS FOR BUILDERS & CONTRACTORS IN FEDERAL WORK\nWed\, Oct 29\, 2025  |  11:30AM – 1:00PM\nReady to build your foundation in CMMC essentials? Join us for an exclusive webinar where we’ll dive deep into the latest updates and best practices for implementing the CMMC requirements and preparing for assessments. Our speaker\, Steve Molter from IntelliGRC\, will guide you through the requirements for certification and what it means for your business. He will also share insights on effective preparation strategies\, and address common questions faced during implementation. Plus\, we’ll explore the common challenges many contractors and subcontractors discover along the way.\n \nWHAT IS CMMC?The Cybersecurity Maturity Model Certification (CMMC) is the Department of Defense’s standard for protecting sensitive information shared with contractors and subcontractors. If your firm works on federal projects\, or plans to\, understanding CMMC is essential. This session will break down what CMMC means for builders and contractors\, how it affects your business\, and the steps you can take to prepare for certification. \nLOCATION\nZoom – a link will be sent to attendees within 24 hours of webinar\nPlease note: online registration will close at 5PM on Tuesday\, October 28. \nCOST\nMembers – $30\nNon-Members – $40 \nSUBSTITUTION/CANCELLATION POLICY\nSubstitutions are welcome at any time if the originally registered individual(s) can no longer attend. Written notice to cancel must be received within 48 hours of training for a refund. \nQuestions?\nContact Jenny Tashjian
URL:https://www.abcva.org/event/cmmc25/
LOCATION:Virtual
CATEGORIES:Central Virginia,Hampton Roads,Northern Virginia,Statewide
ORGANIZER;CN="Shaye Currie":MAILTO:shaye@abcva.org
END:VEVENT
END:VCALENDAR