BEGIN:VCALENDAR
VERSION:2.0
PRODID:-//ABC Virginia - ECPv6.15.20//NONSGML v1.0//EN
CALSCALE:GREGORIAN
METHOD:PUBLISH
X-WR-CALNAME:ABC Virginia
X-ORIGINAL-URL:https://www.abcva.org
X-WR-CALDESC:Events for ABC Virginia
REFRESH-INTERVAL;VALUE=DURATION:PT1H
X-Robots-Tag:noindex
X-PUBLISHED-TTL:PT1H
BEGIN:VTIMEZONE
TZID:America/New_York
BEGIN:DAYLIGHT
TZOFFSETFROM:-0500
TZOFFSETTO:-0400
TZNAME:EDT
DTSTART:20240310T070000
END:DAYLIGHT
BEGIN:STANDARD
TZOFFSETFROM:-0400
TZOFFSETTO:-0500
TZNAME:EST
DTSTART:20241103T060000
END:STANDARD
BEGIN:DAYLIGHT
TZOFFSETFROM:-0500
TZOFFSETTO:-0400
TZNAME:EDT
DTSTART:20250309T070000
END:DAYLIGHT
BEGIN:STANDARD
TZOFFSETFROM:-0400
TZOFFSETTO:-0500
TZNAME:EST
DTSTART:20251102T060000
END:STANDARD
BEGIN:DAYLIGHT
TZOFFSETFROM:-0500
TZOFFSETTO:-0400
TZNAME:EDT
DTSTART:20260308T070000
END:DAYLIGHT
BEGIN:STANDARD
TZOFFSETFROM:-0400
TZOFFSETTO:-0500
TZNAME:EST
DTSTART:20261101T060000
END:STANDARD
END:VTIMEZONE
BEGIN:VEVENT
DTSTART;TZID=America/New_York:20250918T113000
DTEND;TZID=America/New_York:20250918T130000
DTSTAMP:20260419T143245
CREATED:20250718T143910Z
LAST-MODIFIED:20250915T183222Z
UID:10002174-1758195000-1758200400@www.abcva.org
SUMMARY:Registered Apprenticeship — What You Need to Know (Virtual) 9/18
DESCRIPTION:REGISTERED APPRENTICESHIP — WHAT YOU NEED TO KNOW (VIRTUAL)\n**Online registration will close 12PM on Wednesday\, September 17. Please reach out to Darlene Hart if you’d like to register after this time.**\nThursday\, September 18\, 2025  |  11:30AM – 1:00PM\nRegistered Apprenticeship Classes have started — now what? Discover everything you need to know about: \nDOLI/Virginia Works\n• What’s the difference?\n• Meet the staff/reps \nProcess\n• What’s the process to set up your program?\n• What is RAPIDs?\n• What are Standards of Apprenticeship?\n• How do we define work processes?\n• What is the employer’s responsibility?\n• How does the Licensing Exemption work?\n• What is the difference between a journeyperson status/license? \nYouth Apprenticeship – The Art of Building Your Pipeline Early\n• What you can and cannot do\n• Working with high school and CTE Programs \nPlease email any preliminary questions you have regarding registered apprenticeship to Darlene Hart\, ABC-VA State Workforce Development Director. \nWHO SHOULD ATTEND?\nOwners\, HR professionals\, apprenticeship administrators and anyone else involved in apprenticeship. \nLOCATION\nVirtual – a Zoom link will be emailed to participants on September 16. \nCOST\nFree for members\, however\, registration is required to ensure you receive the virtual link \nQUESTIONS\nDarlene Hart\, ABC-VA State Workforce Development Director
URL:https://www.abcva.org/event/ra-webinar-sep18/
LOCATION:Virtual
CATEGORIES:Central Virginia,Hampton Roads,Northern Virginia,Statewide
ATTACH;FMTTYPE=image/jpeg:https://www.abcva.org/wp-content/uploads/2025/07/DOLI-Registered-Apprenticeship-Sep-18-web.jpg
ORGANIZER;CN="Darlene Hart":MAILTO:darlene@abcva.org
END:VEVENT
END:VCALENDAR