BEGIN:VCALENDAR
VERSION:2.0
PRODID:-//ABC Virginia - ECPv6.15.20//NONSGML v1.0//EN
CALSCALE:GREGORIAN
METHOD:PUBLISH
X-WR-CALNAME:ABC Virginia
X-ORIGINAL-URL:https://www.abcva.org
X-WR-CALDESC:Events for ABC Virginia
REFRESH-INTERVAL;VALUE=DURATION:PT1H
X-Robots-Tag:noindex
X-PUBLISHED-TTL:PT1H
BEGIN:VTIMEZONE
TZID:America/New_York
BEGIN:DAYLIGHT
TZOFFSETFROM:-0500
TZOFFSETTO:-0400
TZNAME:EDT
DTSTART:20240310T070000
END:DAYLIGHT
BEGIN:STANDARD
TZOFFSETFROM:-0400
TZOFFSETTO:-0500
TZNAME:EST
DTSTART:20241103T060000
END:STANDARD
BEGIN:DAYLIGHT
TZOFFSETFROM:-0500
TZOFFSETTO:-0400
TZNAME:EDT
DTSTART:20250309T070000
END:DAYLIGHT
BEGIN:STANDARD
TZOFFSETFROM:-0400
TZOFFSETTO:-0500
TZNAME:EST
DTSTART:20251102T060000
END:STANDARD
BEGIN:DAYLIGHT
TZOFFSETFROM:-0500
TZOFFSETTO:-0400
TZNAME:EDT
DTSTART:20260308T070000
END:DAYLIGHT
BEGIN:STANDARD
TZOFFSETFROM:-0400
TZOFFSETTO:-0500
TZNAME:EST
DTSTART:20261101T060000
END:STANDARD
END:VTIMEZONE
BEGIN:VEVENT
DTSTART;TZID=America/New_York:20250604T100000
DTEND;TZID=America/New_York:20250604T110000
DTSTAMP:20260419T193832
CREATED:20250425T131038Z
LAST-MODIFIED:20250425T131142Z
UID:10002122-1749031200-1749034800@www.abcva.org
SUMMARY:WEBINAR: Knowledge is Power: How AI is Helping Builders Navigate Their Contracts and the Tariffs
DESCRIPTION:KNOWLEDGE IS POWER: HOW A.I. IS HELPING BUILDERS NAVIGATE THEIR CONTRACTS AND THE TARIFFS\nWednesday\, June 4\, 2025  |  10:00AM – 11:00AM  |  Virtual\nAs tariffs continue to be a disrupting and fluid change for all builders\, the importance of understanding how your current and future contracts treat these changes has never been greater. Join ABC for a special presentation of the AI-Powered Tariff Risk Assessment product offered to ABC members for free from Document Crunch (ABC strategic and tech marketplace partner). \nLearn how cutting-edge AI can help your team understand how your contracts treat potential tariff situations\, proactively identify risks\, and help you negotiate more equitable agreements in this tricky time. \nRegistration is through ABC Greater Baltimore: REGISTER HERE!\nPlease note: this webinar is FREE for those who attended the 2025 ABC Regional Construction Summit on March 13.\nSpeaker: Ryan Gaiss\, Account Executive at Document Crunch \nLOCATION\nVirtual\nLink to be sent to attendees within 24 hours of webinar \nCOST \nABC Regional Construction Summit Attendees – Free\nMembers – $25 \nQuestions?\nContact Jess Gillette
URL:https://www.abcva.org/event/ai-contracts-tariffs-june4/
LOCATION:Virtual
CATEGORIES:Central Virginia,Hampton Roads,Northern Virginia,Statewide
ORGANIZER;CN="Jessica Gillette":MAILTO:jessica@abcva.org
END:VEVENT
END:VCALENDAR