BEGIN:VCALENDAR
VERSION:2.0
PRODID:-//ABC Virginia - ECPv6.15.20//NONSGML v1.0//EN
CALSCALE:GREGORIAN
METHOD:PUBLISH
X-WR-CALNAME:ABC Virginia
X-ORIGINAL-URL:https://www.abcva.org
X-WR-CALDESC:Events for ABC Virginia
REFRESH-INTERVAL;VALUE=DURATION:PT1H
X-Robots-Tag:noindex
X-PUBLISHED-TTL:PT1H
BEGIN:VTIMEZONE
TZID:America/New_York
BEGIN:DAYLIGHT
TZOFFSETFROM:-0500
TZOFFSETTO:-0400
TZNAME:EDT
DTSTART:20250309T070000
END:DAYLIGHT
BEGIN:STANDARD
TZOFFSETFROM:-0400
TZOFFSETTO:-0500
TZNAME:EST
DTSTART:20251102T060000
END:STANDARD
BEGIN:DAYLIGHT
TZOFFSETFROM:-0500
TZOFFSETTO:-0400
TZNAME:EDT
DTSTART:20260308T070000
END:DAYLIGHT
BEGIN:STANDARD
TZOFFSETFROM:-0400
TZOFFSETTO:-0500
TZNAME:EST
DTSTART:20261101T060000
END:STANDARD
BEGIN:DAYLIGHT
TZOFFSETFROM:-0500
TZOFFSETTO:-0400
TZNAME:EDT
DTSTART:20270314T070000
END:DAYLIGHT
BEGIN:STANDARD
TZOFFSETFROM:-0400
TZOFFSETTO:-0500
TZNAME:EST
DTSTART:20271107T060000
END:STANDARD
END:VTIMEZONE
BEGIN:VEVENT
DTSTART;TZID=America/New_York:20260707T160000
DTEND;TZID=America/New_York:20260707T190000
DTSTAMP:20260419T135643
CREATED:20260107T232206Z
LAST-MODIFIED:20260107T232206Z
UID:10002326-1783440000-1783450800@www.abcva.org
SUMMARY:Blueprint Reading 101 7/7 NV
DESCRIPTION:BLUEPRINT READING 101\nBegins Tuesday\, July 7\, 2026  |  4:00PM – 7:00PM\nEnhance your personal and professional value by enrolling in ABC-VA’s Blueprint Reading 101 for the Construction Industry. This comprehensive course is structured for the beginner and covers all phases of a construction project. Participants will discuss the phases of construction including site\, landscape\, architectural\, structural\, mechanical\, plumbing\, and electrical. \nAll employees in the construction industry can benefit from this course.  Knowing and understanding the blueprint language is a highly marketable skill and will make anyone an invaluable resource to their company. \nSCHEDULE\nEight-Day Program:\nJuly 7\, 14\, 21\, 28\nAug 4\, 11\, 18\, 25\n4:00PM – 7:00PM \nCOST\nMember – $370\nNon-Member – $540\nIncludes textbooks and blueprints \nSUBSTITUTION/CANCELLATION POLICY\nSubstitutions are welcome at any time if the originally registered individual can no longer attend. Please note that a reservation constitutes a financial commitment unless cancellations are made 48 hours in advance. \nQuestions?\nContact Shaye Currie
URL:https://www.abcva.org/event/blueprint-reading-101-7-7-nv/
LOCATION:ABC-VA Northern Virginia Training Facility\, ABC-VA Northern Virginia Training Facility\, 42680 Trade West Drive\, Dulles\,\, VA\, 20166\, United States
CATEGORIES:Northern Virginia
ORGANIZER;CN="Shaye Currie":MAILTO:shaye@abcva.org
END:VEVENT
BEGIN:VEVENT
DTSTART;TZID=America/New_York:20260709T160000
DTEND;TZID=America/New_York:20260709T193000
DTSTAMP:20260419T135643
CREATED:20260416T193733Z
LAST-MODIFIED:20260416T193907Z
UID:10002439-1783612800-1783625400@www.abcva.org
SUMMARY:SummerFest 2026 7/9 NV
DESCRIPTION:SUMMERFEST 2026 **SAVE THE DATE!**\nThursday\, July 9\, 2026  |  4:00PM – 7:30PM\nABC-VA invites you to join 300 of your favorite ABC-VA members for the biggest bash of the summer! Our annual SummerFest is one of our most attended events of the year. And it’s no surprise – here’s what you can expect for 2026:\n• All-you-care to eat (seafood [including steamed crabs]\, burgers\, kabobs\, local food trucks and dessert) 🦀\n• Cornhole tournament with prize to first place team ($30 buy-in per person) 🏆 \n• MurLarkey Spirits Tasting 🥃\n• Batting cages ⚾\n• Ice cream truck 🍦\n• SummerFest t-shirt giveaway 👕\n• Raffle prize drawing 🎟️\n• Live DJ 🎶\n• & more! \nDress is summer casual. It’s going to be hot! 😎 \nSPONSORSHIP OPPORTUNITIES (all include logo/name on event promotional materials)\nCommitments are needed by COB Monday\, June 29 **prices subject to change**\nMain Event $1\,200 – includes three (3) tickets\, signage at event\nDJ $800 – includes three (3) tickets\, signage at event\nFood Station $650 – includes two (2) tickets\, signage at event\nBeer Station $650 – includes two (2) tickets\, signage at event\nTent $650 – includes two (2) tickets\, signage at event\nMurLarkey Spirits Tasting $650 – includes two (2) tickets\, signage at event\nIce Cream Truck $650 – includes two (2) tickets\, signage at event \nDrawing Sponsor $650– includes two (2) tickets\, signage at event\nBatting Cages $500 – includes one (1) ticket\, signage at event\nDessert $500 – includes one (1) ticket\, signage at event\nWine Station $500 – includes one (1) ticket\, signage at event\nCornhole $500 – includes one (1) ticket\, signage at event \nSelect during registration or email Maureen Nanna to register as a sponsor! \nCORNHOLE TOURNAMENT\n$30 per person for buy-in. Winning team takes all! Please register your team online or email Maureen Nanna. \nLOCATION\nABC-VA Headquarters\n42680 Trade West Drive\, Dulles\, VA 20166 \nCOST (Members Only) **subject to change**\nMembers – $110 \nProspective Members: there will be a quick pre-mixer for new and prospective members before the main event. Please reach out to Katie Gregg to RSVP!\nSUBSTITUTIONS/CANCELLATIONS POLICY\nSubstitutions are welcome at any time if the originally registered individual(s) can no longer attend. Cancellations must be made in writing within 48 hours of event. \nQuestions?\nContact Maureen Nanna
URL:https://www.abcva.org/event/summerfest26/
LOCATION:ABC-VA Northern Virginia Training Facility\, ABC-VA Northern Virginia Training Facility\, 42680 Trade West Drive\, Dulles\,\, VA\, 20166\, United States
CATEGORIES:Northern Virginia
ORGANIZER;CN="Maureen Nanna":MAILTO:maureen@abcva.org
END:VEVENT
BEGIN:VEVENT
DTSTART;TZID=America/New_York:20260711T080000
DTEND;TZID=America/New_York:20260711T120000
DTSTAMP:20260419T135643
CREATED:20251212T214812Z
LAST-MODIFIED:20251215T174757Z
UID:10002259-1783756800-1783771200@www.abcva.org
SUMMARY:CPR\, AED & First Aid Certification 7/11 NV
DESCRIPTION:CPR\, AED & FIRST AID CERTIFICATION\nSaturday\, July 11\, 2026  |  8:00AM – 12:00PM \nABC Virginia certifies hundreds of individuals each year in First-Aid and CPR/AED using the American Safety and Health Institute’s training content. ABC-VA’s primary goal is to create confidence in its students’ abilities to handle emergency situations. Our instructors provide clear explanations of the subject matter in a relaxed environment. Instructors focus on the importance of controlling\, with confidence\, medical emergencies and providing life support for victims of sudden illness or injury. The certification issued to each participant is valid for two years. \nLOCATION\nABC-VA Northern VA Training Facility\n42680 Trade West Drive\, Dulles\, VA 20166 \nCOST\nMember: $98\nNon-Member: $125 \nSUBSTITUTIONS/CANCELLATION POLICY\nSubstitutions are welcome at any time if the originally registered individual can no longer attend. Cancellations must be made with 48 hours. \nCLASS CONTACT\nShaye Currie
URL:https://www.abcva.org/event/cpr-aed-first-aid-certification-7-11-nv/
LOCATION:ABC-VA Northern Virginia Training Facility\, ABC-VA Northern Virginia Training Facility\, 42680 Trade West Drive\, Dulles\,\, VA\, 20166\, United States
CATEGORIES:Northern Virginia
ORGANIZER;CN="Shaye Currie":MAILTO:shaye@abcva.org
END:VEVENT
BEGIN:VEVENT
DTSTART;TZID=America/New_York:20260715T073000
DTEND;TZID=America/New_York:20260715T170000
DTSTAMP:20260419T135643
CREATED:20251209T142338Z
LAST-MODIFIED:20260211T164323Z
UID:10002248-1784100600-1784134800@www.abcva.org
SUMMARY:Construction Quality Management 7/15 NV
DESCRIPTION:CONSTRUCTION QUALITY MANAGEMENT\nWednesday\, July 15\, 2026  |  7:30AM – 5:00PM  |  ABC-VA Dulles\nThe Construction Quality Management course offers prospective QC Managers and Administrators the opportunity to satisfy the CQM-C training requirements specified in most USACE and NAVFAC construction contracts. This course must be taken and the final test must be passed by any person aspiring to be the QC Manager/Administrator or alternate. The Contractors Quality Control (CQC) requirements and the Governments Quality Assurance (QA) roles are reviewed. Training materials provided. \nA course certificate\, valid for a five-year period from the date of the class\, will be awarded to those who satisfactory complete the training and pass the final exam. At this time\, any person that needs to recertify must attend a class. \nLOCATION\nABC-VA Northern Virginia Training Facility\n42680 Trade West Drive\, Dulles\, VA 20166 \nCOST\nMember – $305\nNon-Member – $405\nContinental breakfast\, lunch & refreshments provided \nCANCELLATION POLICY\nPlease note that a reservation constitutes a financial commitment unless cancellations are made by 6/19/2026 EOD. \nQuestions?\nContact Jenny Tashjian
URL:https://www.abcva.org/event/construction-quality-management-jul15/
LOCATION:ABC-VA Northern Virginia Training Facility\, ABC-VA Northern Virginia Training Facility\, 42680 Trade West Drive\, Dulles\,\, VA\, 20166\, United States
CATEGORIES:Northern Virginia
ORGANIZER;CN="Shaye Currie":MAILTO:shaye@abcva.org
END:VEVENT
BEGIN:VEVENT
DTSTART;TZID=America/New_York:20260722T160000
DTEND;TZID=America/New_York:20260722T200000
DTSTAMP:20260419T135643
CREATED:20251212T224347Z
LAST-MODIFIED:20251215T174913Z
UID:10002271-1784736000-1784750400@www.abcva.org
SUMMARY:CPR\, AED & First Aid Certification 7/22 NV
DESCRIPTION:CPR\, AED & FIRST AID CERTIFICATION\nWednesday\, July 22\, 2026  |  4:00PM – 8:00PM \nABC Virginia certifies hundreds of individuals each year in First-Aid and CPR/AED using the American Safety and Health Institute’s training content. ABC-VA’s primary goal is to create confidence in its students’ abilities to handle emergency situations. Our instructors provide clear explanations of the subject matter in a relaxed environment. Instructors focus on the importance of controlling\, with confidence\, medical emergencies and providing life support for victims of sudden illness or injury. The certification issued to each participant is valid for two years. \nLOCATION\nABC-VA Northern VA Training Facility\n42680 Trade West Drive\, Dulles\, VA 20166 \nCOST\nMember: $98\nNon-Member: $125 \nSUBSTITUTIONS/CANCELLATION POLICY\nSubstitutions are welcome at any time if the originally registered individual can no longer attend. Cancellations must be made with 48 hours. \nCLASS CONTACT\nShaye Currie
URL:https://www.abcva.org/event/cpr-aed-first-aid-certification-7-22-nv/
LOCATION:ABC-VA Northern Virginia Training Facility\, ABC-VA Northern Virginia Training Facility\, 42680 Trade West Drive\, Dulles\,\, VA\, 20166\, United States
CATEGORIES:Northern Virginia
ORGANIZER;CN="Shaye Currie":MAILTO:shaye@abcva.org
END:VEVENT
END:VCALENDAR