BEGIN:VCALENDAR
VERSION:2.0
PRODID:-//ABC Virginia - ECPv6.15.20//NONSGML v1.0//EN
CALSCALE:GREGORIAN
METHOD:PUBLISH
X-ORIGINAL-URL:https://www.abcva.org
X-WR-CALDESC:Events for ABC Virginia
REFRESH-INTERVAL;VALUE=DURATION:PT1H
X-Robots-Tag:noindex
X-PUBLISHED-TTL:PT1H
BEGIN:VTIMEZONE
TZID:America/New_York
BEGIN:DAYLIGHT
TZOFFSETFROM:-0500
TZOFFSETTO:-0400
TZNAME:EDT
DTSTART:20250309T070000
END:DAYLIGHT
BEGIN:STANDARD
TZOFFSETFROM:-0400
TZOFFSETTO:-0500
TZNAME:EST
DTSTART:20251102T060000
END:STANDARD
BEGIN:DAYLIGHT
TZOFFSETFROM:-0500
TZOFFSETTO:-0400
TZNAME:EDT
DTSTART:20260308T070000
END:DAYLIGHT
BEGIN:STANDARD
TZOFFSETFROM:-0400
TZOFFSETTO:-0500
TZNAME:EST
DTSTART:20261101T060000
END:STANDARD
BEGIN:DAYLIGHT
TZOFFSETFROM:-0500
TZOFFSETTO:-0400
TZNAME:EDT
DTSTART:20270314T070000
END:DAYLIGHT
BEGIN:STANDARD
TZOFFSETFROM:-0400
TZOFFSETTO:-0500
TZNAME:EST
DTSTART:20271107T060000
END:STANDARD
END:VTIMEZONE
BEGIN:VEVENT
DTSTART;TZID=America/New_York:20260502T080000
DTEND;TZID=America/New_York:20260502T120000
DTSTAMP:20260419T102756
CREATED:20251212T213418Z
LAST-MODIFIED:20251215T174502Z
UID:10002257-1777708800-1777723200@www.abcva.org
SUMMARY:CPR\, AED & First Aid Certification 5/2 NV
DESCRIPTION:CPR\, AED & FIRST AID CERTIFICATION\nSaturday\, May 2\, 2026  |  8:00AM – 12:00PM \nABC Virginia certifies hundreds of individuals each year in First-Aid and CPR/AED using the American Safety and Health Institute’s training content. ABC-VA’s primary goal is to create confidence in its students’ abilities to handle emergency situations. Our instructors provide clear explanations of the subject matter in a relaxed environment. Instructors focus on the importance of controlling\, with confidence\, medical emergencies and providing life support for victims of sudden illness or injury. The certification issued to each participant is valid for two years. \nLOCATION\nABC-VA Northern VA Training Facility\n42680 Trade West Drive\, Dulles\, VA 20166 \nCOST\nMember: $98\nNon-Member: $125 \nSUBSTITUTIONS/CANCELLATION POLICY\nSubstitutions are welcome at any time if the originally registered individual can no longer attend. Cancellations must be made with 48 hours. \nCLASS CONTACT\nShaye Currie
URL:https://www.abcva.org/event/cpr-aed-first-aid-certification-5-2-nv/
LOCATION:ABC-VA Northern Virginia Training Facility\, ABC-VA Northern Virginia Training Facility\, 42680 Trade West Drive\, Dulles\,\, VA\, 20166\, United States
CATEGORIES:Northern Virginia
ORGANIZER;CN="Shaye Currie":MAILTO:shaye@abcva.org
END:VEVENT
BEGIN:VEVENT
DTSTART;TZID=America/New_York:20260505T160000
DTEND;TZID=America/New_York:20260505T190000
DTSTAMP:20260419T102756
CREATED:20260107T231641Z
LAST-MODIFIED:20260107T233203Z
UID:10002325-1777996800-1778007600@www.abcva.org
SUMMARY:Blueprint Reading 101 5/5 NV
DESCRIPTION:BLUEPRINT READING 101\nBegins Tuesday\, May 5\, 2026  |  4:00PM – 7:00PM\nEnhance your personal and professional value by enrolling in ABC-VA’s Blueprint Reading 101 for the Construction Industry. This comprehensive course is structured for the beginner and covers all phases of a construction project. Participants will discuss the phases of construction including site\, landscape\, architectural\, structural\, mechanical\, plumbing\, and electrical. \nAll employees in the construction industry can benefit from this course.  Knowing and understanding the blueprint language is a highly marketable skill and will make anyone an invaluable resource to their company. \nSCHEDULE\nEight-Day Program:\nMay 5\, 12\, 19\, 26\nJune 2\, 9\, 16\, 23\n4:00PM – 7:00PM \nCOST\nMember – $370\nNon-Member – $540\nIncludes textbooks and blueprints \nSUBSTITUTION/CANCELLATION POLICY\nSubstitutions are welcome at any time if the originally registered individual can no longer attend. Please note that a reservation constitutes a financial commitment unless cancellations are made 48 hours in advance. \nQuestions?\nContact Shaye Currie
URL:https://www.abcva.org/event/blueprint-reading-101-5-5-nv/
LOCATION:ABC-VA Northern Virginia Training Facility\, ABC-VA Northern Virginia Training Facility\, 42680 Trade West Drive\, Dulles\,\, VA\, 20166\, United States
CATEGORIES:Northern Virginia
ORGANIZER;CN="Shaye Currie":MAILTO:shaye@abcva.org
END:VEVENT
BEGIN:VEVENT
DTSTART;TZID=America/New_York:20260506T100000
DTEND;TZID=America/New_York:20260506T110000
DTSTAMP:20260419T102756
CREATED:20260318T135906Z
LAST-MODIFIED:20260324T185748Z
UID:10002410-1778061600-1778065200@www.abcva.org
SUMMARY:Federal and State Small Business Programs: The Changes Made and the Changes Looming 5/6 VIRTUAL
DESCRIPTION:FEDERAL AND STATE SMALL BUSINESS PROGRAMS: THE CHANGES MADE AND THE CHANGES LOOMING • VIRTUAL\nWednesday\, May 6\, 2026 |  10:00AM – 11:00AM\nThe Federal Small Business Administration\, the Federal Department of Transportation\, and the State of Virginia have already made and continue considering additional changes affecting small business program eligibility and implementation. This virtual learning program will overview those programs’ basics\, their recent changes\, and their current and expected impacts on small businesses and those working with them moving forward. \nWho should attend:\nBusiness team personnel looking to learn about or better understand the federal small and disadvantaged business programs and how the government has been and is reshaping those programs’ missions \nINSTRUCTORS\nNeil Lowenstein\, Woods Rogers\nTom Barrow\, Woods Rogers \nLOCATION\nVirtual\nAttendees will receive the meeting link within 24 hours of program \nCOST\nMembers — $20\nNon-members — $40 \nCANCELLATION POLICY\nPlease note that a reservation constitutes a financial commitment unless cancellations are made 48 hours in advance. Substitutions are welcome at any time if the originally registered individual(s) are no longer available. \n**Online registration closes 5:00PM on Tuesday\, May 5\, 2026.**\nCOURSE CONTACT\nContact Meredith Strahan
URL:https://www.abcva.org/event/federal-and-state-small-business-programs-2026/
LOCATION:Virtual
CATEGORIES:Central Virginia,Hampton Roads,Northern Virginia,Statewide
ORGANIZER;CN="Meredith Strahan":MAILTO:meredith@abcva.org
END:VEVENT
BEGIN:VEVENT
DTSTART;TZID=America/New_York:20260506T110000
DTEND;TZID=America/New_York:20260506T120000
DTSTAMP:20260419T102756
CREATED:20260302T141919Z
LAST-MODIFIED:20260303T170029Z
UID:10002388-1778065200-1778068800@www.abcva.org
SUMMARY:STEP Up: All About STEP + Real-Time Application Assistance • Virtual 5/6
DESCRIPTION:STEP UP: ALL ABOUT STEP + REAL-TIME APPLICATION ASSISTANCE\nWednesday\, May 6\, 2026  |  11:00AM – 12:00PM\nDiscover why holding a STEP certification is crucial for contractors aiming for excellence in safety standards. After an insightful presentation with ABC National’s Manager of Safety Programs and Initiatives\, Aaron Braun\, benefit from personalized guidance through the online application process with a dedicated mentor\, ensuring all your questions are answered in real-time. Don’t miss this opportunity to enhance your safety credentials and gain a competitive edge. \nLearn more about ABC’s Safety Management Program\, STEP\nSTEP participation is not just for companies with robust safety programs! In fact\, STEP is the perfect place to start for companies looking to build a stronger safety culture. \nThis event is highly encouraged for firms submitting to STEP for the first time. \nLOCATION\nAttendees will receive virtual link within 24 hours before program begins \nCOST\nFree for ABC members \nQuestions?\nContact Rob Camlin
URL:https://www.abcva.org/event/stepup26/
LOCATION:Virtual
CATEGORIES:Central Virginia,Hampton Roads,Northern Virginia,Statewide
ORGANIZER;CN="Kristen Altermatt":MAILTO:kristen@abcva.org
END:VEVENT
BEGIN:VEVENT
DTSTART;TZID=America/New_York:20260513T120000
DTEND;TZID=America/New_York:20260513T133000
DTSTAMP:20260419T102756
CREATED:20250902T202629Z
LAST-MODIFIED:20260323T145111Z
UID:10002198-1778673600-1778679000@www.abcva.org
SUMMARY:Empowering & Optimizing Al-Driven Construction Tech Solutions 5/13 VIRTUAL
DESCRIPTION:EMPOWERING & OPTIMIZING AI-DRIVEN CONSTRUCTION TECH SOLUTIONS\nWednesday\, May 13\, 2026  |  12:00PM – 1:30PM\nHensel Phelps\, Diverge & Track3D – Empowering & Optimizing AI-Driven Construction Tech Solutions \nJoin Hensel Phelps\, Diverge and Track3D on May 13th to learn about innovation at Hensel Phelps\, Diverge’s role in discovering\, empowering\, and optimizing construction technology solutions and gain insights on Track3D\, a trusted partner and AI-driven real-time\, automated construction monitoring solution + Q&A where you can ask whatever you want to know! \nPRESENTERS\n– Khyati Patel\, Preconstruction Manager\, Hensel Phelps\n– Tim Roberts\, Customer Success Manager\, Track3D \nLOCATION\nVirtual \nCOST\nMembers – $25\nNon-Members – $35 \nSUBSTITUTION/CANCELLATION POLICY\nSubstitutions are welcome at any time if the originally registered individual(s) can no longer attend. Written notice to cancel must be received within 48 hours of training for a refund. \nQuestions?\nContact Jenny Tashjian
URL:https://www.abcva.org/event/ai-driven-contech-may13/
LOCATION:Virtual
CATEGORIES:Central Virginia,Hampton Roads,Northern Virginia,Statewide
ORGANIZER;CN="Shaye Currie":MAILTO:shaye@abcva.org
END:VEVENT
BEGIN:VEVENT
DTSTART;TZID=America/New_York:20260514T173000
DTEND;TZID=America/New_York:20260514T200000
DTSTAMP:20260419T102756
CREATED:20260408T171928Z
LAST-MODIFIED:20260416T124448Z
UID:10002436-1778779800-1778788800@www.abcva.org
SUMMARY:Young Professionals: It's the Catalina Wine Mixer!
DESCRIPTION:YOUNG PROFESSIONALS: IT’S THE CATALINA WINE MIXER!\nThursday\, May 14\, 2026  |  5:30PM – 8:00PM\nStep into a perfect blend of business and leisure at ABC-VA’s Young Professionals networking event – It’s the Catalina Wine Mixer – hosted at the beautiful The Winery at Bull Run. Set against rolling vineyards and historic grounds\, this event offers a relaxed atmosphere to connect with fellow industry professionals while enjoying one of Northern Virginia’s premier winery experiences. \nGuests will take part in a guided wine tasting\, exploring a curated selection of locally crafted wines while learning from knowledgeable staff. Whether you’re a wine enthusiast or just along for the experience\, it’s the perfect way to unwind and spark conversation. \nBeyond the tasting\, the evening keeps things light and social with playful games of cornhole\, creating opportunities for friendly competition and easy networking. Connect with peers\, build relationships\, and enjoy a laid-back setting that blends industry connection with a bit of fun. \nJoin us for an unforgettable evening where great wine\, great people\, and great conversations come together – because at ABC-VA\, networking should be just as enjoyable as it is impactful. \nPlease note: this event is for Young Professionals (40 & under) \nSPONSORSHIP OPPORTUNITIES\nEvent Sponsor $250 – includes one (1) registration\, signage at event\, logo/name on marketing materials \nSPONSORS – THANK YOU!          \n \nLOCATION\nThe Winery at Bull Run\n15950 Lee Highway\, Centreville\, VA 20120 \nCOST \nABC-VA Young Professionals — $85\nNon-Members — $100\nIncludes guided wine tasting\, heavy apps & two (2) drink tickets \nSUBSTITUTION/CANCELLATION POLICY\nSubstitutions are welcome at any time if the originally registered individual can no longer attend. Please note that a reservation constitutes a financial commitment unless cancellations are made 48 hours in advance. \nQuestions?\nContact Katie Gregg
URL:https://www.abcva.org/event/catalina/
LOCATION:The Winery at Bull Run\, 13950 Lee Highway\, Centreville\, VA\, 20120
CATEGORIES:Northern Virginia
ATTACH;FMTTYPE=image/jpeg:https://www.abcva.org/wp-content/uploads/2026/04/NV-Catalina-Wine-Mixer-May-14.jpg
ORGANIZER;CN="Katie Gregg":MAILTO:katieg@abcva.org
END:VEVENT
BEGIN:VEVENT
DTSTART;TZID=America/New_York:20260518T070000
DTEND;TZID=America/New_York:20260518T183000
DTSTAMP:20260419T102756
CREATED:20260306T152636Z
LAST-MODIFIED:20260401T120304Z
UID:10002393-1779087600-1779129000@www.abcva.org
SUMMARY:Spring Golf Classic 5/18 NV
DESCRIPTION:NORTHERN VIRGINIA 2026 SPRING GOLF CLASSIC\nMonday\, May 18\, 2026  |  See detailed schedule below\nGet ready for a golfing experience like no other! Join the Early Bird Brigade for a morning tee-off\, or swing into action with the Afternoon Aces. Whatever your schedule\, we’ve got you covered! \nDon’t miss out on the fun! Register now and get ready to drive\, chip\, and putt your way to an unforgettable day on the greens! \nRegistration deadline is May 11\, however\, this tournament always sells out\, so register early! \n**Morning tee time is sold out!**\nSCHEDULE\n \n\n\n\nMorning Shotgun **SOLD OUT!** \n7:00AM Check-in and buffet breakfast w/ Bloody Marys\n8:00AM Shotgun Start \nLunch and prizes following play\nAfternoon Shotgun \n12:00PM Check-in and lunch\n1:00PM Shotgun Start \nDinner and prizes following play\n\n\n\n\nSPONSORSHIP OPPORTUNITIES Commitments needed by May 6 COB\nHole: $300 – includes signage\, recognition in program\nHole w/ Table $500 – includes signage\, recognition in program SOLD OUT!!\nRefreshment Stand $500 – includes signage\, recognition in program SOLD OUT!!\nDriving Range $500 – includes signage\, recognition in program SOLD OUT!!\nClosest-to-the-Pin Contest $500 – includes signage\, recognition in program\nPutting Contest $600 – includes signage\, recognition in program SOLD OUT!!\nCupcake Station $850 – includes signage\, recognition in program SOLD OUT!!\nCigar Station $850 – includes signage\, recognition in program\nBeverage Cart $1\,000 – includes logo displayed on each beverage cart\, recognition in program SOLD OUT!!\nRaffle $1\,000 – includes signage\, recognition in program\nGolf Ball $1\,500 – includes signage\, recognition in program SOLD OUT!!\nBreakfast $1\,500 – includes signage\, recognition in program\nGolf Cart $1\,500 – includes logo on every golf cart\, recognition in program\nTee Gift $2\,000 – includes signage\, recognition in program\nLunch $2\,000 – includes signage\, recognition in program\nReception $2\,000 – includes signage\, recognition in program\nSelect during registration or email Maureen Nanna to register as a sponsor! \nSPONSORS – THANK YOU!              \n                              \nLOCATION\nChantilly National Golf & Country Club\n14901 Braddock Road\, Centreville\, VA 20120 \nCOST (Members Only)\nFoursome — $1\,400\nIncludes green fee\, cart\, tee prize\, door prizes\, raffle ticket\, refreshments on the course\, and lunch/dinner reception\nTeam registrations only; individual registrations will not be available \nSUBSTITUTIONS/CANCELLATIONS POLICY\nSubstitutions are welcome at any time if the originally registered individual(s) can no longer attend. Refunds will not be issued for cancellations received after 5:00PM on May 11\, 2026. \nQuestions?\nContact Maureen Nanna
URL:https://www.abcva.org/event/nvspring26/
LOCATION:Chantilly National Golf & Country Club\, 14901 Braddock Road\, Centreville\, VA\, 20121\, United States
CATEGORIES:Northern Virginia
ATTACH;FMTTYPE=image/jpeg:https://www.abcva.org/wp-content/uploads/2026/03/NV-Spring-Golf-2026-main-scaled.jpg
ORGANIZER;CN="Maureen Nanna":MAILTO:maureen@abcva.org
END:VEVENT
BEGIN:VEVENT
DTSTART;TZID=America/New_York:20260518T080000
DTEND;TZID=America/New_York:20260518T160000
DTSTAMP:20260419T102756
CREATED:20260219T163632Z
LAST-MODIFIED:20260219T163632Z
UID:10002379-1779091200-1779120000@www.abcva.org
SUMMARY:OSHA 510 - OSHA Standards for the Construction Industry 5/18 NV
DESCRIPTION:OSHA 510 – OCCUPATIONAL SAFETY AND HEALTH STANDARDS FOR THE CONSTRUCTION INDUSTRY\nREGISTER HERE\nOffered by Mid Atlantic OTI Education Center\, this course will be held at ABC-VA Northern Virginia Training Facility\, Host Training Organization\nMay 18 – 21\, 2026  |  8:00AM – 4:00PM\nThis course covers OSHA Standards\, policies\, and procedures in the construction industry.  Topics include scope and application of the OSHA Construction Standards\, construction safety and health principles\, and special emphasis on those areas in construction which are most hazardous.  Upon course completion students will have the ability to define construction terms found in the OSHA Construction Standards\, identify hazards which occur in the construction industry\, locate and determine appropriate OSHA Construction Standards\, policies\, and procedures\, and describe the use of the OSHA Construction Standards and regulations to supplement an ongoing safety and health program. \n\nStudent Contact Hours:  26\nPrerequisites:  None\nCourse Includes: Student binder\, OSHA CFR 1926\, Lunch and Refreshments \n\nThis course is a prerequisite to the OSHA #500 Trainer Course in Occupational Safety and Health Standards for the Construction Industry\nThis course is a required courses for the Public Sector Safety & Health Fundamentals Certificate Program for Construction\n\n\nLOCATION\nABC-VA Northern Virginia Training Facility\n42680 Trade West Drive\, Dulles\, VA 20166 \nCOST\n$845 \nSCHEDULE\nPlease visit CRSC registration link above
URL:https://www.abcva.org/event/osha-510-osha-standards-for-the-construction-industry-5-18-nv/
LOCATION:ABC-VA Northern Virginia Training Facility\, ABC-VA Northern Virginia Training Facility\, 42680 Trade West Drive\, Dulles\,\, VA\, 20166\, United States
CATEGORIES:Northern Virginia
ORGANIZER;CN="Jenny Tashjian":MAILTO:jenny@abcva.org
END:VEVENT
BEGIN:VEVENT
DTSTART;TZID=America/New_York:20260520T160000
DTEND;TZID=America/New_York:20260520T200000
DTSTAMP:20260419T102756
CREATED:20251212T223704Z
LAST-MODIFIED:20251215T174611Z
UID:10002269-1779292800-1779307200@www.abcva.org
SUMMARY:CPR\, AED & First Aid Certification 5/20 NV
DESCRIPTION:CPR\, AED & FIRST AID CERTIFICATION\nWednesday\, May 20\, 2026  |  4:00PM – 8:00PM \nABC Virginia certifies hundreds of individuals each year in First-Aid and CPR/AED using the American Safety and Health Institute’s training content. ABC-VA’s primary goal is to create confidence in its students’ abilities to handle emergency situations. Our instructors provide clear explanations of the subject matter in a relaxed environment. Instructors focus on the importance of controlling\, with confidence\, medical emergencies and providing life support for victims of sudden illness or injury. The certification issued to each participant is valid for two years. \nLOCATION\nABC-VA Northern VA Training Facility\n42680 Trade West Drive\, Dulles\, VA 20166 \nCOST\nMember: $98\nNon-Member: $125 \nSUBSTITUTIONS/CANCELLATION POLICY\nSubstitutions are welcome at any time if the originally registered individual can no longer attend. Cancellations must be made with 48 hours. \nCLASS CONTACT\nShaye Currie
URL:https://www.abcva.org/event/cpr-aed-first-aid-certification-5-20-nv/
LOCATION:ABC-VA Northern Virginia Training Facility\, ABC-VA Northern Virginia Training Facility\, 42680 Trade West Drive\, Dulles\,\, VA\, 20166\, United States
CATEGORIES:Northern Virginia
ORGANIZER;CN="Shaye Currie":MAILTO:shaye@abcva.org
END:VEVENT
END:VCALENDAR