BEGIN:VCALENDAR
VERSION:2.0
PRODID:-//ABC Virginia - ECPv6.15.20//NONSGML v1.0//EN
CALSCALE:GREGORIAN
METHOD:PUBLISH
X-ORIGINAL-URL:https://www.abcva.org
X-WR-CALDESC:Events for ABC Virginia
REFRESH-INTERVAL;VALUE=DURATION:PT1H
X-Robots-Tag:noindex
X-PUBLISHED-TTL:PT1H
BEGIN:VTIMEZONE
TZID:America/New_York
BEGIN:DAYLIGHT
TZOFFSETFROM:-0500
TZOFFSETTO:-0400
TZNAME:EDT
DTSTART:20250309T070000
END:DAYLIGHT
BEGIN:STANDARD
TZOFFSETFROM:-0400
TZOFFSETTO:-0500
TZNAME:EST
DTSTART:20251102T060000
END:STANDARD
BEGIN:DAYLIGHT
TZOFFSETFROM:-0500
TZOFFSETTO:-0400
TZNAME:EDT
DTSTART:20260308T070000
END:DAYLIGHT
BEGIN:STANDARD
TZOFFSETFROM:-0400
TZOFFSETTO:-0500
TZNAME:EST
DTSTART:20261101T060000
END:STANDARD
BEGIN:DAYLIGHT
TZOFFSETFROM:-0500
TZOFFSETTO:-0400
TZNAME:EDT
DTSTART:20270314T070000
END:DAYLIGHT
BEGIN:STANDARD
TZOFFSETFROM:-0400
TZOFFSETTO:-0500
TZNAME:EST
DTSTART:20271107T060000
END:STANDARD
END:VTIMEZONE
BEGIN:VEVENT
DTSTART;TZID=America/New_York:20260303T160000
DTEND;TZID=America/New_York:20260303T190000
DTSTAMP:20260419T102827
CREATED:20260107T230849Z
LAST-MODIFIED:20260107T233125Z
UID:10002324-1772553600-1772564400@www.abcva.org
SUMMARY:Blueprint Reading 102 3/3 NV
DESCRIPTION:BLUEPRINT READING 102\nBegins Tuesday\, March 3\, 2026  |  4:00PM – 7:00PM\nThis course is designed to advance those with the fundamental skills and theories from the basic blueprint reading class (Blueprint 101) that is essential for print reading experience in heavy commercial construction. The textbook and actual project drawings used for this course present and reinforce the concepts of elements commonly found on prints of large structures. \nThe topics to be covered in these sessions include\, but are not limited to\, the following:\n• Working Drawings and Drawing Concepts\n• Types of Construction\n• Specifications\n• Sitework\n• Structural Steel Construction\n• Reinforced Concrete Construction\n• Mechanical and Electrical Systems\n• Finish Construction\n• Trade Competency Tests and Review Questions \nSCHEDULE\nEight-Day Program:\nMar 3\, 10\, 17\, 24\, 31\nApr 7\, 14\, 21\n4:00PM – 7:00PM \nCOST\nMember – $370\nNon-Member – $540\nIncludes textbooks and blueprints \nSUBSTITUTION/CANCELLATION POLICY\nSubstitutions are welcome at any time if the originally registered individual can no longer attend. Please note that a reservation constitutes a financial commitment unless cancellations are made 48 hours in advance. \nQuestions?\nContact Shaye Currie
URL:https://www.abcva.org/event/blueprint-reading-102-3-3-nv/
LOCATION:ABC-VA Northern Virginia Training Facility\, ABC-VA Northern Virginia Training Facility\, 42680 Trade West Drive\, Dulles\,\, VA\, 20166\, United States
CATEGORIES:Northern Virginia
ORGANIZER;CN="Shaye Currie":MAILTO:shaye@abcva.org
END:VEVENT
BEGIN:VEVENT
DTSTART;TZID=America/New_York:20260307T080000
DTEND;TZID=America/New_York:20260307T120000
DTSTAMP:20260419T102827
CREATED:20251212T211632Z
LAST-MODIFIED:20260303T010853Z
UID:10002255-1772870400-1772884800@www.abcva.org
SUMMARY:CPR\, AED & First Aid Certification 3/7 NV
DESCRIPTION:CPR\, AED & FIRST AID CERTIFICATION\nSaturday\, March 7\, 2026  |  8:00AM – 12:00PM \nABC Virginia certifies hundreds of individuals each year in First-Aid and CPR/AED using the American Safety and Health Institute’s training content. ABC-VA’s primary goal is to create confidence in its students’ abilities to handle emergency situations. Our instructors provide clear explanations of the subject matter in a relaxed environment. Instructors focus on the importance of controlling\, with confidence\, medical emergencies and providing life support for victims of sudden illness or injury. The certification issued to each participant is valid for two years. \nLOCATION\nABC-VA Northern VA Training Facility\n42680 Trade West Drive\, Dulles\, VA 20166 \nCOST\nMember: $98\nNon-Member: $125 \nSUBSTITUTIONS/CANCELLATION POLICY\nSubstitutions are welcome at any time if the originally registered individual can no longer attend. Cancellations must be made with 48 hours. \nCLASS CONTACT\nShaye Currie
URL:https://www.abcva.org/event/cpr-aed-first-aid-certification-3-7-nv/
LOCATION:ABC-VA Northern Virginia Training Facility\, ABC-VA Northern Virginia Training Facility\, 42680 Trade West Drive\, Dulles\,\, VA\, 20166\, United States
CATEGORIES:Northern Virginia
ORGANIZER;CN="Shaye Currie":MAILTO:shaye@abcva.org
END:VEVENT
BEGIN:VEVENT
DTSTART;TZID=America/New_York:20260311T080000
DTEND;TZID=America/New_York:20260311T100000
DTSTAMP:20260419T102827
CREATED:20260122T170943Z
LAST-MODIFIED:20260122T171337Z
UID:10002361-1773216000-1773223200@www.abcva.org
SUMMARY:Prevailing Wage Compliance: Navigating Davis-Bacon 3/11 NV
DESCRIPTION:PREVAILING WAGE COMPLIANCE: NAVIGATING THE DAVIS-BACON ACT\nWednesday\, March 11\, 2026  |  8:00AM – 10:00AM  |  Breakfast provided\nJoin us for an in-depth presentation on navigating the complexities of the Davis-Bacon Act and Virginia’s specific regulations. You’ll gain essential knowledge to ensure compliance\, avoid costly mistakes\, and maximize your competitiveness in prevailing wage jobs. \n\nKey Takeaways:\n\n\n• Ensure Accuracy: Learn how to identify the correct wage determination and avoid errors that can lead to costly fines and penalties.\n\n\n• Streamline Compliance: Understand Certified Payroll Report (CPR) mandates and best practices to simplify your reporting process and reduce the risk of non-compliance.\n\n\n• Optimize Fringe Benefits: Discover how to calculate and maximize fringe benefit obligations\, potentially saving you thousands of dollars on labor costs.\n\n\n\nAdditional topics covered will include:\n\n\n• Overtime calculations and compliance\n\n\n• Managing holidays\, paid time\, sick leave\, and weekend work\n\n\n• Navigating wage increases over the project’s lifespan\n\n\n\nExclusive Bonus: Each attendee will receive a signed copy of “The Contractor’s Guide to the Davis-Bacon Act: Essential Knowledge for Bidding and Compliance on Prevailing Wage Jobs” by Nat Peniston – a valuable resource to help you stay ahead of the curve.\n\nINSTRUCTOR – Nat Peniston\, Vice President\, Fringe Benefit Group\, Inc.\nNat Peniston is a national expert on government-funded prevailing wage obligations and works closely with construction contractors to ensure proper compliance\, particularly in bona fide employee benefits strategies. An accomplished author\, he has published numerous articles in ABC’s Construction Executive magazine and published the book\, “The Contractor’s Guide to the Davis-Bacon Act: Essential Knowledge for Bidding and Compliance on Prevailing Wage Jobs.” Nat is a past chairman of the board of ABC – Central Texas and is involved in various charitable organizations. He earned his bachelor’s degree from the University of Miami and lives in Austin\, TX\, with his wife and two daughters.\n\nLOCATION\nABC-VA Northern Virginia Training Facility\n42680 Trade West Drive\, Dulles\, VA 20166\n\nCOST\nMembers $30\nNon-members $60\nBreakfast provided\n\nCANCELLATION/SUBSTITUTION POLICY\nPlease note that a reservation constitutes a financial commitment unless cancellations are made 48 hours in advance. Substitutions are welcome at any time if the originally registered individual(s) are no longer available.\n\nCOURSE CONTACT\nJenny Tashjian
URL:https://www.abcva.org/event/nvcomplies26/
LOCATION:ABC-VA Northern Virginia Training Facility\, ABC-VA Northern Virginia Training Facility\, 42680 Trade West Drive\, Dulles\,\, VA\, 20166\, United States
CATEGORIES:Northern Virginia
ATTACH;FMTTYPE=image/jpeg:https://www.abcva.org/wp-content/uploads/2026/01/NV-Prevailing-Wage-Mar11.jpg
ORGANIZER;CN="Shaye Currie":MAILTO:shaye@abcva.org
END:VEVENT
BEGIN:VEVENT
DTSTART;TZID=America/New_York:20260311T130000
DTEND;TZID=America/New_York:20260311T150000
DTSTAMP:20260419T102827
CREATED:20260202T175952Z
LAST-MODIFIED:20260225T134450Z
UID:10002366-1773234000-1773241200@www.abcva.org
SUMMARY:Ladies Lunch • Style Like a GirlBoss 3/11 NV **SOLD OUT**
DESCRIPTION:LADIES LUNCH • STYLE LIKE A GIRLBOSS [SPECIAL IMAGE CONSULTANT & NETWORKING]\nWednesday\, March 11\, 2026  |  1:00PM – 3:00PM\n**This event is SOLD OUT! Please email Maureen Nanna to be put on waitlist.**\nABC-VA is excited to host an engaging networking lunch designed for women across the construction industry. Connect with peers in marketing\, business development\, project management\, engineers\, estimators\, HR\, and beyond while enjoying a full buffet lunch and cold beverages. \nFeatured speaker Lauren Sigler from House of Colour will explore professional image and style personality\, including a thoughtful introduction to color analysis – helping attendees feel confident\, polished\, and authentic in their professional presence. \nTo make this ladies lunch extra special\, we’ll also be giving out beauty-themed door prizes throughout the event! \nPlease note: ALL members are welcome at this event. \nABOUT LAUREN\nLauren Sigler is a certified color and clothing personality analyst with House of Colour. With a background spanning law\, entrepreneurship\, and over a decade of leadership in the skincare and accessories industry\, she brings a practical\, confidence-focused approach to personal image. Lauren helps professionals simplify their wardrobes and discover the colors and styles that allow them to show up feeling confident and authentic every day. \nSPONSORSHIP OPPORTUNITIES Commitments needed by March 9 COB\nLunch $300 – includes one (1) comped registration\, signage at event\, logo/name on marketing materials\nDrawing $300 – includes one (1) comped registration\, signage at event\, logo/name on marketing materials \nSPONSORS – THANK YOU!\n \nLOCATION\nABC-VA Northern Virginia Training Facility\n42680 Trade West Drive\, Dulles\, VA 20166 \nCOST (Members Only event)\nMembers – $60\nIncludes professional image presentation\, buffet lunch \nSUBSTITUTION/CANCELLATION POLICY\nSubstitutions are welcome at any time if the originally registered individual can no longer attend. Please note that a reservation constitutes a financial commitment unless cancellations are made 48 hours in advance. \nQuestions?\nContact Maureen Nanna
URL:https://www.abcva.org/event/image26/
LOCATION:ABC-VA Northern Virginia Training Facility\, ABC-VA Northern Virginia Training Facility\, 42680 Trade West Drive\, Dulles\,\, VA\, 20166\, United States
CATEGORIES:Northern Virginia
ATTACH;FMTTYPE=image/jpeg:https://www.abcva.org/wp-content/uploads/2026/02/NV-Ladies-Lunch-Mar11.jpg
ORGANIZER;CN="Maureen Nanna":MAILTO:maureen@abcva.org
END:VEVENT
END:VCALENDAR