BEGIN:VCALENDAR
VERSION:2.0
PRODID:-//ABC Virginia - ECPv6.15.20//NONSGML v1.0//EN
CALSCALE:GREGORIAN
METHOD:PUBLISH
X-ORIGINAL-URL:https://www.abcva.org
X-WR-CALDESC:Events for ABC Virginia
REFRESH-INTERVAL;VALUE=DURATION:PT1H
X-Robots-Tag:noindex
X-PUBLISHED-TTL:PT1H
BEGIN:VTIMEZONE
TZID:America/New_York
BEGIN:DAYLIGHT
TZOFFSETFROM:-0500
TZOFFSETTO:-0400
TZNAME:EDT
DTSTART:20250309T070000
END:DAYLIGHT
BEGIN:STANDARD
TZOFFSETFROM:-0400
TZOFFSETTO:-0500
TZNAME:EST
DTSTART:20251102T060000
END:STANDARD
BEGIN:DAYLIGHT
TZOFFSETFROM:-0500
TZOFFSETTO:-0400
TZNAME:EDT
DTSTART:20260308T070000
END:DAYLIGHT
BEGIN:STANDARD
TZOFFSETFROM:-0400
TZOFFSETTO:-0500
TZNAME:EST
DTSTART:20261101T060000
END:STANDARD
BEGIN:DAYLIGHT
TZOFFSETFROM:-0500
TZOFFSETTO:-0400
TZNAME:EDT
DTSTART:20270314T070000
END:DAYLIGHT
BEGIN:STANDARD
TZOFFSETFROM:-0400
TZOFFSETTO:-0500
TZNAME:EST
DTSTART:20271107T060000
END:STANDARD
END:VTIMEZONE
BEGIN:VEVENT
DTSTART;TZID=America/New_York:20260103T080000
DTEND;TZID=America/New_York:20260103T120000
DTSTAMP:20260419T142242
CREATED:20251212T204546Z
LAST-MODIFIED:20251215T165648Z
UID:10002253-1767427200-1767441600@www.abcva.org
SUMMARY:CPR\, AED & First Aid Certification 1/3 NV
DESCRIPTION:CPR\, AED & FIRST AID CERTIFICATION\nSaturday\, January 3\, 2026  |  8:00AM – 12:00PM \nABC Virginia certifies hundreds of individuals each year in First-Aid and CPR/AED using the American Safety and Health Institute’s training content. ABC-VA’s primary goal is to create confidence in its students’ abilities to handle emergency situations. Our instructors provide clear explanations of the subject matter in a relaxed environment. Instructors focus on the importance of controlling\, with confidence\, medical emergencies and providing life support for victims of sudden illness or injury. The certification issued to each participant is valid for two years. \nLOCATION\nABC-VA Northern VA Training Facility\n42680 Trade West Drive\, Dulles\, VA 20166 \nCOST\nMember: $98\nNon-Member: $125 \nSUBSTITUTIONS/CANCELLATION POLICY\nSubstitutions are welcome at any time if the originally registered individual can no longer attend. Cancellations must be made with 48 hours. \nCLASS CONTACT\nShaye Currie
URL:https://www.abcva.org/event/cpr-aed-first-aid-certification-1-3-nv/
LOCATION:ABC-VA Northern Virginia Training Facility\, ABC-VA Northern Virginia Training Facility\, 42680 Trade West Drive\, Dulles\,\, VA\, 20166\, United States
CATEGORIES:Northern Virginia
ORGANIZER;CN="Shaye Currie":MAILTO:shaye@abcva.org
END:VEVENT
BEGIN:VEVENT
DTSTART;TZID=America/New_York:20260105T080000
DTEND;TZID=America/New_York:20260105T160000
DTSTAMP:20260419T142242
CREATED:20250708T145313Z
LAST-MODIFIED:20250708T145313Z
UID:10002162-1767600000-1767628800@www.abcva.org
SUMMARY:OSHA 502 – Update For Construction Industry Outreach Trainers 1/5 NV
DESCRIPTION:OSHA 502 – UPDATE FOR CONSTRUCTION INDUSTRY OUTREACH TRAINERS\nREGISTER HERE\nOffered by Mid Atlantic OTI Education Center\, this course will be held at ABC-VA Northern Virginia Training Facility\, Host Training Organization\nJanuary 5 – 7\, 2026  |  8:00AM – 4:00PM\nThis course is designed for Outreach Training Program trainers who have completed OSHA #500 Trainer Course in Occupational Safety and Health Standards for the Construction Industry and are authorized trainers in the OSHA Outreach Training Program.  The course provides an update on OSHA Construction Standards\, policies\, and regulations.  Upon course completion students will have the ability to demonstrate continued professional development in their field by applying effective adult learning principles and interactive training techniques to clearly identify\, define\, and explain construction industry hazards and acceptable corrective measures as they continue to teach the 10- and 30-hour Construction Outreach Training Program classes. \nStudent Contact Hours: 18 \nPrerequisites:  OSHA #500 Trainers Course in OSHA Standards for the Construction Industry. Authorized Outreach Training Program trainers are required to attend this course once every four years (4) to maintain their trainer status.  Prior to registration\, students must provide a copy of their current Outreach Training Program trainer card or an official transcript showing successful completion of the OSHA #500 Trainer Course in OSHA Standards for Construction from their respective OSHA Training Institute Education Center\, for verification of trainer status. Please note: Copies of Course Certificates will not be accepted as proof of successful completion. \nThe Prerequisite Verification Form is required to complete the registration process. Click this link Prerequisite Verification Form print and send the documentation to our office via email to info@oshamidatlantic.org or fax 410-281-1350 \nRegistration for courses requiring a Prerequisite Verification Form (PVF)—including OSHA #500\, #501\, #502\, #503\, #5400\, and #5402—is not confirmed until the PVF is approved. Forms must be submitted by the close of business on the Tuesday one week before the course starts. Late submissions may be accepted at MAOTIEC’s discretion. \nThose currently enrolled in or who have completed OSHA #510\, #511\, or #5410 are encouraged to submit their PVF promptly. \nCourse Includes: Student binder\, OSHA CFR 1926\, USB which includes: \n\nPowerPoint Presentation\nVideo clips\nTest Questions\nAdditional resource information\n\nLOCATION\nABC-VA Northern Virginia Training Facility\n42680 Trade West Drive\, Dulles\, VA 20166 \nCOST\n$795 \nSCHEDULE\nPlease visit CRSC registration link above
URL:https://www.abcva.org/event/osha-502-update-for-construction-industry-outreach-trainers-1-5-nv/
LOCATION:ABC-VA Northern Virginia Training Facility\, ABC-VA Northern Virginia Training Facility\, 42680 Trade West Drive\, Dulles\,\, VA\, 20166\, United States
CATEGORIES:Northern Virginia
ORGANIZER;CN="Shaye Currie":MAILTO:shaye@abcva.org
END:VEVENT
BEGIN:VEVENT
DTSTART;TZID=America/New_York:20260106T160000
DTEND;TZID=America/New_York:20260106T190000
DTSTAMP:20260419T142242
CREATED:20251203T150000Z
LAST-MODIFIED:20251203T150000Z
UID:10002243-1767715200-1767726000@www.abcva.org
SUMMARY:Blueprint Reading 101 1/6 NV
DESCRIPTION:BLUEPRINT READING 101\nBegins Tuesday\, January 6\, 2026 |  4:00PM – 7:00PM\nEnhance your personal and professional value by enrolling in ABC-VA’s Blueprint Reading 101 for the Construction Industry. This comprehensive course is structured for the beginner and covers all phases of a construction project. Participants will discuss the phases of construction including site\, landscape\, architectural\, structural\, mechanical\, plumbing\, and electrical. \nAll employees in the construction industry can benefit from this course.  Knowing and understanding the blueprint language is a highly marketable skill and will make anyone an invaluable resource to their company. \nSCHEDULE\nEight-Day Program:\nJanuary 6\, 13\, 20\, 27\nFebruary 3\, 10\, 17\, 24\n4:00PM – 7:00PM \nINSTRUCTOR\nThomas Hern \nCOST\nMember – $370\nNon-Member – $540\nIncludes textbooks and blueprints \nSUBSTITUTION/CANCELLATION POLICY\nSubstitutions are welcome at any time if the originally registered individual can no longer attend. Please note that a reservation constitutes a financial commitment unless cancellations are made 48 hours in advance. \nQuestions?\nContact Shaye Currie
URL:https://www.abcva.org/event/blueprint-reading-101-1-6-nv/
LOCATION:ABC-VA Northern Virginia Training Facility\, ABC-VA Northern Virginia Training Facility\, 42680 Trade West Drive\, Dulles\,\, VA\, 20166\, United States
CATEGORIES:Northern Virginia
ORGANIZER;CN="Shaye Currie":MAILTO:shaye@abcva.org
END:VEVENT
BEGIN:VEVENT
DTSTART;TZID=America/New_York:20260121T071500
DTEND;TZID=America/New_York:20260121T170000
DTSTAMP:20260419T142242
CREATED:20250911T161147Z
LAST-MODIFIED:20251215T171944Z
UID:10002205-1768979700-1769014800@www.abcva.org
SUMMARY:Construction Quality Management (Virtual) 1/21 NV **FULL**
DESCRIPTION:CONSTRUCTION QUALITY MANAGEMENT\n**FULL. Please email Shaye Currie to be put on waitlist.**\nWednesday\, January 21\, 2026  |  7:15AM – 5:00PM  |  Virtual\nThe Construction Quality Management course offers prospective QC Managers and Administrators the opportunity to satisfy the CQM-C training requirements specified in most USACE and NAVFAC construction contracts. This course must be taken and the final test must be passed by any person aspiring to be the QC Manager/Administrator or alternate. The Contractors Quality Control (CQC) requirements and the Governments Quality Assurance (QA) roles are reviewed. Training materials provided. \nA course certificate\, valid for a five-year period from the date of the class\, will be awarded to those who satisfactory complete the training and pass the final exam. At this time\, any person that needs to recertify must attend a class. \nLOCATION\nVirtual\nHosted through WebEx Meetings. Attendees will receive class link within 24 hours before course begins. \nSCHEDULE\n7:15AM – WebEx Opens\n7:30AM – Class Starts\n5:00PM – Class Ends \nCOST\nMember – $75\nNon-Member – $100 \nCANCELLATION POLICY\nPlease note that a reservation constitutes a financial commitment unless cancellations are made within 48 hours of training. \nQuestions?\nContact Jenny Tashjian
URL:https://www.abcva.org/event/construction-quality-management-virtual-1-21-nv/
LOCATION:Virtual
CATEGORIES:Central Virginia,Hampton Roads,Northern Virginia,Statewide
ORGANIZER;CN="Shaye Currie":MAILTO:shaye@abcva.org
END:VEVENT
BEGIN:VEVENT
DTSTART;TZID=America/New_York:20260121T160000
DTEND;TZID=America/New_York:20260121T200000
DTSTAMP:20260419T142242
CREATED:20251212T222135Z
LAST-MODIFIED:20251215T172713Z
UID:10002265-1769011200-1769025600@www.abcva.org
SUMMARY:CPR\, AED & First Aid Certification 1/21 NV
DESCRIPTION:CPR\, AED & FIRST AID CERTIFICATION\nWednesday\, January 21\, 2026  |  4:00PM – 8:00PM \nABC Virginia certifies hundreds of individuals each year in First-Aid and CPR/AED using the American Safety and Health Institute’s training content. ABC-VA’s primary goal is to create confidence in its students’ abilities to handle emergency situations. Our instructors provide clear explanations of the subject matter in a relaxed environment. Instructors focus on the importance of controlling\, with confidence\, medical emergencies and providing life support for victims of sudden illness or injury. The certification issued to each participant is valid for two years. \nLOCATION\nABC-VA Northern VA Training Facility\n42680 Trade West Drive\, Dulles\, VA 20166 \nCOST\nMember: $98\nNon-Member: $125 \nSUBSTITUTIONS/CANCELLATION POLICY\nSubstitutions are welcome at any time if the originally registered individual can no longer attend. Cancellations must be made with 48 hours. \nCLASS CONTACT\nShaye Currie
URL:https://www.abcva.org/event/cpr-aed-first-aid-certification-1-21-nv/
LOCATION:ABC-VA Northern Virginia Training Facility\, ABC-VA Northern Virginia Training Facility\, 42680 Trade West Drive\, Dulles\,\, VA\, 20166\, United States
CATEGORIES:Northern Virginia
ORGANIZER;CN="Shaye Currie":MAILTO:shaye@abcva.org
END:VEVENT
BEGIN:VEVENT
DTSTART;TZID=America/New_York:20260122T170000
DTEND;TZID=America/New_York:20260122T193000
DTSTAMP:20260419T142242
CREATED:20251215T170312Z
LAST-MODIFIED:20260115T155004Z
UID:10002279-1769101200-1769110200@www.abcva.org
SUMMARY:Meet & Eat! Meet the Committees + Souper Bowl 1/22 NV
DESCRIPTION:MEET & EAT! MEET THE COMMITTEES + SOUPER BOWL\nThursday\, January 22\, 2026  |  5:00PM – 7:30PM\nJoin us for an early evening of networking\, discovery and scrumptious SOUP with ABC-VA! Step into the world of opportunity as ABC-VA welcomes you to an exclusive networking happy hour at Lark Brewing Co. It’s your chance to connect with our dynamic staff and engaged committee members. Discover the incredible advantages of becoming a part of an ABC-VA committee. \nMix and mingle with your fellow members while savoring a delicious buffet of heavy appetizers paired with Lark Brewing’s craft beers (non-alcoholic refreshments available). As a bonus\, enjoy homemade soup tastings from our ABC-VA staff and the Management Education\, Networking & Involvement\, and Young Professionals Committees while you learn about all committees. Come hungry and ready to explore how ABC-VA can supercharge your career\, help you forge lasting bonds with other construction professionals\, make a meaningful impact on the industry and much more. Don’t miss this exciting event! \nCOMMITTEES\nManagement Education • Membership • Networking & Involvement • Safety • Workforce Development Committee (NV Region) • Young Professionals \nSPONSORSHIP OPPORTUNITIES\nEvent $500 – includes two (2) registrations\, signage at event\, logo/name on marketing materials **SOLD OUT!!**\nBar $500 – includes two (2) registrations\, signage at bar\, logo/name on marketing materials **SOLD OUT!!** \nSPONSORS – THANK YOU!          \n        \nLOCATION\nLark Brewing Co.\n24205 James Monroe Hwy\, Aldie\, VA 20105 \nCOST (Members Only)\n$85\nIncludes heavy appetizers\, two (2) drink tickets and soup tastings sponsored by ABC-VA committees \nQuestions?\nContact Maureen Nanna
URL:https://www.abcva.org/event/meetnv26/
LOCATION:Lark Brewing Co.\, 24205 James Monroe Highway\, Aldie\, 20105\, United States
CATEGORIES:Northern Virginia
ATTACH;FMTTYPE=image/jpeg:https://www.abcva.org/wp-content/uploads/2025/12/NV-Meet-the-Committees-and-Soup-Night-Jan22.jpg
ORGANIZER;CN="Maureen Nanna":MAILTO:maureen@abcva.org
END:VEVENT
BEGIN:VEVENT
DTSTART;TZID=America/New_York:20260127T120000
DTEND;TZID=America/New_York:20260127T140000
DTSTAMP:20260419T142242
CREATED:20260120T162107Z
LAST-MODIFIED:20260120T162222Z
UID:10002341-1769515200-1769522400@www.abcva.org
SUMMARY:Bluebeam Baseline Basics (Option 1) 1/27
DESCRIPTION:Bluebeam Baseline Basics (Virtual) – Option 1\nTuesday\, January 27\, 2026  |  12:00PM – 2:00PM\n**This class is a mandatory pre-requisite for Bluebeam Basics Materials Takeoffs & Estimates and Bluebeam Advanced Materials Takeoffs & Estimates.** \nWhether you’re opening Bluebeam Revu software for the first time or you’ve been using it for years\, this essential **Bluebeam Revu class** ensures everyone is starting from the same strong foundation. Developed by the certified instructors at UChapter2\, this session teaches you how to navigate menus\, toolbars\, panels\, shortcuts\, and key settings. \nYou’ll also get hands-on with markup and measurement tools\, plus insider tips that boost speed\, accuracy\, and proficiency. \nLearning Objectives:\n• Interface Navigation\n• Calibration & Measurements\n• Introduction to the Markups List \nInstructor: Troy DeGroot\, Bluebeam Certified Instructor\, UChapter2 | Owner\nTroy DeGroot is a globally recognized Bluebeam Certified Instructor\, Consultant\, and Implementation Specialist\, known for delivering practical\, workflow-based training courses that empower construction professionals to get results. As the founder of uchapter2.com\, Troy trains over 4\,000 professionals each year\, helping teams streamline processes with custom tools and implementation strategies built around their real-world needs. \nWith 30+ years in the design and construction industry\, Troy brings a unique ability to align technology\, team goals\, and field workflows. Having served as the BIM Manager for a large\, multi-discipline engineering firm\, he understands both the day-to-day challenges of software\, project teams\, and the strategic priorities of leadership. \nTroy is a featured speaker at national and international events—including AIA chapters and major industry conferences like Bluebeam’s Unbound Conference (formerly XCON). Widely regarded as one of the leading authorities in the Bluebeam ecosystem\, he’s known for making complex tools easy to understand\, and training that sticks. \nABC Members can bundle the following classes for $303 (non-members can bundle for $468); or $121 per class for Members/ $182 per class for non-members: \n\nBaseline Basics (Option 1)\, January 27\, 12:00-2:00 p.m. EST\nBaseline Basics (Option 2)\, January 28\, 12:00-2:00 p.m. EST\nMaterials Takeoffs & Estimates\, Basics\, January 29\, 12:00-2:00 p.m. EST\nMaterials Takeoffs & Estimates\, Advanced\, January 30\, 12:00-2:00 p.m. EST\n\nVisit our Bluebeam page for more information on the entire program. \nContact us with any questions.
URL:https://www.abcva.org/event/bluebeam-baseline-basics-option-1-1-27/
LOCATION:Virtual
CATEGORIES:Central Virginia,Hampton Roads,Northern Virginia,Statewide
ORGANIZER;CN="Jamie Carrow":MAILTO:jamie@abcva.org
END:VEVENT
BEGIN:VEVENT
DTSTART;TZID=America/New_York:20260128T110000
DTEND;TZID=America/New_York:20260128T120000
DTSTAMP:20260419T142242
CREATED:20260107T155202Z
LAST-MODIFIED:20260107T155202Z
UID:10002313-1769598000-1769601600@www.abcva.org
SUMMARY:Construction Technology Trends Reshaping Today's Contractors • VIRTUAL 1/28
DESCRIPTION:Construction Technology Trends Reshaping Today’s Contractors • VIRTUAL\nWednesday\, January 28\, 2026  |  11:00AM – 12:00PM\nJoin us for a timely virtual webinar exploring the technology trends transforming how contractors operate\, collaborate\, and compete. \nKEY TAKEAWAYS\nBridging the Gap Between Office & Field\n• How digital tools are improving communication\, coordination\, and real-time visibility across projects\nDriving Productivity & Labor Efficiency\n• Ways construction technology is helping contractors do more with limited labor while improving accuracy and jobsite performance\nPreparing Your Workforce for Technology Adoption\n• Practical strategies to train\, engage\, and empower teams to successfully adopt new tools and workflows \nSPEAKERS\nPatrick Scarpati\, Director of Construction Technology & Innovation\, ABC National\nNino Efendic\, Founder\, Aerial Prospex \nLOCATION\nVirtual\nA meeting link will be sent to registered attendees within 24 hours of webinar. \nCOST\nABC-VA Members — $25\nNon-members — $50 \nQuestions?\nContact Kristen Altermatt
URL:https://www.abcva.org/event/trends26/
LOCATION:Virtual
CATEGORIES:Central Virginia,Hampton Roads,Northern Virginia,Statewide
ATTACH;FMTTYPE=image/jpeg:https://www.abcva.org/wp-content/uploads/2026/01/CV-ConTech-Trends-Jan28.jpg
ORGANIZER;CN="Kristen Altermatt":MAILTO:kristen@abcva.org
END:VEVENT
BEGIN:VEVENT
DTSTART;TZID=America/New_York:20260128T120000
DTEND;TZID=America/New_York:20260128T140000
DTSTAMP:20260419T142242
CREATED:20260120T162807Z
LAST-MODIFIED:20260120T162807Z
UID:10002342-1769601600-1769608800@www.abcva.org
SUMMARY:Bluebeam Baseline Basics (Option 2) 1/28
DESCRIPTION:Bluebeam Baseline Basics (Virtual) – Option 2\nWednesday\, January 28\, 2026  |  12:00PM – 2:00PM\n**This class is a mandatory pre-requisite for Bluebeam Basics Materials Takeoffs & Estimates and Bluebeam Advanced Materials Takeoffs & Estimates.** \nWhether you’re opening Bluebeam Revu software for the first time or you’ve been using it for years\, this essential **Bluebeam Revu class** ensures everyone is starting from the same strong foundation. Developed by the certified instructors at UChapter2\, this session teaches you how to navigate menus\, toolbars\, panels\, shortcuts\, and key settings. \nYou’ll also get hands-on with markup and measurement tools\, plus insider tips that boost speed\, accuracy\, and proficiency. \nLearning Objectives:\n• Interface Navigation\n• Calibration & Measurements\n• Introduction to the Markups List \nInstructor: Troy DeGroot\, Bluebeam Certified Instructor\, UChapter2 | Owner\nTroy DeGroot is a globally recognized Bluebeam Certified Instructor\, Consultant\, and Implementation Specialist\, known for delivering practical\, workflow-based training courses that empower construction professionals to get results. As the founder of uchapter2.com\, Troy trains over 4\,000 professionals each year\, helping teams streamline processes with custom tools and implementation strategies built around their real-world needs. \nWith 30+ years in the design and construction industry\, Troy brings a unique ability to align technology\, team goals\, and field workflows. Having served as the BIM Manager for a large\, multi-discipline engineering firm\, he understands both the day-to-day challenges of software\, project teams\, and the strategic priorities of leadership. \nTroy is a featured speaker at national and international events—including AIA chapters and major industry conferences like Bluebeam’s Unbound Conference (formerly XCON). Widely regarded as one of the leading authorities in the Bluebeam ecosystem\, he’s known for making complex tools easy to understand\, and training that sticks. \nABC Members can bundle the following classes for $303 (non-members can bundle for $468); or $121 per class for Members/ $182 per class for non-members: \n\nBaseline Basics (Option 1)\, January 27\, 12:00-2:00 p.m. EST\nBaseline Basics (Option 2)\, January 28\, 12:00-2:00 p.m. EST\nMaterials Takeoffs & Estimates\, Basics\, January 29\, 12:00-2:00 p.m. EST\nMaterials Takeoffs & Estimates\, Advanced\, January 30\, 12:00-2:00 p.m. EST\n\nVisit our Bluebeam page for more information on the entire program. \nContact us with any questions.
URL:https://www.abcva.org/event/bluebeam-baseline-basics-option-2-1-28/
LOCATION:Virtual
CATEGORIES:Central Virginia,Hampton Roads,Northern Virginia,Statewide
ORGANIZER;CN="Jamie Carrow":MAILTO:jamie@abcva.org
END:VEVENT
BEGIN:VEVENT
DTSTART;TZID=America/New_York:20260128T130000
DTEND;TZID=America/New_York:20260128T143000
DTSTAMP:20260419T142242
CREATED:20251215T142913Z
LAST-MODIFIED:20251215T142913Z
UID:10002278-1769605200-1769610600@www.abcva.org
SUMMARY:From Bids to Builds: How Salesforce & AI Are Transforming Construction • Virtual 1/28
DESCRIPTION:FROM BIDS TO BUILDS: HOW SALESFORCE & AI ARE TRANSFORMING CONSTRUCTION • VIRTUAL\nWednesday\, January 28\, 2026  |  1:00PM – 2:30PM\nThe construction industry is shifting from manual spreadsheets to data-driven decision-making. Artificial Intelligence (AI) is not just for futurists – it is a practical tool available today to vet designs\, automate quality checks\, and predict material needs. This session explores how ABC-VA members can use Salesforce as a “Single Source of Truth\,” integrating with specialized AI tools to eliminate administrative burdens and win more profitable work. \nLOCATION\nVirtual\nA meeting link will be sent to registered attendees within 24 hours of webinar. \nCOST\nABC-VA Members — $25\nNon-members — $35 \nQuestions?\nContact Jenny Tashjian
URL:https://www.abcva.org/event/from-bids-to-builds/
LOCATION:Virtual
CATEGORIES:Central Virginia,Hampton Roads,Northern Virginia,Statewide
ORGANIZER;CN="Shaye Currie":MAILTO:shaye@abcva.org
END:VEVENT
BEGIN:VEVENT
DTSTART;TZID=America/New_York:20260129T120000
DTEND;TZID=America/New_York:20260129T140000
DTSTAMP:20260419T142242
CREATED:20260120T163937Z
LAST-MODIFIED:20260120T164022Z
UID:10002343-1769688000-1769695200@www.abcva.org
SUMMARY:Bluebeam Materials Takeoffs & Estimates • Basics 1/29
DESCRIPTION:Bluebeam Materials Takeoffs & Estimates • Basics (Virtual)\nThursday\, January 29\, 2026  |  12:00PM – 2:00PM \n*Mandatory Pre-requisite – Baseline Basics (Option 1 – January 27) / Baseline Basics (Option 2 – January 28). Please use one of the preceding links if you would like to purchase the 3-class bundle. \nOffered by the certified instructors at UChapter2\, this course introduces standard measurement tools and markup customization options to help convert your highlighters into powerful takeoff tools. With emphasis on the Markups List and workflow tips\, this **Bluebeam software course** helps estimators improve speed and accuracy from day one. \nLearning Objectives:\n• Introduction to Viewports\n• Measurement Tips & Tricks\n• Custom Estimating Tools \nInstructor: Troy DeGroot\, Bluebeam Certified Instructor\, UChapter2 | Owner\nTroy DeGroot is a globally recognized Bluebeam Certified Instructor\, Consultant\, and Implementation Specialist\, known for delivering practical\, workflow-based training courses that empower construction professionals to get results. As the founder of uchapter2.com\, Troy trains over 4\,000 professionals each year\, helping teams streamline processes with custom tools and implementation strategies built around their real-world needs. \nWith 30+ years in the design and construction industry\, Troy brings a unique ability to align technology\, team goals\, and field workflows. Having served as the BIM Manager for a large\, multi-discipline engineering firm\, he understands both the day-to-day challenges of software\, project teams\, and the strategic priorities of leadership. \nTroy is a featured speaker at national and international events—including AIA chapters and major industry conferences like Bluebeam’s Unbound Conference (formerly XCON). Widely regarded as one of the leading authorities in the Bluebeam ecosystem\, he’s known for making complex tools easy to understand\, and training that sticks. \nVisit our Bluebeam page for more information on the entire program. \nContact us if you have any questions.
URL:https://www.abcva.org/event/bluebeam-materials-takeoffs-estimates-basics-1-29/
LOCATION:Virtual
CATEGORIES:Central Virginia,Hampton Roads,Northern Virginia,Statewide
ORGANIZER;CN="Jamie Carrow":MAILTO:jamie@abcva.org
END:VEVENT
BEGIN:VEVENT
DTSTART;TZID=America/New_York:20260130T120000
DTEND;TZID=America/New_York:20260130T140000
DTSTAMP:20260419T142242
CREATED:20260120T164501Z
LAST-MODIFIED:20260120T164501Z
UID:10002344-1769774400-1769781600@www.abcva.org
SUMMARY:Bluebeam Materials Takeoffs & Estimates • Advanced 1/30
DESCRIPTION:Bluebeam Materials Takeoffs & Estimates • Advanced (Virtual)\nFriday\, January 30\, 2026  |  12:00PM – 2:00PM \n*Mandatory Pre-requisite – Baseline Basics (Option 1 – January 27) / Baseline Basics (Option 2 – January 28) & Basics Materials Takeoffs & Estimates (January 29). Please use one of the preceding links if you would like to purchase the 3-class bundle. \nThis advanced class from UChapter2 takes your estimating to the next level. Learn to create custom columns\, embed formulas\, organize information\, and export or live-link to Excel templates. Estimators gain immediate\, real-world skills they can put to work on the very next bid. \nLearning Objectives:\n• Custom Estimating Tools (Continued from “Material Takeoffs & Estimates-Basics”)\n• Collecting Rich Data with Custom Columns\n• Reports and Exporting Data \nInstructor: Troy DeGroot\, Bluebeam Certified Instructor\, UChapter2 | Owner\nTroy DeGroot is a globally recognized Bluebeam Certified Instructor\, Consultant\, and Implementation Specialist\, known for delivering practical\, workflow-based training courses that empower construction professionals to get results. As the founder of uchapter2.com\, Troy trains over 4\,000 professionals each year\, helping teams streamline processes with custom tools and implementation strategies built around their real-world needs. \nWith 30+ years in the design and construction industry\, Troy brings a unique ability to align technology\, team goals\, and field workflows. Having served as the BIM Manager for a large\, multi-discipline engineering firm\, he understands both the day-to-day challenges of software\, project teams\, and the strategic priorities of leadership. \nTroy is a featured speaker at national and international events—including AIA chapters and major industry conferences like Bluebeam’s Unbound Conference (formerly XCON). Widely regarded as one of the leading authorities in the Bluebeam ecosystem\, he’s known for making complex tools easy to understand\, and training that sticks. \nVisit our Bluebeam page for more information on the entire program. \nContact us if you have any questions.
URL:https://www.abcva.org/event/bluebeam-materials-takeoffs-estimates-advanced-1-30/
LOCATION:Virtual
CATEGORIES:Central Virginia,Hampton Roads,Northern Virginia,Statewide
ORGANIZER;CN="Jamie Carrow":MAILTO:jamie@abcva.org
END:VEVENT
END:VCALENDAR