BEGIN:VCALENDAR
VERSION:2.0
PRODID:-//ABC Virginia - ECPv6.15.20//NONSGML v1.0//EN
CALSCALE:GREGORIAN
METHOD:PUBLISH
X-WR-CALNAME:ABC Virginia
X-ORIGINAL-URL:https://www.abcva.org
X-WR-CALDESC:Events for ABC Virginia
REFRESH-INTERVAL;VALUE=DURATION:PT1H
X-Robots-Tag:noindex
X-PUBLISHED-TTL:PT1H
BEGIN:VTIMEZONE
TZID:America/New_York
BEGIN:DAYLIGHT
TZOFFSETFROM:-0500
TZOFFSETTO:-0400
TZNAME:EDT
DTSTART:20240310T070000
END:DAYLIGHT
BEGIN:STANDARD
TZOFFSETFROM:-0400
TZOFFSETTO:-0500
TZNAME:EST
DTSTART:20241103T060000
END:STANDARD
BEGIN:DAYLIGHT
TZOFFSETFROM:-0500
TZOFFSETTO:-0400
TZNAME:EDT
DTSTART:20250309T070000
END:DAYLIGHT
BEGIN:STANDARD
TZOFFSETFROM:-0400
TZOFFSETTO:-0500
TZNAME:EST
DTSTART:20251102T060000
END:STANDARD
BEGIN:DAYLIGHT
TZOFFSETFROM:-0500
TZOFFSETTO:-0400
TZNAME:EDT
DTSTART:20260308T070000
END:DAYLIGHT
BEGIN:STANDARD
TZOFFSETFROM:-0400
TZOFFSETTO:-0500
TZNAME:EST
DTSTART:20261101T060000
END:STANDARD
END:VTIMEZONE
BEGIN:VEVENT
DTSTART;TZID=America/New_York:20250701T070000
DTEND;TZID=America/New_York:20250701T150000
DTSTAMP:20260420T022311
CREATED:20241218T163749Z
LAST-MODIFIED:20241218T163749Z
UID:10001947-1751353200-1751382000@www.abcva.org
SUMMARY:OSHA 10 Hour Course 7/1 NV
DESCRIPTION:ABOUT THIS COURSE\nSafety training is a necessity in this industry and knowing OSHA regulations ensures jobsite safety and prevents mishaps and OSHA fines. The OSHA 10-Hour Course combines important textual information with relevant\, real-life examples from the field and video presentations. Enroll and learn OSHA regulations and receive your OSHA 10-Hour completion card. Training materials provided. \nSCHEDULE\n2-Session Course:\nTuesday\, July 1\, 2025\, 7:00AM – 3:00PM (Breakfast\, pre-packaged snacks\, coffee/water and boxed lunch provided)\nTuesday\, July 8\, 2025\, 7:00AM – 9:30AM (Pre-packaged snacks and coffee/water provided) \nLOCATION\nABC-VA Northern Virginia Training Facility\n42680 Trade West Drive\, Dulles\, VA 20166 \nCOST\nMember – $210\nNon-Member – $315 \nCANCELLATION POLICY\nPlease note that a reservation constitutes a financial commitment unless cancellations are made 48 hours in advance. \nQuestions?\nContact Shaye Currie
URL:https://www.abcva.org/event/osha-10-hour-course-7-1-nv/
LOCATION:ABC-VA Northern Virginia Training Facility\, ABC-VA Northern Virginia Training Facility\, 42680 Trade West Drive\, Dulles\,\, VA\, 20166\, United States
CATEGORIES:Northern Virginia
ORGANIZER;CN="Shaye Currie":MAILTO:shaye@abcva.org
END:VEVENT
BEGIN:VEVENT
DTSTART;TZID=America/New_York:20250701T070000
DTEND;TZID=America/New_York:20250701T150000
DTSTAMP:20260420T022311
CREATED:20241218T165046Z
LAST-MODIFIED:20250701T164957Z
UID:10001952-1751353200-1751382000@www.abcva.org
SUMMARY:OSHA 30 Hour Course 7/1 NV
DESCRIPTION:ABOUT THIS COURSE\nWould you like to learn how OSHA regulations affect your jobsite? Enroll in our OSHA 30-Hour course and prepare yourself for the OSHA inspection you are not expecting. Safety training is a necessity in this industry and knowing OSHA regulations ensures jobsite safety and prevents mishaps and OSHA fines. The OSHA 30 Hour Course combines important textual information with relevant\, real-life examples from the field and video presentations. Enroll and learn OSHA regulations and receive your OSHA 30-Hour completion card. Training materials provided. \nSCHEDULE\n4-Session Course: July 1\, 8\, 15 & 22\, 2025 (Tuesdays)\n7:00AM – 3:00PM (Pre-packaged snacks\, coffee/water and boxed lunch provided) \nLOCATION\nABC-VA Northern Virginia Training Facility\n42680 Trade West Drive\, Dulles\, VA 20166 \nCOST\nMember – $495\nNon-Member – $695 \nCANCELLATION POLICY\nPlease note that a reservation constitutes a financial commitment unless cancellations are made 48 hours in advance. \nQuestions?\nContact Shaye Currie
URL:https://www.abcva.org/event/osha-30-hour-course-7-1-nv/
LOCATION:ABC-VA Northern Virginia Training Facility\, ABC-VA Northern Virginia Training Facility\, 42680 Trade West Drive\, Dulles\,\, VA\, 20166\, United States
CATEGORIES:Northern Virginia
ORGANIZER;CN="Shaye Currie":MAILTO:shaye@abcva.org
END:VEVENT
BEGIN:VEVENT
DTSTART;TZID=America/New_York:20250710T160000
DTEND;TZID=America/New_York:20250710T193000
DTSTAMP:20260420T022311
CREATED:20250512T155027Z
LAST-MODIFIED:20250708T202724Z
UID:10002137-1752163200-1752175800@www.abcva.org
SUMMARY:SummerFest 2025 NV 7/10
DESCRIPTION:SUMMERFEST 2025\nThursday\, July 10\, 2025  |  4:00PM – 7:30PM\nABC-VA invites you to join 300 of your favorite ABC-VA members for the biggest bash of the summer! Our annual SummerFest is one of our most attended events of the year. And it’s no surprise – here’s what you can expect for 2025:\n• All-you-care to eat (seafood [including steamed crabs]\, burgers\, kabobs\, local food trucks and dessert) 🦀\n• Cornhole tournament with prize to first place team ($30 buy-in per person) 🏆 \n• MurLarkey Spirits Tasting 🥃\n• Batting cages ⚾\n• Ice cream truck 🍦\n• SummerFest t-shirt giveaway 👕\n• Raffle prize drawing 🎟️\n• Live DJ 🎶\n• & more! \nDress is summer casual. It’s going to be hot! 😎 \nSPONSORSHIP OPPORTUNITIES (all include logo/name on event promotional materials)\nCommitments are needed by COB Monday\, June 30\nMain Event $1\,200 – includes three (3) tickets\, signage at event SOLD OUT!!\nDJ $800 – includes three (3) tickets\, signage at event SOLD OUT!!\nFood Station $650 – includes two (2) tickets\, signage at event SOLD OUT!!\nBeer Station $650 – includes two (2) tickets\, signage at event SOLD OUT!!\nTent $650 – includes two (2) tickets\, signage at event SOLD OUT!!\nMurLarkey Spirits Tasting $650 – includes two (2) tickets\, signage at event SOLD OUT!!\nIce Cream Truck $650 – includes two (2) tickets\, signage at event SOLD OUT!!\nDrawing Sponsor $650– includes two (2) tickets\, signage at event SOLD OUT!!\nBatting Cages $500 – includes one (1) ticket\, signage at event SOLD OUT!!\nDessert $500 – includes one (1) ticket\, signage at event  SOLD OUT!!\nWine Station $000 – includes one (1) ticket\, signage at event  SOLD OUT!!\nCornhole $500 – includes one (1) ticket\, signage at event SOLD OUT!!\nSelect during registration or email Maureen Nanna to register as a sponsor! \nSPONSORS – THANK YOU!\n                                                                                                              \nCORNHOLE TOURNAMENT\n$30 per person for buy-in. Winning team takes all! Please register your team online or email Maureen Nanna. \nLOCATION\nABC-VA Headquarters\n42680 Trade West Drive\, Dulles\, VA 20166 \nCOST (Members Only)\nMembers – $110\nProspective Members: please reach out to Katie Gregg to found out how to snag an invite \nSUBSTITUTIONS/CANCELLATIONS POLICY\nSubstitutions are welcome at any time if the originally registered individual(s) can no longer attend. Cancellations must be made within 48 hours of event. \nQuestions?\nContact Maureen Nanna
URL:https://www.abcva.org/event/summerfest25/
LOCATION:ABC-VA Northern Virginia Training Facility\, ABC-VA Northern Virginia Training Facility\, 42680 Trade West Drive\, Dulles\,\, VA\, 20166\, United States
CATEGORIES:Northern Virginia,Statewide
ATTACH;FMTTYPE=image/jpeg:https://www.abcva.org/wp-content/uploads/2025/05/NV-2025-SummerFest-July-10-WEB.jpg
ORGANIZER;CN="Maureen Nanna":MAILTO:maureen@abcva.org
END:VEVENT
BEGIN:VEVENT
DTSTART;TZID=America/New_York:20250712T080000
DTEND;TZID=America/New_York:20250712T120000
DTSTAMP:20260420T022311
CREATED:20250114T192552Z
LAST-MODIFIED:20250114T192552Z
UID:10002020-1752307200-1752321600@www.abcva.org
SUMMARY:CPR\, AED & First Aid Certification 7/12 NV
DESCRIPTION:CPR\, AED & FIRST AID CERTIFICATION\nSaturday\, July 12\, 2025  |  8:00AM – 12:00PM \nABC Virginia certifies hundreds of individuals each year in First-Aid and CPR/AED using the American Safety and Health Institute’s training content. ABC-VA’s primary goal is to create confidence in its students’ abilities to handle emergency situations. Our instructors provide clear explanations of the subject matter in a relaxed environment. Instructors focus on the importance of controlling\, with confidence\, medical emergencies and providing life support for victims of sudden illness or injury. The certification issued to each participant is valid for two years. \nLOCATION\nABC-VA Northern VA Training Facility\n42680 Trade West Drive\, Dulles\, VA 20166 \nCOST\nMember: $88\nNon-Member: $100 \nSUBSTITUTIONS/CANCELLATION POLICY\nSubstitutions are welcome at any time if the originally registered individual can no longer attend. Cancellations must be made with 48 hours. \nCLASS CONTACT\nShaye Currie
URL:https://www.abcva.org/event/cpr-aed-first-aid-certification-7-12-nv/
LOCATION:ABC-VA Northern Virginia Training Facility\, ABC-VA Northern Virginia Training Facility\, 42680 Trade West Drive\, Dulles\,\, VA\, 20166\, United States
CATEGORIES:Northern Virginia
ORGANIZER;CN="Shaye Currie":MAILTO:shaye@abcva.org
END:VEVENT
BEGIN:VEVENT
DTSTART;TZID=America/New_York:20250714T150000
DTEND;TZID=America/New_York:20250714T170000
DTSTAMP:20260420T022311
CREATED:20250610T182806Z
LAST-MODIFIED:20250707T145847Z
UID:10002147-1752505200-1752512400@www.abcva.org
SUMMARY:Managing Economic Volatility & Tariffs in Construction Contracts 7/14 NV
DESCRIPTION:MANAGING ECONOMIC VOLATILITY & TARIFFS IN CONSTRUCTION CONTRACTS\nMonday\, July 14\, 2025  |  3:00PM – 5:00PM\nThis presentation will provide practical legal and project management strategies for dealing with economic challenges in construction projects\, such as inflation\, tariffs\, and material cost spikes. Speakers from Offit Kurman\, Attorneys At Law. \nTopics covered:\n— Overview of industry-standard clauses that help manage economic risk and evaluation of how well these clauses address volatility.\n— Legal doctrines that may provide relief even without express contract terms and limitations and requirements for invoking them.\n— Tailoring contracts to anticipate economic fluctuations\, including escalation clauses\, force majeure\, and material price adjustment provisions.\n— What to do when facing or filing a claim for cost overages\, and legal and procedural steps to protect your position. \nQ&A and Informal Happy Hour/Networking to follow \nVIRTUAL OPTION AVAILABLE! Please select Virtual Participant during registration. You will receive the virtual link within 24 hours before the workshop begins.\nLOCATION\nABC-VA Northern Virginia Training Facility\n42680 Trade West Drive\, Dulles\, VA 20166 \nCOST\nMembers – $40\nNon-Members – $60 \nSUBSTITUTION/CANCELLATION POLICY\nSubstitutions are welcome at any time if the originally registered individual(s) can no longer attend. Written notice to cancel must be received within 48 hours of training for a refund. \nQuestions?\nContact Jenny Tashjian
URL:https://www.abcva.org/event/tariffs-in-construction-contracts-july14/
LOCATION:ABC-VA Northern Virginia Training Facility\, ABC-VA Northern Virginia Training Facility\, 42680 Trade West Drive\, Dulles\,\, VA\, 20166\, United States
CATEGORIES:Northern Virginia
ATTACH;FMTTYPE=image/jpeg:https://www.abcva.org/wp-content/uploads/2025/06/NV-Tariffs-in-Construction-July-14-web2.jpg
ORGANIZER;CN="Shaye Currie":MAILTO:shaye@abcva.org
END:VEVENT
BEGIN:VEVENT
DTSTART;TZID=America/New_York:20250716T073000
DTEND;TZID=America/New_York:20250716T170000
DTSTAMP:20260420T022311
CREATED:20241218T183526Z
LAST-MODIFIED:20241218T183526Z
UID:10001958-1752651000-1752685200@www.abcva.org
SUMMARY:Construction Quality Management 7/16 NV
DESCRIPTION:CONSTRUCTION QUALITY MANAGEMENT\nWednesday\, July 16\, 2025  |  7:30AM – 5:00PM  |  ABC-VA Dulles\nThe Construction Quality Management course offers prospective QC Managers and Administrators the opportunity to satisfy the CQM-C training requirements specified in most USACE and NAVFAC construction contracts. This course must be taken and the final test must be passed by any person aspiring to be the QC Manager/Administrator or alternate. The Contractors Quality Control (CQC) requirements and the Governments Quality Assurance (QA) roles are reviewed. Training materials provided. \nA course certificate\, valid for a five-year period from the date of the class\, will be awarded to those who satisfactory complete the training and pass the final exam. At this time\, any person that needs to recertify must attend a class. \nLOCATION\nABC-VA Northern Virginia Training Facility\n42680 Trade West Drive\, Dulles\, VA 20166 \nCOST\nMember – $295\nNon-Member – $395\nContinental breakfast\, lunch & refreshments provided \nCANCELLATION POLICY\nPlease note that a reservation constitutes a financial commitment unless cancellations are made by 7/11/2025 EOD. \nQuestions?\nContact Erin Stamer
URL:https://www.abcva.org/event/construction-quality-management-7-16-nv/
LOCATION:ABC-VA Northern Virginia Training Facility\, ABC-VA Northern Virginia Training Facility\, 42680 Trade West Drive\, Dulles\,\, VA\, 20166\, United States
CATEGORIES:Northern Virginia
ORGANIZER;CN="Shaye Currie":MAILTO:shaye@abcva.org
END:VEVENT
BEGIN:VEVENT
DTSTART;TZID=America/New_York:20250716T140000
DTEND;TZID=America/New_York:20250716T150000
DTSTAMP:20260420T022311
CREATED:20241119T151203Z
LAST-MODIFIED:20241212T152832Z
UID:10001894-1752674400-1752678000@www.abcva.org
SUMMARY:Bluebeam Intro from the Experts 7/16
DESCRIPTION:Bluebeam Intro from the Experts (Virtual)\nWednesday\, July 16\, 2025  |  2:00PM-3:00PM \nWhen it comes to AEC industry software\, Bluebeam Revu is one of the most popular\, quickly growing to over 2 million users worldwide. With functionality for Design Review\, Estimating\, Collecting Field Data\, and others\, Bluebeam is not your average PDF software. \nABC-VA has partnered with Troy DeGroot with UChapter2.com to provide the best quality Bluebeam training in the industry. Don’t miss this opportunity to see an introduction to each upcoming course and learning objectives. Get your questions answered to assure you’re in the appropriate courses for your skillset and workflows. \nBe sure to register right away as seats are limited\, and share with your industry peers! \nRegistration:\nREGISTRATION LINK. This intro course hosted by UChapter2. \nVisit our Bluebeam page for more information on the entire program. \nContact us if you have any questions.
URL:https://www.abcva.org/event/bluebeam-intro-from-the-experts-7-16/
LOCATION:Virtual
CATEGORIES:Central Virginia,Hampton Roads,Northern Virginia,Statewide
ATTACH;FMTTYPE=image/jpeg:https://www.abcva.org/wp-content/uploads/2022/12/Bluebeam-Launch-Webinar-22DEC22.jpg
ORGANIZER;CN="Jamie Carrow":MAILTO:jamie@abcva.org
END:VEVENT
BEGIN:VEVENT
DTSTART;TZID=America/New_York:20250716T160000
DTEND;TZID=America/New_York:20250716T200000
DTSTAMP:20260420T022311
CREATED:20250114T181637Z
LAST-MODIFIED:20250310T195839Z
UID:10002009-1752681600-1752696000@www.abcva.org
SUMMARY:CPR\, AED & First Aid Certification 7/16 NV
DESCRIPTION:CPR\, AED & FIRST AID CERTIFICATION\nWednesday\, July 16\, 2025  |  4:00PM – 8:00PM \nABC Virginia certifies hundreds of individuals each year in First-Aid and CPR/AED using the American Safety and Health Institute’s training content. ABC-VA’s primary goal is to create confidence in its students’ abilities to handle emergency situations. Our instructors provide clear explanations of the subject matter in a relaxed environment. Instructors focus on the importance of controlling\, with confidence\, medical emergencies and providing life support for victims of sudden illness or injury. The certification issued to each participant is valid for two years. \nLOCATION\nABC-VA Northern VA Training Facility\n42680 Trade West Drive\, Dulles\, VA 20166 \nCOST\nMember: $88\nNon-Member: $100 \nSUBSTITUTIONS/CANCELLATION POLICY\nSubstitutions are welcome at any time if the originally registered individual can no longer attend. Cancellations must be made with 48 hours. \nCLASS CONTACT\nShaye Currie
URL:https://www.abcva.org/event/cpr-aed-first-aid-certification-7-16-nv/
LOCATION:ABC-VA Northern Virginia Training Facility\, ABC-VA Northern Virginia Training Facility\, 42680 Trade West Drive\, Dulles\,\, VA\, 20166\, United States
CATEGORIES:Northern Virginia
ORGANIZER;CN="Shaye Currie":MAILTO:shaye@abcva.org
END:VEVENT
BEGIN:VEVENT
DTSTART;TZID=America/New_York:20250721T080000
DTEND;TZID=America/New_York:20250721T160000
DTSTAMP:20260420T022311
CREATED:20250320T151859Z
LAST-MODIFIED:20250320T151859Z
UID:10002085-1753084800-1753113600@www.abcva.org
SUMMARY:OSHA 502 – Update For Construction Industry Outreach Trainers 7/21 NV
DESCRIPTION:OSHA 502 – UPDATE FOR CONSTRUCTION INDUSTRY OUTREACH TRAINERS\nREGISTER HERE\nOffered by Mid Atlantic OTI Education Center\, this course will be held at ABC-VA Northern Virginia Training Facility\, Host Training Organization\nJuly 21 – 23\, 2025  |  8:00AM – 4:00PM\nThis course is designed for Outreach Training Program trainers who have completed OSHA #500 Trainer Course in Occupational Safety and Health Standards for the Construction Industry and are authorized trainers in the OSHA Outreach Training Program.  The course provides an update on OSHA Construction Standards\, policies\, and regulations.  Upon course completion students will have the ability to demonstrate continued professional development in their field by applying effective adult learning principles and interactive training techniques to clearly identify\, define\, and explain construction industry hazards and acceptable corrective measures as they continue to teach the 10- and 30-hour Construction Outreach Training Program classes. \nStudent Contact Hours: 18 \nPrerequisites:  OSHA #500 Trainers Course in OSHA Standards for the Construction Industry. Authorized Outreach Training Program trainers are required to attend this course once every four years (4) to maintain their trainer status.  Prior to registration\, students must provide a copy of their current Outreach Training Program trainer card or an official transcript showing successful completion of the OSHA #500 Trainer Course in OSHA Standards for Construction from their respective OSHA Training Institute Education Center\, for verification of trainer status. Please note: Copies of Course Certificates will not be accepted as proof of successful completion. \nThe Prerequisite Verification Form is required to complete the registration process. Click this link Prerequisite Verification Form print and send the documentation to our office via email to info@oshamidatlantic.org or fax 410-281-1350 \nCourse Includes: Student binder\, OSHA CFR 1926\, USB which includes: \n\nPowerPoint Presentation\nVideo clips\nTest Questions\nAdditional resource information\n\nLOCATION\nABC-VA Northern Virginia Training Facility\n42680 Trade West Drive\, Dulles\, VA 20166 \nCOST\n$795 \nSCHEDULE\nPlease visit CRSC registration link above
URL:https://www.abcva.org/event/osha-502-update-for-construction-industry-outreach-trainers-7-21-nv/
LOCATION:ABC-VA Northern Virginia Training Facility\, ABC-VA Northern Virginia Training Facility\, 42680 Trade West Drive\, Dulles\,\, VA\, 20166\, United States
CATEGORIES:Northern Virginia
END:VEVENT
BEGIN:VEVENT
DTSTART;TZID=America/New_York:20250724T080000
DTEND;TZID=America/New_York:20250724T160000
DTSTAMP:20260420T022311
CREATED:20250320T152105Z
LAST-MODIFIED:20250320T152105Z
UID:10002086-1753344000-1753372800@www.abcva.org
SUMMARY:Mobile Elevating Work Platforms (MEWP) Trainer Course 7/24 NV
DESCRIPTION:MOBILE ELEVATING WORK PLATFORMS (MEWP) TRAINER COURSE\nREGISTER HERE\nThursday\, July 24\, 2025  |  8:00AM – 4:00PM\nThis is a comprehensive training program for Mobile Elevating Work Platforms (MEWP)  to prepare employees to train on hazard identification\, inspection and safe operating practices back at their facility. Upon completion of this course attendees will have the skills and knowledge necessary to ensure safe work practices and procedures. \nTopics Include: \n\nInspection of potential work areas for hazards\nOperator Training\nOperator familiarization\nEquipment Pre-start Inspection\nSafe operating practices\nOperator\, User\, and Owner Responsibilities\n\n\n\nCourse Includes: Instructor Resource Binder and Mobile Elevating Work Platforms (MEWP)  PowerPoint Presentation on USB\, lunch and refreshments \n\n\nLOCATION\nABC-VA Northern Virginia Training Facility\n42680 Trade West Drive\, Dulles\, VA 20166 \nCOST\nMembers – $375\nNon-Members – $475 \nSCHEDULE\nPlease visit CRSC registration link above
URL:https://www.abcva.org/event/mobile-elevating-work-platforms-mewp-trainer-course-7-24-nv/
LOCATION:ABC-VA Northern Virginia Training Facility\, ABC-VA Northern Virginia Training Facility\, 42680 Trade West Drive\, Dulles\,\, VA\, 20166\, United States
CATEGORIES:Northern Virginia
END:VEVENT
BEGIN:VEVENT
DTSTART;TZID=America/New_York:20250724T163000
DTEND;TZID=America/New_York:20250724T190000
DTSTAMP:20260420T022311
CREATED:20250618T174358Z
LAST-MODIFIED:20250618T174400Z
UID:10002154-1753374600-1753383600@www.abcva.org
SUMMARY:Young Professionals: Future-Proofing with AI for Construction 7/24 NV
DESCRIPTION:YOUNG PROFESSIONALS: FUTURE-PROOFING WITH AI FOR CONSTRUCTION [PANEL]\nThursday\, July 24\, 2025  |  4:30PM – 7:00PM\nBACK BY POPULAR DEMAND! Our Young Professionals Panel & Social Hour returns on July 24 to explore how to future-proof our construction projects using AI. This interactive panel will highlight how to set up custom AI agents\, using ChatGPT effectively\, Digital Twin\, Microsoft Co-Pilot\, AI governance and policies + Q&A where you can ask whatever you want to know! \nKey Takeaways\n• Explore How AI Is Transforming Construction: Discover real-world applications of artificial intelligence across planning\, design\, safety\, and operations.\n• Hear from Industry Leaders and Innovators: Gain insights from experts at the forefront of AI implementation in construction projects of all sizes.\n• Boost Productivity & Reduce Risk: Learn how AI is helping companies optimize schedules\, prevent cost overruns\, and improve site safety.\n• Case Studies from the Field: Get inspired by live examples of how AI is being used today in areas like drone mapping\, predictive maintenance\, and robotics.\n• Future-Proof Your Business: Understand emerging trends and how your organization can stay competitive in a rapidly evolving tech landscape.\n• Interactive Q&A with Experts: Ask the questions that matter most to your business and get practical\, actionable answers.\n• Network with Forward-Thinking Peers: Connect with professionals who are leading the charge in digital transformation within construction. \nAfter the panel\, head over to Honor Brewing next door for fun networking over drinks and appetizers! \nPANELISTS\nAkshay Reddy\, Assistant Project Manager | E.E. Reed East Coast | Moderator\nRohit Setty\, Principal | Setty | Panelist\nBenny Sayasithsena\, VP of Sales | M3 Technology Consultants | Panelist\nAndrew Gregg\, Land Use and Real Estate Attorney | Bean\, Kinney & Korman\, P.C. | Panelist\nChris Guerra\, North Regional Business Development Manager\, Ruppert Landscape | Panelist \nSPONSORSHIP OPPORTUNITIES Commitments needed by July 21 COB\nEvent $200 – includes one (1) comped registration\, signage at event\, logo/name on marketing materials \nLOCATION\nPanel Event: ABC-VA Northern Virginia Training Facility\, 42680 Trade West Drive\, Dulles\, VA 20166\nPost-Event Networking: Honor Brewing\, 42604 Trade West Drive\, Dulles\, VA 20166 \nCOST\nMembers – $45\nNon-Members – $55\nIncludes panel discussion\, light apps and two (2) drink tickets \nSUBSTITUTION/CANCELLATION POLICY\nSubstitutions are welcome at any time if the originally registered individual can no longer attend. Please note that a reservation constitutes a financial commitment unless cancellations are made 48 hours in advance. \nQuestions?\nContact Katie Gregg
URL:https://www.abcva.org/event/ypfutureai/
LOCATION:ABC-VA Northern Virginia Training Facility\, ABC-VA Northern Virginia Training Facility\, 42680 Trade West Drive\, Dulles\,\, VA\, 20166\, United States
CATEGORIES:Northern Virginia
ATTACH;FMTTYPE=image/jpeg:https://www.abcva.org/wp-content/uploads/2025/06/NV-YP-AI-Panel-July-24-web.jpg
ORGANIZER;CN="Katie Gregg":MAILTO:katieg@abcva.org
END:VEVENT
END:VCALENDAR