BEGIN:VCALENDAR
VERSION:2.0
PRODID:-//ABC Virginia - ECPv6.15.20//NONSGML v1.0//EN
CALSCALE:GREGORIAN
METHOD:PUBLISH
X-ORIGINAL-URL:https://www.abcva.org
X-WR-CALDESC:Events for ABC Virginia
REFRESH-INTERVAL;VALUE=DURATION:PT1H
X-Robots-Tag:noindex
X-PUBLISHED-TTL:PT1H
BEGIN:VTIMEZONE
TZID:America/New_York
BEGIN:DAYLIGHT
TZOFFSETFROM:-0500
TZOFFSETTO:-0400
TZNAME:EDT
DTSTART:20240310T070000
END:DAYLIGHT
BEGIN:STANDARD
TZOFFSETFROM:-0400
TZOFFSETTO:-0500
TZNAME:EST
DTSTART:20241103T060000
END:STANDARD
BEGIN:DAYLIGHT
TZOFFSETFROM:-0500
TZOFFSETTO:-0400
TZNAME:EDT
DTSTART:20250309T070000
END:DAYLIGHT
BEGIN:STANDARD
TZOFFSETFROM:-0400
TZOFFSETTO:-0500
TZNAME:EST
DTSTART:20251102T060000
END:STANDARD
BEGIN:DAYLIGHT
TZOFFSETFROM:-0500
TZOFFSETTO:-0400
TZNAME:EDT
DTSTART:20260308T070000
END:DAYLIGHT
BEGIN:STANDARD
TZOFFSETFROM:-0400
TZOFFSETTO:-0500
TZNAME:EST
DTSTART:20261101T060000
END:STANDARD
END:VTIMEZONE
BEGIN:VEVENT
DTSTART;TZID=America/New_York:20250301T080000
DTEND;TZID=America/New_York:20250301T120000
DTSTAMP:20260424T063303
CREATED:20250114T191600Z
LAST-MODIFIED:20250114T191600Z
UID:10002016-1740816000-1740830400@www.abcva.org
SUMMARY:CPR\, AED & First Aid Certification 3/1 NV
DESCRIPTION:CPR\, AED & FIRST AID CERTIFICATION\nSaturday\, March 1\, 2025  |  8:00AM – 12:00PM \nABC Virginia certifies hundreds of individuals each year in First-Aid and CPR/AED using the American Safety and Health Institute’s training content. ABC-VA’s primary goal is to create confidence in its students’ abilities to handle emergency situations. Our instructors provide clear explanations of the subject matter in a relaxed environment. Instructors focus on the importance of controlling\, with confidence\, medical emergencies and providing life support for victims of sudden illness or injury. The certification issued to each participant is valid for two years. \nLOCATION\nABC-VA Northern VA Training Facility\n42680 Trade West Drive\, Dulles\, VA 20166 \nCOST\nMember: $88\nNon-Member: $100 \nSUBSTITUTIONS/CANCELLATION POLICY\nSubstitutions are welcome at any time if the originally registered individual can no longer attend. Cancellations must be made with 48 hours. \nCLASS CONTACT\nShaye Currie
URL:https://www.abcva.org/event/cpr-aed-first-aid-certification-3-1-nv/
LOCATION:ABC-VA Northern Virginia Training Facility\, ABC-VA Northern Virginia Training Facility\, 42680 Trade West Drive\, Dulles\,\, VA\, 20166\, United States
CATEGORIES:Northern Virginia
ORGANIZER;CN="Shaye Currie":MAILTO:shaye@abcva.org
END:VEVENT
BEGIN:VEVENT
DTSTART;TZID=America/New_York:20250311T073000
DTEND;TZID=America/New_York:20250311T170000
DTSTAMP:20260424T063303
CREATED:20241218T183022Z
LAST-MODIFIED:20241218T183022Z
UID:10001956-1741678200-1741712400@www.abcva.org
SUMMARY:Construction Quality Management 3/11 NV
DESCRIPTION:CONSTRUCTION QUALITY MANAGEMENT\nTuesday\, March 11\, 2025  |  7:30AM – 5:00PM  |  ABC-VA Dulles\nThe Construction Quality Management course offers prospective QC Managers and Administrators the opportunity to satisfy the CQM-C training requirements specified in most USACE and NAVFAC construction contracts. This course must be taken and the final test must be passed by any person aspiring to be the QC Manager/Administrator or alternate. The Contractors Quality Control (CQC) requirements and the Governments Quality Assurance (QA) roles are reviewed. Training materials provided. \nA course certificate\, valid for a five-year period from the date of the class\, will be awarded to those who satisfactory complete the training and pass the final exam. At this time\, any person that needs to recertify must attend a class. \nLOCATION\nABC-VA Northern Virginia Training Facility\n42680 Trade West Drive\, Dulles\, VA 20166 \nCOST\nMember – $295\nNon-Member – $395\nContinental breakfast\, lunch & refreshments provided \nCANCELLATION POLICY\nPlease note that a reservation constitutes a financial commitment unless cancellations are made by 3/6/2025 EOD. \nQuestions?\nContact Erin Stamer
URL:https://www.abcva.org/event/construction-quality-management-3-11-nv/
LOCATION:ABC-VA Northern Virginia Training Facility\, ABC-VA Northern Virginia Training Facility\, 42680 Trade West Drive\, Dulles\,\, VA\, 20166\, United States
CATEGORIES:Northern Virginia
ORGANIZER;CN="Shaye Currie":MAILTO:shaye@abcva.org
END:VEVENT
BEGIN:VEVENT
DTSTART;TZID=America/New_York:20250313T080000
DTEND;TZID=America/New_York:20250313T183000
DTSTAMP:20260424T063303
CREATED:20241212T200245Z
LAST-MODIFIED:20250307T181713Z
UID:10001929-1741852800-1741890600@www.abcva.org
SUMMARY:ABC Regional Construction Summit
DESCRIPTION:ABC REGIONAL CONSTRUCTION SUMMIT \nThursday\, March 13\, 2025  |  8:00AM – 6:30PM  |  MD Live! Casino\, Hanover\, MD\nPLEASE NOTE: REGISTRATION IS THROUGH ABC GREATER BALTIMORE (CLICK HERE)\nThe 2025 ABC Regional Construction Summit\, co-hosted by ABC Chesapeake Shores\, ABC Greater Baltimore\, ABC of Metro Washington\, and ABC Virginia is the premier networking and educational conference of the year! We guarantee there is content for every type of member and employee. \nView the full agenda and breakout session details!\nAt this day-long conference\, we will bring in dynamic speakers featuring the region’s most forward-thinking companies for an opportunity to meet\, collaborate\, and learn how we can expect this industry to be changing and how we can be on the forefront of leadership\, technological advances\, and safety preparedness. Don’t miss out on this one-day conference of educational sessions\, exhibitors & networking! \nDownload printable flyer\nAGENDA\n8:00AM – Registration\, Breakfast & Exhibitor Hall\n9:30AM – Morning Keynote Speaker\n10:45AM – Breakout Session #1 (choice of 3 topics/speakers)\n                     Wage Theft and Misclassification: Recent Developments and How to Avoid the Consequences hosted by\n                     Jennifer Harris and Adam Handfinger\, Peckar & Abramson\n                     Magnetic Leadership hosted by Michael Bellaman\, President & CEO\, ABC National\n                     How Companies can use AI in Day-to-Day Operations presented by Dustin Sitton\, Incite Automation\n11:45AM – Breakout Session #2 (choice of 3 topics/speakers)\n                     Establishing a Safety Management System & Supporting Culture (Panel) moderated by\n                     Frank Trujillo\, Coakley & Williams Construction\n                     Hot Labor Issues of 2025: Wage Misclassification\, PLAs\, Union Organizing\, FMLA & More hosted by\n                     Maury Baskin\, Littler\n                     Fireside Chat: Trade Partner Relationships (Panel) with Mike Ginsburg (Chesapeake Contracting)\,\n                     Dan Novack (Balfour Beatty)\, Mike Elias (Casey Construction) and Megan Ross (Coakley & Williams\n                     Construction) / moderated by Chad Prinkey of Well Built Consulting\n12:45PM – Lunch & Lunch Speaker\n1:45PM – Afternoon Break/Exhibitor Hall \n2:15PM – Breakout Session #3 (choice of 3 topics/speakers)\n                     PLAs & The New Administration hosted by Ben Brubeck\, VP of Regulatory\, Labor & State Affairs\, ABC National\n                     Dark Web Case Study & Cyber Security hosted by Satyam Verma\, Egnyte\n                     Tech Adoption: How We Grew Through Tech (Panel) with Chris Barry (Southway Builders)\,\n                     Tom Pittman (Chaney Enterprises)\, Lowell Kramer (Worth & Company) / Lorri Grayson (GGA Construction)\n                     moderated by Jack Kwait-Blank (Coakley & Williams Construction)\n3:15PM – Closing Keynote Speaker\n4:30PM to 6:30PM – Happy Hour\, Networking\, Exhibitor Hall \nLOCATION\nMaryland Live! Casino\n7002 Arundel Mills Cir Ste 7777\, Hanover\, MD 21076 \nCOST\nEarly Bird (until 2/21/2025) – $175\nRegular – $200\nNon-Members – $325 \nCurrent Exhibitors:\nSkillforce • Trade Scouts • ABC Insurance Trust • Milwaukee Tool • Egnyte • Bmore Technology • Incite Automation • Arcoro • Procore • JLG • Construction Intelligence Solutions • M3 Technology Consultants • Outbuild • Grunley • C2MS • Document Crunch • Dresner Group • SpaceSaver Interiors • DeWALT / Stanley Black & Decker • Chesapeake Embroidery • Contractors Health Coalition • Rehab at Work • Aroom\n**EXHIBITORSHIPS SOLD OUT!!** \nHOTEL ACCOMODATIONS\nClick here for room block information and rates: https://book.passkey.com/e/50932507 \nSponsorships Available!\n• Keynote Sponsor (includes exhibitor booth)\n• Lunch Sponsor\n• Happy Hour Sponsor\n• Breakout Room Sponsor\nClick here to visit the sponsorship information page \nSPONSORS – THANK YOU!         \n                                  \nSUBSTITUTIONS/CANCELLATIONS\nSubstitutions are welcome at any time if the originally registered individual(s) can no longer attend. Written notice must be submitted by 5PM on Friday\, March 7\, 2025\, to receive a refund.
URL:https://www.abcva.org/event/arcs25/
LOCATION:MD Live! Casino\, 7002 Arundel Mills Cir Ste 7777\, Hanover\, MD\, 21076\, United States
CATEGORIES:Central Virginia,Hampton Roads,Northern Virginia,Statewide
ATTACH;FMTTYPE=image/jpeg:https://www.abcva.org/wp-content/uploads/2024/12/2025-ABC-Regional-Construction-Summit-square-1.jpg
ORGANIZER;CN="Jessica Gillette":MAILTO:jessica@abcva.org
END:VEVENT
BEGIN:VEVENT
DTSTART;TZID=America/New_York:20250319T160000
DTEND;TZID=America/New_York:20250319T200000
DTSTAMP:20260424T063303
CREATED:20250114T180716Z
LAST-MODIFIED:20250114T180716Z
UID:10002005-1742400000-1742414400@www.abcva.org
SUMMARY:CPR\, AED & First Aid Certification 3/19 NV
DESCRIPTION:CPR\, AED & FIRST AID CERTIFICATION\nWednesday\, March 19\, 2025  |  4:00PM – 8:00PM \nABC Virginia certifies hundreds of individuals each year in First-Aid and CPR/AED using the American Safety and Health Institute’s training content. ABC-VA’s primary goal is to create confidence in its students’ abilities to handle emergency situations. Our instructors provide clear explanations of the subject matter in a relaxed environment. Instructors focus on the importance of controlling\, with confidence\, medical emergencies and providing life support for victims of sudden illness or injury. The certification issued to each participant is valid for two years. \nLOCATION\nABC-VA Northern VA Training Facility\n42680 Trade West Drive\, Dulles\, VA 20166 \nCOST\nMember: $88\nNon-Member: $100 \nSUBSTITUTIONS/CANCELLATION POLICY\nSubstitutions are welcome at any time if the originally registered individual can no longer attend. Cancellations must be made with 48 hours. \nCLASS CONTACT\nShaye Currie
URL:https://www.abcva.org/event/cpr-aed-first-aid-certification-3-19-nv/
LOCATION:ABC-VA Northern Virginia Training Facility\, ABC-VA Northern Virginia Training Facility\, 42680 Trade West Drive\, Dulles\,\, VA\, 20166\, United States
CATEGORIES:Northern Virginia
ORGANIZER;CN="Shaye Currie":MAILTO:shaye@abcva.org
END:VEVENT
BEGIN:VEVENT
DTSTART;TZID=America/New_York:20250324T140000
DTEND;TZID=America/New_York:20250324T150000
DTSTAMP:20260424T063303
CREATED:20241119T151004Z
LAST-MODIFIED:20241212T152710Z
UID:10001893-1742824800-1742828400@www.abcva.org
SUMMARY:Bluebeam Intro from the Experts 3/24
DESCRIPTION:Bluebeam Intro from the Experts (Virtual)\nMonday\, March 24\, 2025  |  2:00PM-3:00PM \nWhen it comes to AEC industry software\, Bluebeam Revu is one of the most popular\, quickly growing to over 2 million users worldwide. With functionality for Design Review\, Estimating\, Collecting Field Data\, and others\, Bluebeam is not your average PDF software. \nABC-VA has partnered with Troy DeGroot with UChapter2.com to provide the best quality Bluebeam training in the industry. Don’t miss this opportunity to see an introduction to each upcoming course and learning objectives. Get your questions answered to assure you’re in the appropriate courses for your skillset and workflows. \nBe sure to register right away as seats are limited\, and share with your industry peers! \nRegistration:\nREGISTRATION LINK. This intro course hosted by UChapter2. \nVisit our Bluebeam page for more information on the entire program. \nContact us if you have any questions.
URL:https://www.abcva.org/event/bluebeam-intro-from-the-experts-mar24/
LOCATION:Virtual
CATEGORIES:Central Virginia,Hampton Roads,Northern Virginia,Statewide
ATTACH;FMTTYPE=image/jpeg:https://www.abcva.org/wp-content/uploads/2022/12/Bluebeam-Launch-Webinar-22DEC22.jpg
ORGANIZER;CN="Jamie Carrow":MAILTO:jamie@abcva.org
END:VEVENT
BEGIN:VEVENT
DTSTART;TZID=America/New_York:20250325T160000
DTEND;TZID=America/New_York:20250325T180000
DTSTAMP:20260424T063303
CREATED:20250218T162857Z
LAST-MODIFIED:20250320T222459Z
UID:10002046-1742918400-1742925600@www.abcva.org
SUMMARY:Young Professionals: Social Media & Personal Branding Insights 3/25 NV
DESCRIPTION:YOUNG PROFESSIONALS: SOCIAL MEDIA & PERSONAL BRANDING INSIGHTS [PANEL]\nTuesday\, March 25\, 2025  |  4:00PM – 6:00PM\nJoin us for a game-changing event designed specifically for construction professionals like you! Learn the secrets to utilizing social media & the importance of building your personal brand. \nKey Takeaways\n• Develop your online network and influence by building a personal brand\n• Showcase your expertise and learn how to leverage LinkedIn for your growth\n• Understand marketing techniques and tools used by industry leaders to stand out\n• Create an authentic and authoritative presence that opens doors to new opportunities \nAfter the panel\, head over to Honor Brewing next door for fun networking over drinks and appetizers! \nPANELISTS\nChris Guerra\, North Regional Business Development Manager\, Ruppert Landscape | Moderator/Panelist\nStacey Holsinger\, Owner & Strategist\, Steel Toe Communications | Panelist\nZeena Fangman\, VP of Marketing and Corporate Communications\, HITT Contracting | Panelist\nFranque Minor\, Business Development Manager\, Press Mechanical Contractors\, Inc. | Panelist \nSPONSORSHIP OPPORTUNITIES Commitments needed by March 19 COB\nEvent $250 – includes one (1) comped registration\, signage at event\, logo/name on marketing materials \nLOCATION\nPanel Event: ABC-VA Northern Virginia Training Facility\, 42680 Trade West Drive\, Dulles\, VA 20166\nPost-Event Networking: Honor Brewing\, 42604 Trade West Drive\, Dulles\, VA 20166 \nCOST\nMembers – $35\nNon-Members – $45\nIncludes panel discussion\, light apps and two (2) drink tickets \nSUBSTITUTION/CANCELLATION POLICY\nSubstitutions are welcome at any time if the originally registered individual can no longer attend. Please note that a reservation constitutes a financial commitment unless cancellations are made 48 hours in advance. \nQuestions?\nContact Katie Gregg
URL:https://www.abcva.org/event/ypinsights25/
LOCATION:ABC-VA Northern Virginia Training Facility\, ABC-VA Northern Virginia Training Facility\, 42680 Trade West Drive\, Dulles\,\, VA\, 20166\, United States
CATEGORIES:Northern Virginia
ATTACH;FMTTYPE=image/jpeg:https://www.abcva.org/wp-content/uploads/2025/02/NV-YP-Social-Media-Branding-Mar-25-web2.jpg
ORGANIZER;CN="Katie Gregg":MAILTO:katieg@abcva.org
END:VEVENT
BEGIN:VEVENT
DTSTART;TZID=America/New_York:20250327T073000
DTEND;TZID=America/New_York:20250327T090000
DTSTAMP:20260424T063303
CREATED:20250218T200244Z
LAST-MODIFIED:20250324T124904Z
UID:10002048-1743060600-1743066000@www.abcva.org
SUMMARY:Risk vs. Reward: Is Group Captive Insurance Right for Your Business? 3/27
DESCRIPTION:RISK VS. REWARD: IS GROUP CAPTIVE INSURANCE RIGHT FOR YOUR BUSINESS?\n**RESCHEDULED. New date TBA soon.**\nThursday\, March 27\, 2025  |  7:30AM – 9:00AM  |  Virtual\nA Group Captive Insurance Program is an arrangement where multiple businesses pool their resources to create a shared insurance program\, potentially reducing premiums and increasing control. Members share risks and rewards\, including potential dividends\, but also face potential shared losses and complexity. Is your business ready for a group captive insurance program? \nPLEASE NOTE: this webinar is designed for CEOs\, presidents\, owners\, CFOs\, safety directors\, and other senior leadership roles \nKey Topics\n– What is a group captive program\n– How to determine if a group captive is right for your company (feasibility study)\n– The different types of group captives and how to determine which one is right for your business\n– Program advantages\n– The considerations before entering a group captive (risk vs. reward)\n– Group captive acceptance procedure\n– What to expect with claims and safety and loss control \nPLUS! Hear firsthand from Randy Funk with S.W. Funk\, a group captive insurance participant\, and ask him any questions to determine if the program is a good fit for you. \nSPEAKERS\nJanice Graziosi\, Vice President\, Property & Casualty\, USI Insurance Services – Janice has been in the insurance industry for over 25 years\, with experience on both the broker and carrier side of the industry. She brings technical expertise to the middle and upper middle market construction industry through a strategic approach to protect her client’s financial health and long term viability while mitigating risk and protecting the client’s balance sheet. \nJustin Weis\, Practice Leader\, VIRGINIA P&C\, USI Insurance Services – Justin Weis is Senior Vice President and Property & Casualty Practice Leader of USI’s Richmond and Norfolk offices. Justin stepped into the Practice Leader role in 2023 after 9 years as a successful middle market broker and is now responsible for the development and growth of USI’s Virginia P&C Practice. Justin consults with C-suite executives to understand their businesses and develops solutions to various hazards\, financial\, operational and strategic risk issues. \nLOCATION\nVirtual\nLink to be sent to attendees within 24 hours of webinar \nCOST \nMembers – $30\nNon-Members – $60 \nQuestions?\nContact Kristen Altermatt
URL:https://www.abcva.org/event/group-captive-insurance-webinar-mar27/
LOCATION:Virtual
CATEGORIES:Central Virginia,Hampton Roads,Northern Virginia,Statewide
ATTACH;FMTTYPE=image/jpeg:https://www.abcva.org/wp-content/uploads/2025/02/Group-Captive-Webinar-Mar-27-web.jpg
ORGANIZER;CN="Kristen Altermatt":MAILTO:kristen@abcva.org
END:VEVENT
BEGIN:VEVENT
DTSTART;TZID=America/New_York:20250327T080000
DTEND;TZID=America/New_York:20250327T160000
DTSTAMP:20260424T063303
CREATED:20250211T144511Z
LAST-MODIFIED:20250312T133444Z
UID:10002044-1743062400-1743091200@www.abcva.org
SUMMARY:How to Collaborate in the Pull Planning Process 3/27 NV
DESCRIPTION:How to Collaborate in the Pull Planning Process\nThursday\, March 27\, 2025  |  8:00AM – 4:00PM\n \n“Awesome class\, outstanding all around. Best I’ve been to at ABC-VA to date!” -Colin Miller\, General Superintendent\, TEEL Construction \nLearn how to use the Collaborative Pull Planning Process that has proven to yield better and more reliable schedules. No computers are used in this very “hands-on” workshop. Participants learning it by doing it. \nThis valuable planning and managing technique is used around the world\, and it is rapidly being adopted in all types of projects from very large to very small. From the overall master planner\, to the foreman in the field – these schedules are more than just wallpaper. The foremen actually help create and follow the plan. \nParticipants will learn how to the integrate the Master Schedule\, the Phase Pull\, the Look Ahead\, Constraints\, and the Weekly work plan. Additionally\, participants will learn to monitor and measure how well the teams follow the plan through PPC tracking – altogether on the wall with sticky notes – no computer required! \nThis workshop is perfect for executives\, project managers\, superintendents and foremen. \nINSTRUCTOR\nTom Patton\, Project Management Services Bureau \nLOCATION\nABC-VA Northern Virginia Training Facility\n42680 Trade West Drive\, Dulles\, VA 20166 \nCOST\nMembers: $275\nNon-Member: $375\nBreakfast and lunch provided \nSUBSTITUTION/CANCELLATION POLICY\nSubstitutions are welcome at any time if the originally registered individual(s) can no longer attend. A reservation constitutes a financial commitment unless cancellations are made 48 hours in advance. \nQUESTIONS?\nErin Stamer
URL:https://www.abcva.org/event/how-to-collaborate-in-the-pull-planning-process-3-27-nv/
LOCATION:ABC-VA Northern Virginia Training Facility\, ABC-VA Northern Virginia Training Facility\, 42680 Trade West Drive\, Dulles\,\, VA\, 20166\, United States
CATEGORIES:Northern Virginia
ATTACH;FMTTYPE=image/jpeg:https://www.abcva.org/wp-content/uploads/2025/02/NV-Pull-Planning-Mar-27-web.jpg
ORGANIZER;CN="Shaye Currie":MAILTO:shaye@abcva.org
END:VEVENT
BEGIN:VEVENT
DTSTART;TZID=America/New_York:20250331T080000
DTEND;TZID=America/New_York:20250331T160000
DTSTAMP:20260424T063303
CREATED:20250114T170344Z
LAST-MODIFIED:20250114T170344Z
UID:10002003-1743408000-1743436800@www.abcva.org
SUMMARY:OSHA 500 – Trainer Course in OSHA Standards for the Construction Industry 3/31 NV
DESCRIPTION:OSHA 500 – TRAINER COURSE IN OCCUPATIONAL SAFETY AND HEALTH STANDARDS FOR THE CONSTRUCTION INDUSTRY\nREGISTER HERE\nOffered by Mid Atlantic OTI Education Center\, this course will be held at ABC-VA Northern Virginia Training Facility\, Host Training Organization\nMarch 31 – April 3\, 2025  |  8:00AM – 4:00PM\n \nThis course is designed for individuals interested in teaching the 10- and 30-hour construction safety and health Outreach Training Program to their employees and other interested groups. Using OSHA Construction Standards as a guide\, special emphasis is placed on those topics required in the 10- and 30-hour programs as well as those which are most hazardous. Students are briefed on effective instructional approaches and use of visual aids and handouts. This course allows the student to become a trainer in the OSHA Outreach Training Program\, to conduct both 10- and 30-hour Construction Outreach classes\, and to issue cards to participants after verifying course completion. Students who wish to participate as authorized Outreach trainers in the OSHA Outreach Training Program must prepare a presentation on an assigned OSHA Construction Outreach Training Program topic individually or as part of a group and successfully pass a written exam at the end of the course. \n\nTopics include: \n\nSafety and Health Programs\nFall Protection\nStairways/Ladders\nScaffolds\nFire Protection\nMotor Vehicles\nWelding & Cutting\nHealth Hazards\nPPE\nElectrical Standards\nHand and Power Tools\nConcrete and Masonry\nCranes\, Derricks\, Hoists\nMaterial Handling\nExcavation\nConfined Spaces\nGeneral Safety and Health Provisions\nDemolition\nSteel Erection\nOutreach Training Program Requirements\nTraining Techniques\n\nPrerequisites: Students must successfully complete the OSHA #510 Occupational Safety and Health Standards for Construction and have five (5) years of safety and health work experience in the construction industry. A degree in occupational safety and health\, a Certified Safety Professional (CSP) or a Certified Industrial Hygienist (CIH) designation may be substituted for two (2) years of work related experience. Students should obtain guidance on whether they meet this requirement from the OSHA Training Institute Education Center where they intend to receive the training. Authorized OSHA Outreach Training Program trainers are required to attend OSHA #502 Update for Construction Industry Outreach Trainers at least once every four (4) years to maintain their trainer status. \nIndustry OSHA Standards courses (#510\, #511\, and #5410) must be completed not later than seven (7) years prior to completing the relevant Industry Trainer course (#500\, #501\, and #5400). \nThe Prerequisite Verification Form is required to complete the registration process. Click this link Prerequisite Verification Form print and send the documentation to our office via email to info@oshamidatlantic.org or fax 410-281-1350. \nCourse Includes: Student binder\, OSHA CFR 1926\, USB which includes: \n\nPowerPoint Presentation\nVideo clips\nTest Questions\nAdditional resource information\n\nContact Hours: 26 \n\nLOCATION\nABC-VA Northern Virginia Training Facility\n42680 Trade West Drive\, Dulles\, VA 20166 \nCOST\n$845 \nSCHEDULE\nPlease visit CRSC registration link above
URL:https://www.abcva.org/event/osha-500-trainer-course-in-osha-standards-for-the-construction-industry-3-31-nv/
LOCATION:ABC-VA Northern Virginia Training Facility\, ABC-VA Northern Virginia Training Facility\, 42680 Trade West Drive\, Dulles\,\, VA\, 20166\, United States
CATEGORIES:Northern Virginia
ORGANIZER;CN="Shaye Currie":MAILTO:shaye@abcva.org
END:VEVENT
END:VCALENDAR