BEGIN:VCALENDAR
VERSION:2.0
PRODID:-//ABC Virginia - ECPv6.15.20//NONSGML v1.0//EN
CALSCALE:GREGORIAN
METHOD:PUBLISH
X-WR-CALNAME:ABC Virginia
X-ORIGINAL-URL:https://www.abcva.org
X-WR-CALDESC:Events for ABC Virginia
REFRESH-INTERVAL;VALUE=DURATION:PT1H
X-Robots-Tag:noindex
X-PUBLISHED-TTL:PT1H
BEGIN:VTIMEZONE
TZID:America/New_York
BEGIN:DAYLIGHT
TZOFFSETFROM:-0500
TZOFFSETTO:-0400
TZNAME:EDT
DTSTART:20250309T070000
END:DAYLIGHT
BEGIN:STANDARD
TZOFFSETFROM:-0400
TZOFFSETTO:-0500
TZNAME:EST
DTSTART:20251102T060000
END:STANDARD
BEGIN:DAYLIGHT
TZOFFSETFROM:-0500
TZOFFSETTO:-0400
TZNAME:EDT
DTSTART:20260308T070000
END:DAYLIGHT
BEGIN:STANDARD
TZOFFSETFROM:-0400
TZOFFSETTO:-0500
TZNAME:EST
DTSTART:20261101T060000
END:STANDARD
BEGIN:DAYLIGHT
TZOFFSETFROM:-0500
TZOFFSETTO:-0400
TZNAME:EDT
DTSTART:20270314T070000
END:DAYLIGHT
BEGIN:STANDARD
TZOFFSETFROM:-0400
TZOFFSETTO:-0500
TZNAME:EST
DTSTART:20271107T060000
END:STANDARD
END:VTIMEZONE
BEGIN:VEVENT
DTSTART;TZID=America/New_York:20260420T070000
DTEND;TZID=America/New_York:20260420T193000
DTSTAMP:20260420T014827
CREATED:20260303T194813Z
LAST-MODIFIED:20260330T194537Z
UID:10002390-1776668400-1776713400@www.abcva.org
SUMMARY:Central VA Spring Golf Tournament 4/20 CV
DESCRIPTION:CENTRAL VIRGINIA SPRING GOLF TOURNAMENT\nMonday\, April 20\, 2026  |  7:00AM – 7:30PM  |  Two Tee Times\nJoin ABC Virginia members for a fun day on the green at our annual Spring Golf Tournament! We will be playing 4-man scramble style with a morning shotgun start at 8:00AM and an afternoon tee time of 2:00PM. \nRegistration deadline is April 10\, however\, this tournament always sells out\, so register early! \n**Both tee times are FULL! Please email/call Kristen Altermatt / (804) 346-4222 to be put on waitlist. Sponsorships open until April 10!**\nSPONSORSHIP OPPORTUNITIES – Sponsor Spring Tournament Only/Sponsor Spring & Fall Tournament (September 21)\nHole: $300/$500\nHole w/ Table & 2 Chairs: $400 (Spring only)\nPutting Contest: $300/$500\nLongest Drive Contest: $300/$500\nClosest to the Pin Contest: $300/$500\nSnack: $300/$500\nRefreshment: $600/$900\nCigar: $600/$900\nMorning Bar: $1\,000/$1\,850 (Bloody Marys\, Transfusions\, Screwdrivers)\nAfternoon Reception Sponsor: $1\,000 (Spring only)\nLunch: $1\,200/$1\,950\nScorecard: $1\,200 (Spring only)\nSelect during registration or email Kristen Altermatt to sponsor!\nCommitments needed by 5PM on April 10 \nPlease note: sponsorships are available to ABC-VA members only. Interested in learning more about the benefits of membership? Reach out to Loren Muster! \nSPONSORS – THANK YOU!          \n                                                       \nSCHEDULE\n7:00AM Morning Check-in & Breakfast   /   8:00AM Morning Shotgun **SOLD OUT!!**\n12:00PM – 1:30PM Lunch/Networking for all golfers\n12:00PM Afternoon Check-in & Lunch   /   2:00PM Afternoon Shotgun\n6:00PM – 7:30PM Evening Networking Reception \nLOCATION\nThe Federal Club\n13030 Palmers Way\, Glen Allen\, VA 23059 \nCOST (Members Only Event) **No individual registrations**\nMorning: $1\,280 per Foursome **SOLD OUT!!**\nMorning Shotgun includes morning bar & breakfast sandwich\, networking lunch\, refreshments\, greens fee\, cart fee\, golf gift\, raffle ticket \nAfternoon: $1\,380 per Foursome\nAfternoon Shotgun includes networking lunch\, post-golf networking reception\, refreshments\, greens fee\, cart fee\, golf gift\, raffle ticket \nSUBSTITUTION/CANCELLATION POLICY\nSubstitutions are welcome at any time if the originally registered individual(s) can no longer attend. Cancellations must be made by 5PM on April 10\, 2026. \nQuestions?\nContact Kristen Altermatt
URL:https://www.abcva.org/event/cvspring26/
LOCATION:The Federal Club\, 13030 Palmers Way\, Glen Allen\, 23059
CATEGORIES:Central Virginia
ATTACH;FMTTYPE=image/jpeg:https://www.abcva.org/wp-content/uploads/2026/03/CV-Spring-Golf-2026-main-scaled.jpg
ORGANIZER;CN="Kristen Altermatt":MAILTO:kristen@abcva.org
END:VEVENT
BEGIN:VEVENT
DTSTART;TZID=America/New_York:20260420T180000
DTEND;TZID=America/New_York:20260420T214500
DTSTAMP:20260420T014827
CREATED:20260120T195638Z
LAST-MODIFIED:20260120T195638Z
UID:10002348-1776708000-1776721500@www.abcva.org
SUMMARY:OSHA 5410 – Occupational Safety And Health Standards For The Maritime Industry 4/20 HR
DESCRIPTION:OSHA 5410 – OCCUPATIONAL SAFETY AND HEALTH STANDARDS FOR THE MARITIME INDUSTRY\nREGISTER HERE\nOffered by Mid Atlantic OTI Education Center\, this course will be held at ABC-VA Hampton Roads Training Facility\, Host Training Organization\nApril 20 – 24\, 2026  |  8:00AM – 4:00PM\nThis course covers OSHA policies\, procedures\, and standards for the maritime industry. Using the OSHA Maritime Standards as a guide\, special emphasis is placed on those areas in the maritime industry which are most hazardous.  Upon course completion students will define maritime terms found in the OSHA Maritime Standards\, identify hazards in the maritime industry and determine appropriate controls and abatement\, locate OSHA Maritime Standards\, policies and procedures\, and describe the use of the OSHA Maritime Standards and regulations to supplement an ongoing safety and health program. \n\nStudent Contact Hours:  35 \nPrerequisites: None \nCourse Includes: Student binder\, OSHA CFR Maritime\, lunch and refreshments \n\nLOCATION \nABC-VA Hampton Roads Training Facility\n530 Independence Parkway\, Suite 500\, Chesapeake\, VA 23320\n**Student parking and entrance is in the back of the building.** \nCOST\n$895 \nSCHEDULE\nPlease visit CRSC registration link above
URL:https://www.abcva.org/event/osha-5410-occupational-safety-and-health-standards-for-the-maritime-industry-4-20-hr/
LOCATION:ABC-VA Hampton Roads Training Facility\, Chesapeake\, 530 Independence Parkway\, Suite 500\, Chesapeake\, 23320\, United States
CATEGORIES:Hampton Roads
ORGANIZER;CN="Jamie Carrow":MAILTO:jamie@abcva.org
END:VEVENT
END:VCALENDAR